
BEGIN:VCALENDAR
VERSION:2.0
PRODID:-//West Kootenay Regional Arts Council - ECPv6.15.20//NONSGML v1.0//EN
CALSCALE:GREGORIAN
METHOD:PUBLISH
X-WR-CALNAME:West Kootenay Regional Arts Council
X-ORIGINAL-URL:https://www.wkartscouncil.com
X-WR-CALDESC:Events for West Kootenay Regional Arts Council
REFRESH-INTERVAL;VALUE=DURATION:PT1H
X-Robots-Tag:noindex
X-PUBLISHED-TTL:PT1H
BEGIN:VTIMEZONE
TZID:America/Vancouver
BEGIN:DAYLIGHT
TZOFFSETFROM:-0800
TZOFFSETTO:-0700
TZNAME:PDT
DTSTART:20240310T100000
END:DAYLIGHT
BEGIN:STANDARD
TZOFFSETFROM:-0700
TZOFFSETTO:-0800
TZNAME:PST
DTSTART:20241103T090000
END:STANDARD
BEGIN:DAYLIGHT
TZOFFSETFROM:-0800
TZOFFSETTO:-0700
TZNAME:PDT
DTSTART:20250309T100000
END:DAYLIGHT
BEGIN:STANDARD
TZOFFSETFROM:-0700
TZOFFSETTO:-0800
TZNAME:PST
DTSTART:20251102T090000
END:STANDARD
BEGIN:DAYLIGHT
TZOFFSETFROM:-0800
TZOFFSETTO:-0700
TZNAME:PDT
DTSTART:20260308T100000
END:DAYLIGHT
BEGIN:STANDARD
TZOFFSETFROM:-0700
TZOFFSETTO:-0800
TZNAME:PST
DTSTART:20261101T090000
END:STANDARD
END:VTIMEZONE
BEGIN:VEVENT
DTSTART;TZID=America/Vancouver:20250321T190000
DTEND;TZID=America/Vancouver:20250321T210000
DTSTAMP:20260419T201911
CREATED:20250303T193104Z
LAST-MODIFIED:20250322T001624Z
UID:12653-1742583600-1742590800@www.wkartscouncil.com
SUMMARY:Dark Chapters opening reception
DESCRIPTION:The Dark Chapters project encompasses the renowned career of Métis artist and educator David Garneau\, through the dual lens of exhibition and publication. The book\, Dark Chapters: Reading the Still Lives of David Garneau\, invites 17 Canadian artists and academics to write a response – poetry\, creative writing\, critical essay – to one of Garneau’s vast collection of still life paintings. The exhibition features works from the publication as well as additional pieces chosen by Garneau. Dark Chapters offers myriad ways to investigate how the written word can implicate\, illuminate\, and interpret artworks. \nDark Chapters opens on Friday\, March 21 at 7pm featuring an artist talk with Garneau and essay contributor Fred Wah. This event is free and open to the public. \nDavid Garneau (Métis) is a Professor of Visual Arts at the University of Regina. He is a painter\, curator\, and writer who engages creative and critical expressions of Indigenous contemporary ways of knowing\, being\, and doing. In 2023\, he received the Governor General’s Award in Visual and Media Art: Outstanding Achievement and was inducted into the Royal Society of Canada.
URL:https://www.wkartscouncil.com/event/dark-chapters-opening-reception/
LOCATION:Nelson Museum\, Archives & Gallery\, 502 Vernon Street\, Nelson\, V1L 4E7\, Canada
CATEGORIES:Art,Calendar,Community Events,Exhibition/Speakers
ATTACH;FMTTYPE=image/jpeg:https://genexsites.s3.ca-west-1.amazonaws.com/05/wp-content/uploads/sites/26/2025/03/20175539/dark-chapters-insta-05-sm-TAZHFH.tmp_.jpg
ORGANIZER;CN="Nelson Museum%2C Archives &amp%3B Gallery":MAILTO:info@nelsonmuseum.ca
END:VEVENT
END:VCALENDAR