
BEGIN:VCALENDAR
VERSION:2.0
PRODID:-//West Kootenay Regional Arts Council - ECPv6.15.20//NONSGML v1.0//EN
CALSCALE:GREGORIAN
METHOD:PUBLISH
X-ORIGINAL-URL:https://www.wkartscouncil.com
X-WR-CALDESC:Events for West Kootenay Regional Arts Council
REFRESH-INTERVAL;VALUE=DURATION:PT1H
X-Robots-Tag:noindex
X-PUBLISHED-TTL:PT1H
BEGIN:VTIMEZONE
TZID:America/Vancouver
BEGIN:DAYLIGHT
TZOFFSETFROM:-0800
TZOFFSETTO:-0700
TZNAME:PDT
DTSTART:20240310T100000
END:DAYLIGHT
BEGIN:STANDARD
TZOFFSETFROM:-0700
TZOFFSETTO:-0800
TZNAME:PST
DTSTART:20241103T090000
END:STANDARD
BEGIN:DAYLIGHT
TZOFFSETFROM:-0800
TZOFFSETTO:-0700
TZNAME:PDT
DTSTART:20250309T100000
END:DAYLIGHT
BEGIN:STANDARD
TZOFFSETFROM:-0700
TZOFFSETTO:-0800
TZNAME:PST
DTSTART:20251102T090000
END:STANDARD
BEGIN:DAYLIGHT
TZOFFSETFROM:-0800
TZOFFSETTO:-0700
TZNAME:PDT
DTSTART:20260308T100000
END:DAYLIGHT
BEGIN:STANDARD
TZOFFSETFROM:-0700
TZOFFSETTO:-0800
TZNAME:PST
DTSTART:20261101T090000
END:STANDARD
END:VTIMEZONE
BEGIN:VEVENT
DTSTART;TZID=America/Vancouver:20250220T130000
DTEND;TZID=America/Vancouver:20250220T170000
DTSTAMP:20260419T221212
CREATED:20250218T190329Z
LAST-MODIFIED:20250221T004619Z
UID:11997-1740056400-1740070800@www.wkartscouncil.com
SUMMARY:Still Life workshop with Amelia Ford
DESCRIPTION:Amelia Ford facilitates this 2-part workshop on still life painting techniques. Bring your own objects to paint or use the items on hand. Pre-registration is required and is $50+GST for non-members and $40+GST for Museum members\, all painting materials are provided. Space is limited so register early! Register here. \nBorn and raised in Nelson\, Ford graduated from LV Rogers Secondary in 2018 and completed her Bachelor of fine Arts at the University of British Columbia Okanagan in 2022. She has participated in exhibitions throughout the Southern Interior as well as in New York\, where she currently lives and works\, and is pursuing her Master of Fine Arts degree.Read more about Amelia’s exhibition Vessels (Feb 15-May 24\, 2025) here.
URL:https://www.wkartscouncil.com/event/still-life-workshop-with-amelia-ford/
LOCATION:Nelson Museum\, Archives & Gallery\, 502 Vernon Street\, Nelson\, V1L 4E7\, Canada
CATEGORIES:Calendar,Community Events
ATTACH;FMTTYPE=image/jpeg:https://genexsites.s3.ca-west-1.amazonaws.com/05/wp-content/uploads/sites/26/2025/02/20175652/still-life-insta-copy-sm-El5H0t.tmp_.jpg
ORGANIZER;CN="Nelson Museum%2C Archives &amp%3B Gallery":MAILTO:info@nelsonmuseum.ca
END:VEVENT
END:VCALENDAR