
BEGIN:VCALENDAR
VERSION:2.0
PRODID:-//West Kootenay Regional Arts Council - ECPv6.15.20//NONSGML v1.0//EN
CALSCALE:GREGORIAN
METHOD:PUBLISH
X-WR-CALNAME:West Kootenay Regional Arts Council
X-ORIGINAL-URL:https://www.wkartscouncil.com
X-WR-CALDESC:Events for West Kootenay Regional Arts Council
REFRESH-INTERVAL;VALUE=DURATION:PT1H
X-Robots-Tag:noindex
X-PUBLISHED-TTL:PT1H
BEGIN:VTIMEZONE
TZID:America/Vancouver
BEGIN:DAYLIGHT
TZOFFSETFROM:-0800
TZOFFSETTO:-0700
TZNAME:PDT
DTSTART:20240310T100000
END:DAYLIGHT
BEGIN:STANDARD
TZOFFSETFROM:-0700
TZOFFSETTO:-0800
TZNAME:PST
DTSTART:20241103T090000
END:STANDARD
BEGIN:DAYLIGHT
TZOFFSETFROM:-0800
TZOFFSETTO:-0700
TZNAME:PDT
DTSTART:20250309T100000
END:DAYLIGHT
BEGIN:STANDARD
TZOFFSETFROM:-0700
TZOFFSETTO:-0800
TZNAME:PST
DTSTART:20251102T090000
END:STANDARD
BEGIN:DAYLIGHT
TZOFFSETFROM:-0800
TZOFFSETTO:-0700
TZNAME:PDT
DTSTART:20260308T100000
END:DAYLIGHT
BEGIN:STANDARD
TZOFFSETFROM:-0700
TZOFFSETTO:-0800
TZNAME:PST
DTSTART:20261101T090000
END:STANDARD
END:VTIMEZONE
BEGIN:VEVENT
DTSTART;TZID=America/Vancouver:20250621T190000
DTEND;TZID=America/Vancouver:20250621T210000
DTSTAMP:20260425T055827
CREATED:20250604T184612Z
LAST-MODIFIED:20250621T230326Z
UID:16300-1750532400-1750539600@www.wkartscouncil.com
SUMMARY:Dark Chapters closing event with David Garneau
DESCRIPTION:David Garneau returns to the Nelson Museum with guests Susan Musgrave\, Paul Seesequasis\, and Fred Wah\, for an artist talk and reading event\, featuring excerpts from the Dark Chapters publication and amongst the artworks in Gallery A. This event is free and open to the public. \nRocks and books\, bones and shadows—studied in isolation\, interpreted by 17 leading artists\, poets\, essayists\, and academics from across the country—come together in Dark Chapters\, a striking project by Métis artist David Garneau. Presented as both a touring exhibition and a publication\, Dark Chapters explores the tension and balance between everyday objects and powerful cultural symbols. \nDavid Garneau (Métis) is a Professor of Visual Arts at the University of Regina. He is a painter\, curator\, and writer who engages creative and critical expressions of Indigenous contemporary ways of knowing\, being\, and doing. In 2023\, he received the Governor General’s Award in Visual and Media Art: Outstanding Achievement and was inducted into the Royal Society of Canada. \n 
URL:https://www.wkartscouncil.com/event/dark-chapters-closing-event-with-david-garneau/
LOCATION:Nelson Museum\, Archives & Gallery\, 502 Vernon Street\, Nelson\, V1L 4E7\, Canada
CATEGORIES:Art,Calendar,Community Events,Exhibition/Speakers
ATTACH;FMTTYPE=image/jpeg:https://genexsites.s3.ca-west-1.amazonaws.com/05/wp-content/uploads/sites/26/2025/06/20174551/DarkChapters_NMAG_LouisBockner-56-qpb1XU.jpg
ORGANIZER;CN="Nelson Museum%2C Archives &amp%3B Gallery":MAILTO:info@nelsonmuseum.ca
END:VEVENT
END:VCALENDAR