
BEGIN:VCALENDAR
VERSION:2.0
PRODID:-//West Kootenay Regional Arts Council - ECPv6.15.20//NONSGML v1.0//EN
CALSCALE:GREGORIAN
METHOD:PUBLISH
X-WR-CALNAME:West Kootenay Regional Arts Council
X-ORIGINAL-URL:https://www.wkartscouncil.com
X-WR-CALDESC:Events for West Kootenay Regional Arts Council
REFRESH-INTERVAL;VALUE=DURATION:PT1H
X-Robots-Tag:noindex
X-PUBLISHED-TTL:PT1H
BEGIN:VTIMEZONE
TZID:America/Vancouver
BEGIN:DAYLIGHT
TZOFFSETFROM:-0800
TZOFFSETTO:-0700
TZNAME:PDT
DTSTART:20240310T100000
END:DAYLIGHT
BEGIN:STANDARD
TZOFFSETFROM:-0700
TZOFFSETTO:-0800
TZNAME:PST
DTSTART:20241103T090000
END:STANDARD
BEGIN:DAYLIGHT
TZOFFSETFROM:-0800
TZOFFSETTO:-0700
TZNAME:PDT
DTSTART:20250309T100000
END:DAYLIGHT
BEGIN:STANDARD
TZOFFSETFROM:-0700
TZOFFSETTO:-0800
TZNAME:PST
DTSTART:20251102T090000
END:STANDARD
BEGIN:DAYLIGHT
TZOFFSETFROM:-0800
TZOFFSETTO:-0700
TZNAME:PDT
DTSTART:20260308T100000
END:DAYLIGHT
BEGIN:STANDARD
TZOFFSETFROM:-0700
TZOFFSETTO:-0800
TZNAME:PST
DTSTART:20261101T090000
END:STANDARD
END:VTIMEZONE
BEGIN:VEVENT
DTSTART;TZID=America/Vancouver:20250531T190000
DTEND;TZID=America/Vancouver:20250531T210000
DTSTAMP:20260425T073511
CREATED:20250516T174742Z
LAST-MODIFIED:20250531T234829Z
UID:15203-1748718000-1748725200@www.wkartscouncil.com
SUMMARY:Abby Wilson Book Launch
DESCRIPTION:Author and artist Abby Wilson\, who runs the popular website West Kootenay Hiking\, has just published a brand new hiking book for the area. She’ll launch the guidebook West Kootenay Hiking on Saturday\, May 31 at 7:30pm in a multimedia presentation at the Nelson Pubic Library. The book features 77 of the best hiking trails in the West Kootenay region of southeast British Columbia and features clear layouts\, detailed topographic maps\, and elevation profiles. The launch event will include breathtaking slides showing some of the trails as well as some background about Wilson’s journey from blog to book. There will be plenty of time for questions\, and Otter Books will be on hand with copies for sale.
URL:https://www.wkartscouncil.com/event/abby-wilson-book-launch/
LOCATION:Nelson Public Library\, 602 Stanley St\, Nelson\, British Columbia\, V1L 1N4\, Canada
CATEGORIES:Calendar,Exhibition/Speakers
ATTACH;FMTTYPE=image/jpeg:https://genexsites.s3.ca-west-1.amazonaws.com/05/wp-content/uploads/sites/26/2025/05/20175259/Abby-Wilson-LOW-RES-photo.jpg-ptNnXI.jpg
END:VEVENT
END:VCALENDAR