
BEGIN:VCALENDAR
VERSION:2.0
PRODID:-//West Kootenay Regional Arts Council - ECPv6.15.20//NONSGML v1.0//EN
CALSCALE:GREGORIAN
METHOD:PUBLISH
X-WR-CALNAME:West Kootenay Regional Arts Council
X-ORIGINAL-URL:https://www.wkartscouncil.com
X-WR-CALDESC:Events for West Kootenay Regional Arts Council
REFRESH-INTERVAL;VALUE=DURATION:PT1H
X-Robots-Tag:noindex
X-PUBLISHED-TTL:PT1H
BEGIN:VTIMEZONE
TZID:America/Vancouver
BEGIN:DAYLIGHT
TZOFFSETFROM:-0800
TZOFFSETTO:-0700
TZNAME:PDT
DTSTART:20240310T100000
END:DAYLIGHT
BEGIN:STANDARD
TZOFFSETFROM:-0700
TZOFFSETTO:-0800
TZNAME:PST
DTSTART:20241103T090000
END:STANDARD
BEGIN:DAYLIGHT
TZOFFSETFROM:-0800
TZOFFSETTO:-0700
TZNAME:PDT
DTSTART:20250309T100000
END:DAYLIGHT
BEGIN:STANDARD
TZOFFSETFROM:-0700
TZOFFSETTO:-0800
TZNAME:PST
DTSTART:20251102T090000
END:STANDARD
BEGIN:DAYLIGHT
TZOFFSETFROM:-0800
TZOFFSETTO:-0700
TZNAME:PDT
DTSTART:20260308T100000
END:DAYLIGHT
BEGIN:STANDARD
TZOFFSETFROM:-0700
TZOFFSETTO:-0800
TZNAME:PST
DTSTART:20261101T090000
END:STANDARD
END:VTIMEZONE
BEGIN:VEVENT
DTSTART;TZID=America/Vancouver:20250125T190000
DTEND;TZID=America/Vancouver:20250125T210000
DTSTAMP:20260425T040010
CREATED:20250110T204934Z
LAST-MODIFIED:20250111T220237Z
UID:11548-1737831600-1737838800@www.wkartscouncil.com
SUMMARY:Up Close and Intimate: Randy from Creston in REDNECK WIZDOMZ
DESCRIPTION:The first of The Vallican Whole’s UP CLOSE and INTIMATE 2025 Performance Series\, it’s: \nRANDY FROM CRESTON! \nIn \nREDNECK WISDOMZ \nWritten and performed by Lucas Myers. \nLucas Myers returns with his lovable rural opinionator\, Randy from Creston! Randy will be addressing the divisiveness or our current social situation and sharing his own very particular version of “radical redneck wellfullness”\, a process which will include many tangents\, a few tunes\, and maybe a guest appearance. Oh and laughs. Lots of laughs. Buckle up\, buttercup! \nTickets are $25.  You can reserve by email at info (at) vallicanwhole.com.  They’ll also be available at the door.  The show is approximately an hour\, with one intermission.  Cash bar and a new exhibit in our Basement Gallery to enjoy!
URL:https://www.wkartscouncil.com/event/up-close-and-intimate-randy-from-creston-in-redneck-wizdomz/
LOCATION:Vallican Whole Community Centre\, 3762 Little Slocan South Road\, Vallican\, British Columbia\, V0G2J0\, Canada
CATEGORIES:Calendar,Community Events,Live Performance
ATTACH;FMTTYPE=image/jpeg:https://genexsites.s3.ca-west-1.amazonaws.com/05/wp-content/uploads/sites/26/2025/01/20175721/RandyUke-I0P5Yr.tmp_.jpg
ORGANIZER;CN="Vallican Whole Community Centre":MAILTO:info@vallicanwhole.com
END:VEVENT
END:VCALENDAR