
BEGIN:VCALENDAR
VERSION:2.0
PRODID:-//West Kootenay Regional Arts Council - ECPv6.15.20//NONSGML v1.0//EN
CALSCALE:GREGORIAN
METHOD:PUBLISH
X-WR-CALNAME:West Kootenay Regional Arts Council
X-ORIGINAL-URL:https://www.wkartscouncil.com
X-WR-CALDESC:Events for West Kootenay Regional Arts Council
REFRESH-INTERVAL;VALUE=DURATION:PT1H
X-Robots-Tag:noindex
X-PUBLISHED-TTL:PT1H
BEGIN:VTIMEZONE
TZID:America/Vancouver
BEGIN:DAYLIGHT
TZOFFSETFROM:-0800
TZOFFSETTO:-0700
TZNAME:PDT
DTSTART:20240310T100000
END:DAYLIGHT
BEGIN:STANDARD
TZOFFSETFROM:-0700
TZOFFSETTO:-0800
TZNAME:PST
DTSTART:20241103T090000
END:STANDARD
BEGIN:DAYLIGHT
TZOFFSETFROM:-0800
TZOFFSETTO:-0700
TZNAME:PDT
DTSTART:20250309T100000
END:DAYLIGHT
BEGIN:STANDARD
TZOFFSETFROM:-0700
TZOFFSETTO:-0800
TZNAME:PST
DTSTART:20251102T090000
END:STANDARD
BEGIN:DAYLIGHT
TZOFFSETFROM:-0800
TZOFFSETTO:-0700
TZNAME:PDT
DTSTART:20260308T100000
END:DAYLIGHT
BEGIN:STANDARD
TZOFFSETFROM:-0700
TZOFFSETTO:-0800
TZNAME:PST
DTSTART:20261101T090000
END:STANDARD
END:VTIMEZONE
BEGIN:VEVENT
DTSTART;TZID=America/Vancouver:20250510T193000
DTEND;TZID=America/Vancouver:20250510T210000
DTSTAMP:20260424T063144
CREATED:20250407T183626Z
LAST-MODIFIED:20250423T201522Z
UID:13785-1746905400-1746910800@www.wkartscouncil.com
SUMMARY:“HYPROV: Improv Under Hypnosis” starring Colin Mochrie (of Whose Line Is It Anyway?) and Asad Mecci (World Renowned Hypnotist)
DESCRIPTION:The City of Trail and Trail Arts Council co-present Silver City Day’s “HYPROV: Improv Under Hypnosis” starring Colin Mochrie (of Whose Line Is It Anyway?) and Asad Mecci (World Renowned Hypnotist).\n\nHYPROV (pronounced hip-rawv) is coming to Trail after 100 cities toured\, a 70-show run Off Broadway in New York City and a six month residency in Las Vegas!!\n\nHYPROV is “hilarious and fascinating” (says Time Out New York) and is “catnip for those who relish spontaneity and informality\,” (The Wall Street Journal). The New Yorker says\, “say yes to HYPROV\,”!\n\nThe 90-minute live show combines hypnosis and improv – two art forms that have mystified and entertained fans\, skeptics and everyone in between worldwide – for a totally unique comedy experience that The Times of London declared “a celebration of the human imagination.” Your evening begins with World Renowned Hypnotist\, Asad Mecci welcoming 20 volunteers* on stage to be hypnotized.\n\nThe most receptive to hypnosis then join Colin Mochrie (Whose Line is it\, Anyway?) to improvise the rest of the show\, while hypnotized. In the hands of two experts\, and solely crafted from the volunteers’ uninhibited\, unconscious minds and audience suggestions\, each show is an entirely original and completely unforgettable theatrical experience. Whether in the audience or on stage performing\, get ready to have the time of your life!!\n\nThe most interactive comedy show in the world!\n\n“Hilarious and Fascinating” – Time out New York\n\nMore about the show at https://hyprov.com/\n\nLicensed Event.\n\nTICKETS: ALL AGES $50. Community Access Card $25 (limited # available)\n\nReserved Seating. Length of show: 90mins\n\n*Participation is completely voluntary\n**Disclaimer*** all ages welcome but we cannot control the language of what comes out the mouths of people under hypnosis.\n*** The show will be over in time to watch the SCD fireworks.\n\nWheelchair seating is available but can only be purchased through the box office 250-368-9669.
URL:https://www.wkartscouncil.com/event/hyprov-improv-under-hypnosis-starring-colin-mochrie-of-whose-line-is-it-anyway-and-asad-mecci-world-renowned-hypnotist/
LOCATION:Bailey Theatre\, 1501 Cedar Ave.\, Trail\, BC
CATEGORIES:Calendar,Comedy,Live Performance
ATTACH;FMTTYPE=image/jpeg:https://genexsites.s3.ca-west-1.amazonaws.com/05/wp-content/uploads/sites/26/2025/04/20175402/hyprov-tm-secondary-zdhp99.tmp_.jpg
ORGANIZER;CN="Trail &#038%3B District Arts Council":MAILTO:info@trail-arts.com
END:VEVENT
BEGIN:VEVENT
DTSTART;TZID=America/Vancouver:20250513T193000
DTEND;TZID=America/Vancouver:20250513T213000
DTSTAMP:20260424T063144
CREATED:20250218T191447Z
LAST-MODIFIED:20250514T000108Z
UID:12097-1747164600-1747171800@www.wkartscouncil.com
SUMMARY:ELVIS: The Vegas Years
DESCRIPTION:Get ready to be all shook up! “ELVIS: The Vegas Years” is a spectacular musical journey that celebrates the unforgettable Vegas era of the King of Rock ‘n’ Roll\, Elvis Presley. Featuring a stunning array of costumes\, dazzling choreography\, and\, of course\, the legendary music that made Elvis a household name\, this show promises an experience you won’t want to miss. \n  \nYou will experience: \n– Hit Songs Galore: Enjoy live performances of Elvis classics like “Suspicious Minds”\, “Can’t Help Falling In Love”\, “In The Ghetto”\, and many many more! \n– Stunning Visuals: Our stage transforms into a vibrant replica of 1970s Las Vegas\, complete with state-of-the-art lighting and video technology. \n– World-Class Talent: Starring Multi-award-winning Elvis Tribute Artist Jaedyn Pilon\, backed by Canada’s Top Elvis Tribute Band\, The Flashback Band \n– Immersive Experience: The show includes a unique mix of narrative and concert\, bringing the excitement of Elvis’s performances and personal anecdotes to life. \n  \n“Elvis: The Vegas Years” isn’t just a concert; it’s a journey through the heart of musical innovation and personal evolution.
URL:https://www.wkartscouncil.com/event/elvis-the-vegas-years/
LOCATION:Charles Bailey Theatre\, 1501 Cedar Ave\, Trail\, British Columbia\, V1R 4C7\, Canada
CATEGORIES:Calendar,Community Events,Live Performance
ATTACH;FMTTYPE=image/jpeg:https://genexsites.s3.ca-west-1.amazonaws.com/05/wp-content/uploads/sites/26/2025/04/20175349/elvis-scaled-y6SGw1.jpg
END:VEVENT
BEGIN:VEVENT
DTSTART;TZID=America/Vancouver:20250528T190000
DTEND;TZID=America/Vancouver:20250528T220000
DTSTAMP:20260424T063144
CREATED:20250516T174743Z
LAST-MODIFIED:20250529T004615Z
UID:15200-1748458800-1748469600@www.wkartscouncil.com
SUMMARY:Ok Dope! Stand-up Comedy Show @ Backroads Brewing
DESCRIPTION: BACK TO BACK SHOWS! OK\, DOPE is proud to present BRITTANY LYSENG (The Debaters\, CBC\, JFL\, Roast Battle Canada) Live at Backroads Brewing Co! Featuring Erin Woods and Hosted by Nash Park! Brittany Lyseng is a nationally touring stand-up comedian\, writer\, and podcaster. She has appeared on CTV’s Roast Battles Canada\, CBC’s New Wave of Stand-Up Comedy\, Kevin Hart’s LOL Network\, CTV’s The Stand-Up Show with Jon Dore\, and guest appearances on CBC Radio’s The Debaters.  Most recently\, she was featured in Reader’s Digest magazine and received a nomination at the 2022 Canadian Screen Awards.
URL:https://www.wkartscouncil.com/event/ok-dope-stand-up-comedy-show-backroads-brewing-3/
LOCATION:Backroads Brewing\, 460 Baker St\, Nelson\, BC\, V1L4H8\, Canada
CATEGORIES:Calendar
ATTACH;FMTTYPE=image/jpeg:https://genexsites.s3.ca-west-1.amazonaws.com/05/wp-content/uploads/sites/26/2025/05/20175300/OKDopeMayKCR-ejIp7C.jpg
END:VEVENT
BEGIN:VEVENT
DTSTART;TZID=America/Vancouver:20250529T190000
DTEND;TZID=America/Vancouver:20250529T220000
DTSTAMP:20260424T063144
CREATED:20250516T174742Z
LAST-MODIFIED:20250529T233320Z
UID:15202-1748545200-1748556000@www.wkartscouncil.com
SUMMARY:Ok Dope! Stand-up Comedy Show @ Backroads Brewing
DESCRIPTION: BACK TO BACK SHOWS! OK\, DOPE is proud to present BRITTANY LYSENG (The Debaters\, CBC\, JFL\, Roast Battle Canada) Live at Backroads Brewing Co! Featuring Erin Woods and Hosted by Nash Park! Brittany Lyseng is a nationally touring stand-up comedian\, writer\, and podcaster. She has appeared on CTV’s Roast Battles Canada\, CBC’s New Wave of Stand-Up Comedy\, Kevin Hart’s LOL Network\, CTV’s The Stand-Up Show with Jon Dore\, and guest appearances on CBC Radio’s The Debaters.  Most recently\, she was featured in Reader’s Digest magazine and received a nomination at the 2022 Canadian Screen Awards.
URL:https://www.wkartscouncil.com/event/ok-dope-stand-up-comedy-show-backroads-brewing-2/
LOCATION:Backroads Brewing\, 460 Baker St\, Nelson\, BC\, V1L4H8\, Canada
CATEGORIES:Calendar
ATTACH;FMTTYPE=image/jpeg:https://genexsites.s3.ca-west-1.amazonaws.com/05/wp-content/uploads/sites/26/2025/05/20175300/OKDopeMayKCR-ejIp7C.jpg
END:VEVENT
END:VCALENDAR