
BEGIN:VCALENDAR
VERSION:2.0
PRODID:-//West Kootenay Regional Arts Council - ECPv6.15.20//NONSGML v1.0//EN
CALSCALE:GREGORIAN
METHOD:PUBLISH
X-WR-CALNAME:West Kootenay Regional Arts Council
X-ORIGINAL-URL:https://www.wkartscouncil.com
X-WR-CALDESC:Events for West Kootenay Regional Arts Council
REFRESH-INTERVAL;VALUE=DURATION:PT1H
X-Robots-Tag:noindex
X-PUBLISHED-TTL:PT1H
BEGIN:VTIMEZONE
TZID:America/Vancouver
BEGIN:DAYLIGHT
TZOFFSETFROM:-0800
TZOFFSETTO:-0700
TZNAME:PDT
DTSTART:20240310T100000
END:DAYLIGHT
BEGIN:STANDARD
TZOFFSETFROM:-0700
TZOFFSETTO:-0800
TZNAME:PST
DTSTART:20241103T090000
END:STANDARD
BEGIN:DAYLIGHT
TZOFFSETFROM:-0800
TZOFFSETTO:-0700
TZNAME:PDT
DTSTART:20250309T100000
END:DAYLIGHT
BEGIN:STANDARD
TZOFFSETFROM:-0700
TZOFFSETTO:-0800
TZNAME:PST
DTSTART:20251102T090000
END:STANDARD
BEGIN:DAYLIGHT
TZOFFSETFROM:-0800
TZOFFSETTO:-0700
TZNAME:PDT
DTSTART:20260308T100000
END:DAYLIGHT
BEGIN:STANDARD
TZOFFSETFROM:-0700
TZOFFSETTO:-0800
TZNAME:PST
DTSTART:20261101T090000
END:STANDARD
END:VTIMEZONE
BEGIN:VEVENT
DTSTART;TZID=America/Vancouver:20250319T193000
DTEND;TZID=America/Vancouver:20250319T213000
DTSTAMP:20260419T221003
CREATED:20250303T193104Z
LAST-MODIFIED:20250320T003117Z
UID:12650-1742412600-1742419800@www.wkartscouncil.com
SUMMARY:Stephen Fearing & The Sentimentals
DESCRIPTION:Stephen Fearing & The Sentimentals Revered Canadian songwriter Stephen Fearing and the award-winning Scandinavian indie-folk band The Sentimentals share a mutual passion for crafting evocative melodies and refined musical interplay that leave audiences cheering. Combining their shared admiration for classic Tin Pan Alley songwriting and storytelling with richly textured soundscapes\, they have forged a singular musical voice that is authentic and refreshingly inventive. Since joining forces in 2018\, Stephen Fearing & The Sentimentals have lit up stages across Europe and Canada\, delivering performances defined by an unforgettable blend of masterful songwriting and intricate musicianship. This collaboration is beautifully captured on Fearing’s 2022 album Vejpoesi (road poems)\, where The Sentimentals’ instrumentation deepens the emotional resonance of Fearing’s lyrics and melodies. Recorded in just three days at Maskinhallen\, a theater in Frederikshavn\, Denmark\, these sessions reveal The Sentimentals’ extraordinary ability to reimagine and elevate Fearing’s seasoned material. Together\, Stephen Fearing & The Sentimentals have created a rich musical expression focussed on artistic exploration. Their partnership seamlessly weaves traditional roots influences with subtle experimentation\, resulting in performances and recordings that are both emotionally stirring and artistically groundbreaking. \nAdvance Tickets $40\nAt the Door $45
URL:https://www.wkartscouncil.com/event/stephen-fearing-the-sentimentals/
LOCATION:The Capitol Theatre\, 421 Victoria Street\, Nelson\, British Columbia\, V1L 5R2\, Canada
CATEGORIES:Calendar,Live Performance
ATTACH;FMTTYPE=image/jpeg:https://genexsites.s3.ca-west-1.amazonaws.com/05/wp-content/uploads/sites/26/2025/03/20175539/stephen-e1741023491908-Q21cPV.tmp_.jpg
END:VEVENT
BEGIN:VEVENT
DTSTART;TZID=America/Vancouver:20250329T133000
DTEND;TZID=America/Vancouver:20250329T200000
DTSTAMP:20260419T221003
CREATED:20250310T164627Z
LAST-MODIFIED:20250330T001615Z
UID:12743-1743255000-1743278400@www.wkartscouncil.com
SUMMARY:Revival *Album Release Event* Art Show & Live-Performance
DESCRIPTION:*Album Release Day* \nSaturday March 29th\nDoors Open 1:30pm\nArtist Talk/Show 2:00pm – 3:30pm\nLive-Music Performance 5:00 – 7:00pm\nDoor Price $10-15\n*Food and Tea/Coffee Available for purchase \nThe project known as ‘Revival’ is a creative outpouring by folk artist Ru Rose. Revival showcases a deeply sincere full length conceptual debut album of 12 original sacred folk songs recorded Live-Off-The-Forest-Floor in the mountains of the unceded and ancestral territories of the Sinixt and Ktunaxa nations\, also known as the Kootenays of British Columbia. Interwoven with the songs of the album is a series of 12 intricate paintings created with hand-made inks\, dyes and paints. \nWith deep gratitude for the support of Creative BC and the Province of British Columbia in making this creation possible\, and for the Columbia Basin Trust and the Columbia Kootenay Cultural Alliance for supporting this Album release community event. \n.\n. \nOriginal Songs / Concept / Production / Vocals / Acoustic Guitar / Shruti Box / Native Drum / Painting by Ru Rose Cabodyna\nSound Engineer / Bass / Percussion / Support Vocals / Banjo by Kai Cabodyna\nPercussion (Kins Domain/Sowing Seeds) / Support Vocals (Kins Domain) by Indiana Cabodyna\nViolin by Shawn Fisher\nLead Guitar (Sowing Seeds) by Amir Derakhashan\nSupport Vocals (the Womb) by Vanessa Deverell\nSound Engineering / Mix by Barry Jones of Sincerity Studios Mastering by Tyrell Jordan of Arrow Lake Recordings \nwww.rurose.earth/shows
URL:https://www.wkartscouncil.com/event/revival-album-release-event-art-show-live-performance/
LOCATION:Vallican Whole Community Centre\, 3762 Little Slocan South Road\, Vallican\, British Columbia\, V0G2J0\, Canada
CATEGORIES:Art,Calendar,Community Events,Live Performance
ATTACH;FMTTYPE=image/jpeg:https://genexsites.s3.ca-west-1.amazonaws.com/05/wp-content/uploads/sites/26/2025/03/20175528/Ru-Rose-Event-Poster-11x17-1-mVwPV1.tmp_.jpg
ORGANIZER;CN="Ru Rose":MAILTO:connect@rurose.earth
END:VEVENT
END:VCALENDAR