
BEGIN:VCALENDAR
VERSION:2.0
PRODID:-//West Kootenay Regional Arts Council - ECPv6.15.20//NONSGML v1.0//EN
CALSCALE:GREGORIAN
METHOD:PUBLISH
X-WR-CALNAME:West Kootenay Regional Arts Council
X-ORIGINAL-URL:https://www.wkartscouncil.com
X-WR-CALDESC:Events for West Kootenay Regional Arts Council
REFRESH-INTERVAL;VALUE=DURATION:PT1H
X-Robots-Tag:noindex
X-PUBLISHED-TTL:PT1H
BEGIN:VTIMEZONE
TZID:America/Vancouver
BEGIN:DAYLIGHT
TZOFFSETFROM:-0800
TZOFFSETTO:-0700
TZNAME:PDT
DTSTART:20230312T100000
END:DAYLIGHT
BEGIN:STANDARD
TZOFFSETFROM:-0700
TZOFFSETTO:-0800
TZNAME:PST
DTSTART:20231105T090000
END:STANDARD
BEGIN:DAYLIGHT
TZOFFSETFROM:-0800
TZOFFSETTO:-0700
TZNAME:PDT
DTSTART:20240310T100000
END:DAYLIGHT
BEGIN:STANDARD
TZOFFSETFROM:-0700
TZOFFSETTO:-0800
TZNAME:PST
DTSTART:20241103T090000
END:STANDARD
BEGIN:DAYLIGHT
TZOFFSETFROM:-0800
TZOFFSETTO:-0700
TZNAME:PDT
DTSTART:20250309T100000
END:DAYLIGHT
BEGIN:STANDARD
TZOFFSETFROM:-0700
TZOFFSETTO:-0800
TZNAME:PST
DTSTART:20251102T090000
END:STANDARD
END:VTIMEZONE
BEGIN:VEVENT
DTSTART;TZID=America/Vancouver:20241124T140000
DTEND;TZID=America/Vancouver:20241124T160000
DTSTAMP:20260422T155341
CREATED:20241108T020115Z
LAST-MODIFIED:20241124T163215Z
UID:10622-1732456800-1732464000@www.wkartscouncil.com
SUMMARY:Book Launch and (optional) Illustrating Workshop
DESCRIPTION:New Denver artist and Kokanee Glacier hut keeper Petra Hekkenberg presents her new book Further in the Alpine – the second illustrated journal of Kokanee Park\, with stories\, visuals\, a short film\, Q&A\, book signing and an optional 1hr illustrating workshop at the end. The book presentation is by donation and supports the Slocan Lake Arts Council and the artist. The optional illustrating workshop has a small fee\, scroll down to read more!  \nAbout the book \nPetra shared her deep love for mountains in her first illustrated journal\, In the Alpine (2022)\, recording daily observations while working as a park operator at Kokanee Glacier Provincial Park. No two seasons are the same\, of course: Further in the Alpine is a continuation of this backcountry hut-keeper’s impressions as she engages with the park’s wild residents\, its visitors\, and her own human vulnerability through words and drawings that offer an intimate glimpse of life in the Alpine. \nShort Film “In your Mind’s Eye”  \nIn 2022 Petra created this 20 minute short film with the subtitle Moods of Kokanee Glacier Provincial Park and it won the first price at the North Valley Mountain Film Festival! Come enjoy this film on a big screen during her book launch. The film was co-created with Whitney Taylor (film) and Sam Harrisson (soundscape & audio) \nIllustrating Workshop for all ages (optional) \nFor those interested\, Petra offers a 1 hr illustrating workshop following her book presentation. Suitable for both adults and children. In this workshop\, Petra will show you some of the techniques and tricks to making pen illustrations! You could make your own Holiday card for example\, or draw a landscape or your favorite pet. All materials are provided. The workshop starts at 3PM and costs $20 for adults and $10 for children up to 16yrs old. Sign up with this registration form. Maximum 12 participants. \nFurther in the Alpine was self-published\, and this event held\, with the support of an Columbia Kootenay Cultural Alliance (CKCA) grant of the West Kootenay Regional Arts Council and with support of the Slocan Lake Arts Council. \nSee more of Petra’s work here: \nInstagram @petrahekkenberg\nFacebook @petrahekkenberg\npetrahekkenberg.com
URL:https://www.wkartscouncil.com/event/book-launch-and-optional-illustrating-workshop/
LOCATION:Slocan Lake Arts Centre\, 408 Lake Avenue\, Silverton\, BC\, V0G 1S0
CATEGORIES:Calendar,Exhibition/Speakers,Film,Workshops
ATTACH;FMTTYPE=image/jpeg:https://genexsites.s3.ca-west-1.amazonaws.com/05/wp-content/uploads/sites/26/2024/11/20175948/Poster-Book-Readings-2024_letter_small-MFlA1s.tmp_.jpg
ORGANIZER;CN="Slocan Lake Arts Council":MAILTO:slocanlakeartscouncil@gmail.com
END:VEVENT
END:VCALENDAR