
BEGIN:VCALENDAR
VERSION:2.0
PRODID:-//West Kootenay Regional Arts Council - ECPv6.15.20//NONSGML v1.0//EN
CALSCALE:GREGORIAN
METHOD:PUBLISH
X-WR-CALNAME:West Kootenay Regional Arts Council
X-ORIGINAL-URL:https://www.wkartscouncil.com
X-WR-CALDESC:Events for West Kootenay Regional Arts Council
REFRESH-INTERVAL;VALUE=DURATION:PT1H
X-Robots-Tag:noindex
X-PUBLISHED-TTL:PT1H
BEGIN:VTIMEZONE
TZID:America/Vancouver
BEGIN:DAYLIGHT
TZOFFSETFROM:-0800
TZOFFSETTO:-0700
TZNAME:PDT
DTSTART:20250309T100000
END:DAYLIGHT
BEGIN:STANDARD
TZOFFSETFROM:-0700
TZOFFSETTO:-0800
TZNAME:PST
DTSTART:20251102T090000
END:STANDARD
BEGIN:DAYLIGHT
TZOFFSETFROM:-0800
TZOFFSETTO:-0700
TZNAME:PDT
DTSTART:20260308T100000
END:DAYLIGHT
BEGIN:STANDARD
TZOFFSETFROM:-0700
TZOFFSETTO:-0800
TZNAME:PST
DTSTART:20261101T090000
END:STANDARD
BEGIN:DAYLIGHT
TZOFFSETFROM:-0800
TZOFFSETTO:-0700
TZNAME:PDT
DTSTART:20270314T100000
END:DAYLIGHT
BEGIN:STANDARD
TZOFFSETFROM:-0700
TZOFFSETTO:-0800
TZNAME:PST
DTSTART:20271107T090000
END:STANDARD
END:VTIMEZONE
BEGIN:VEVENT
DTSTART;TZID=America/Vancouver:20260423T133000
DTEND;TZID=America/Vancouver:20260816T160000
DTSTAMP:20260420T152338
CREATED:20260414T045249Z
LAST-MODIFIED:20260414T045249Z
UID:27016-1776951000-1786896000@www.wkartscouncil.com
SUMMARY:Invermere - FAVOURITE PLACES "Paint With Me"
DESCRIPTION:How would like to paint a scene from one of your favorite artists? \nVan Gogh\, Group Of Seven\, Min Ma\, Bobbie Burgers\, Cameron Bird … \nYou can … if you paint with me! Ages 6-96 \n– LOCATION: The ArtHus – 4951 Timberview Place\, Invermere\, B.C.\n– Paint Sessions are appr. 2 hours in length – varies with age\n– All materials are supplied\, including an 11”x14” canvas \n– 1 student = $100 2 students = $85 3 students = $75\n– Private repeat sessions = $85 each \nCONTACT – nancy@eton-west.com\nwww.favoriteplacesbynancysorensen.com\n780-995-3458
URL:https://www.wkartscouncil.com/event/nancy-paint-with-me/
LOCATION:The ArtHus\, 4951 Timberview Place\, Invermere\, British Columbia\, Canada
CATEGORIES:Art,Calendar,Workshops
ATTACH;FMTTYPE=image/jpeg:https://genexsites.s3.ca-west-1.amazonaws.com/05/wp-content/uploads/sites/26/2026/04/08152056/favourite-place-paint-with-me-scaled.jpg
ORGANIZER;CN="Nancy Sorensen":MAILTO:nancyjs18@gmail.com
END:VEVENT
BEGIN:VEVENT
DTSTART;TZID=America/Vancouver:20260424T190000
DTEND;TZID=America/Vancouver:20260424T220000
DTSTAMP:20260420T152338
CREATED:20260408T223150Z
LAST-MODIFIED:20260408T223150Z
UID:27042-1777057200-1777068000@www.wkartscouncil.com
SUMMARY:Nelson - ALL TOGETHER NOW: Singing Event with Luke Wallace
DESCRIPTION:Join songwriter Luke Wallace and a collection of Nelson Singers for a night of uplifting harmony rooted in justice and ecology. \nLuke Wallace is a dynamic force in the world of folk music\, using his talent as a songwriter\, speaker\, and choral arranger to champion environmental causes and inspire positive change. Hailing from the Coast Salish Territory known as Vancouver\, Canada\, Luke has been on a decade-long journey of touring\, recording\, and organizing for the betterment of people and the planet. \nPresented by West Kootenay Climate Hub and Earth Days Nelson & Area\, ALL TOGETHER NOW is a mix between a song circle and performance. Part concert and part audience harmony workshop\, this evening of collective music brings voices together in soidarity and love for the Earth. \nLuke is like a modern Pete Seeger. From the moment he hits the stage\, he has the audience singing about positive change. We desperately need that and we need him on stages all across our Country right now! He doesn’t back down but he doesn’t alienate people either. He’s a perfect voice for right now.” – Doug Cox \nDoors @ 6:30PM Show @7:00PM\nNelson United Church\nTickets at Eventbrite
URL:https://www.wkartscouncil.com/event/luke-all-together-now/
LOCATION:Nelson United Church\, 602 Silica Street\, Nelson\, British Columbia\, V1L 4N1\, Canada
CATEGORIES:Art,Live Performance,Music,Workshops
ATTACH;FMTTYPE=image/jpeg:https://genexsites.s3.ca-west-1.amazonaws.com/05/wp-content/uploads/sites/26/2026/04/08153050/all-together-now-Luke-Wallace-Poster.jpg
END:VEVENT
END:VCALENDAR