
BEGIN:VCALENDAR
VERSION:2.0
PRODID:-//West Kootenay Regional Arts Council - ECPv6.15.20//NONSGML v1.0//EN
CALSCALE:GREGORIAN
METHOD:PUBLISH
X-ORIGINAL-URL:https://www.wkartscouncil.com
X-WR-CALDESC:Events for West Kootenay Regional Arts Council
REFRESH-INTERVAL;VALUE=DURATION:PT1H
X-Robots-Tag:noindex
X-PUBLISHED-TTL:PT1H
BEGIN:VTIMEZONE
TZID:America/Edmonton
BEGIN:DAYLIGHT
TZOFFSETFROM:-0700
TZOFFSETTO:-0600
TZNAME:MDT
DTSTART:20240310T090000
END:DAYLIGHT
BEGIN:STANDARD
TZOFFSETFROM:-0600
TZOFFSETTO:-0700
TZNAME:MST
DTSTART:20241103T080000
END:STANDARD
BEGIN:DAYLIGHT
TZOFFSETFROM:-0700
TZOFFSETTO:-0600
TZNAME:MDT
DTSTART:20250309T090000
END:DAYLIGHT
BEGIN:STANDARD
TZOFFSETFROM:-0600
TZOFFSETTO:-0700
TZNAME:MST
DTSTART:20251102T080000
END:STANDARD
BEGIN:DAYLIGHT
TZOFFSETFROM:-0700
TZOFFSETTO:-0600
TZNAME:MDT
DTSTART:20260308T090000
END:DAYLIGHT
BEGIN:STANDARD
TZOFFSETFROM:-0600
TZOFFSETTO:-0700
TZNAME:MST
DTSTART:20261101T080000
END:STANDARD
END:VTIMEZONE
BEGIN:VEVENT
DTSTART;TZID=America/Edmonton:20251107T080000
DTEND;TZID=America/Edmonton:20251107T170000
DTSTAMP:20260420T235724
CREATED:20251108T055437Z
LAST-MODIFIED:20251108T055437Z
UID:20786-1762502400-1762534800@www.wkartscouncil.com
SUMMARY:We Can Help Animals! BC SPCA Comics Workshop (Ages 8-12)
DESCRIPTION:Are you a young changemaker looking to help animals? \nParticipants will learn ways to help at-risk animals through a variety of activities at the West Kootenay Community Animal Centre. Discuss how the BC SPCA helps animals.\nCreate comics about the value of all beings. Give back by collaborating on a project for the shelter. This is a fast-paced and engaging workshop that combines play\, creativity and learning! \nDate and Time: November 15\, 2025 from 9:30am-12:30pm \nLocation: West Kootenay Community Animal Centre\, 124 Heritage Way\, Castlegar BC \nAges: 8-12 \nPrice: $37.50 \nNote – While there may be some time for animal interactions\, we cannot guarantee the availability of suitable animals.
URL:https://www.wkartscouncil.com/event/help-animals-bc-spca-comics-workshop-8-12/
LOCATION:West Kootenay Community Animal Centre\, 124 Heritage Way\, Castlegar BC
CATEGORIES:Art,Calendar,Community Events,Kid Friendly,Workshops
ATTACH;FMTTYPE=image/jpeg:https://genexsites.s3.ca-west-1.amazonaws.com/05/wp-content/uploads/sites/26/2025/11/07215301/BCSPCAHelpAnimals.jpg
ORGANIZER;CN="BC SPCA":MAILTO:eshuttleworth@spca.bc.ca
END:VEVENT
END:VCALENDAR