
BEGIN:VCALENDAR
VERSION:2.0
PRODID:-//West Kootenay Regional Arts Council - ECPv6.15.20//NONSGML v1.0//EN
CALSCALE:GREGORIAN
METHOD:PUBLISH
X-ORIGINAL-URL:https://www.wkartscouncil.com
X-WR-CALDESC:Events for West Kootenay Regional Arts Council
REFRESH-INTERVAL;VALUE=DURATION:PT1H
X-Robots-Tag:noindex
X-PUBLISHED-TTL:PT1H
BEGIN:VTIMEZONE
TZID:America/Vancouver
BEGIN:DAYLIGHT
TZOFFSETFROM:-0800
TZOFFSETTO:-0700
TZNAME:PDT
DTSTART:20240310T100000
END:DAYLIGHT
BEGIN:STANDARD
TZOFFSETFROM:-0700
TZOFFSETTO:-0800
TZNAME:PST
DTSTART:20241103T090000
END:STANDARD
BEGIN:DAYLIGHT
TZOFFSETFROM:-0800
TZOFFSETTO:-0700
TZNAME:PDT
DTSTART:20250309T100000
END:DAYLIGHT
BEGIN:STANDARD
TZOFFSETFROM:-0700
TZOFFSETTO:-0800
TZNAME:PST
DTSTART:20251102T090000
END:STANDARD
BEGIN:DAYLIGHT
TZOFFSETFROM:-0800
TZOFFSETTO:-0700
TZNAME:PDT
DTSTART:20260308T100000
END:DAYLIGHT
BEGIN:STANDARD
TZOFFSETFROM:-0700
TZOFFSETTO:-0800
TZNAME:PST
DTSTART:20261101T090000
END:STANDARD
END:VTIMEZONE
BEGIN:VEVENT
DTSTART;TZID=America/Vancouver:20251026T093000
DTEND;TZID=America/Vancouver:20251026T113000
DTSTAMP:20260420T235817
CREATED:20250926T190209Z
LAST-MODIFIED:20250926T190209Z
UID:19735-1761471000-1761478200@www.wkartscouncil.com
SUMMARY:HALLOWEEN MASK PAINTING WORKSHOP
DESCRIPTION:HALLOWEEN MASK PAINTING WORKSHOP\nHosted by May Ghalib\nStart your Halloween celebrations with a simple and hands on workshop! Kids will paint and decorate their very own masks using a variety of colourful materials. With step-by-step guidance in a fun and supportive environment\, each child will head home with a unique mask to enjoy for Halloween. \nSunday\, October 26\n9:30am – 11:30am\nAges 5 – 9\nRVAC Kitchen Studio\, 320 Wilson st.\n$30 – All Materials Provided
URL:https://www.wkartscouncil.com/event/halloween-mask-painting-workshop/
LOCATION:320 Wilson St.\, Revelstoke
CATEGORIES:Calendar,Workshops
ORGANIZER;CN="Revelstoke Visual Arts Centre":MAILTO:info@revelstokeartgallery.ca
END:VEVENT
END:VCALENDAR