
BEGIN:VCALENDAR
VERSION:2.0
PRODID:-//West Kootenay Regional Arts Council - ECPv6.15.20//NONSGML v1.0//EN
CALSCALE:GREGORIAN
METHOD:PUBLISH
X-ORIGINAL-URL:https://www.wkartscouncil.com
X-WR-CALDESC:Events for West Kootenay Regional Arts Council
REFRESH-INTERVAL;VALUE=DURATION:PT1H
X-Robots-Tag:noindex
X-PUBLISHED-TTL:PT1H
BEGIN:VTIMEZONE
TZID:America/Vancouver
BEGIN:DAYLIGHT
TZOFFSETFROM:-0800
TZOFFSETTO:-0700
TZNAME:PDT
DTSTART:20240310T100000
END:DAYLIGHT
BEGIN:STANDARD
TZOFFSETFROM:-0700
TZOFFSETTO:-0800
TZNAME:PST
DTSTART:20241103T090000
END:STANDARD
BEGIN:DAYLIGHT
TZOFFSETFROM:-0800
TZOFFSETTO:-0700
TZNAME:PDT
DTSTART:20250309T100000
END:DAYLIGHT
BEGIN:STANDARD
TZOFFSETFROM:-0700
TZOFFSETTO:-0800
TZNAME:PST
DTSTART:20251102T090000
END:STANDARD
BEGIN:DAYLIGHT
TZOFFSETFROM:-0800
TZOFFSETTO:-0700
TZNAME:PDT
DTSTART:20260308T100000
END:DAYLIGHT
BEGIN:STANDARD
TZOFFSETFROM:-0700
TZOFFSETTO:-0800
TZNAME:PST
DTSTART:20261101T090000
END:STANDARD
END:VTIMEZONE
BEGIN:VEVENT
DTSTART;TZID=America/Vancouver:20251020T180000
DTEND;TZID=America/Vancouver:20251020T200000
DTSTAMP:20260421T014348
CREATED:20250926T191013Z
LAST-MODIFIED:20250926T191013Z
UID:19741-1760983200-1760990400@www.wkartscouncil.com
SUMMARY:LIFE DRAWING | WEEKLY DROP IN
DESCRIPTION:LIFE DRAWING | WEEKLY DROP IN\nHosted by Kira Makela\nLife Drawing is back! The season will begin Monday\, October 20th and will run every Monday night until the end of March. These sessions have been filling up\, so we’re now capping participants at 20 people max. Make sure to arrive early to claim your spot and get set up.\nSee you there! \nStarts October 20\nMonday nights\, 6:00 pm – 8:00 pm\nDoors close at 6:00 pm sharp\nPlease arrive at least 10 min early to claim a space and get set up\n$15 per session\nSome materials provided but BYO encouraged\nRVAC Main gallery\, 320 Wilson st.\nNo bookings required\nMaximum of 20 participants
URL:https://www.wkartscouncil.com/event/life-drawing-weekly-drop-in-2/
LOCATION:Revelstoke Visual Arts Centre\, 320 Wilson Street\, Revelstoke\, V0E 2S0
CATEGORIES:Calendar,Workshops
ORGANIZER;CN="Revelstoke Visual Arts Centre":MAILTO:info@revelstokeartgallery.ca
END:VEVENT
END:VCALENDAR