
BEGIN:VCALENDAR
VERSION:2.0
PRODID:-//West Kootenay Regional Arts Council - ECPv6.15.20//NONSGML v1.0//EN
CALSCALE:GREGORIAN
METHOD:PUBLISH
X-ORIGINAL-URL:https://www.wkartscouncil.com
X-WR-CALDESC:Events for West Kootenay Regional Arts Council
REFRESH-INTERVAL;VALUE=DURATION:PT1H
X-Robots-Tag:noindex
X-PUBLISHED-TTL:PT1H
BEGIN:VTIMEZONE
TZID:America/Vancouver
BEGIN:DAYLIGHT
TZOFFSETFROM:-0800
TZOFFSETTO:-0700
TZNAME:PDT
DTSTART:20240310T100000
END:DAYLIGHT
BEGIN:STANDARD
TZOFFSETFROM:-0700
TZOFFSETTO:-0800
TZNAME:PST
DTSTART:20241103T090000
END:STANDARD
BEGIN:DAYLIGHT
TZOFFSETFROM:-0800
TZOFFSETTO:-0700
TZNAME:PDT
DTSTART:20250309T100000
END:DAYLIGHT
BEGIN:STANDARD
TZOFFSETFROM:-0700
TZOFFSETTO:-0800
TZNAME:PST
DTSTART:20251102T090000
END:STANDARD
BEGIN:DAYLIGHT
TZOFFSETFROM:-0800
TZOFFSETTO:-0700
TZNAME:PDT
DTSTART:20260308T100000
END:DAYLIGHT
BEGIN:STANDARD
TZOFFSETFROM:-0700
TZOFFSETTO:-0800
TZNAME:PST
DTSTART:20261101T090000
END:STANDARD
END:VTIMEZONE
BEGIN:VEVENT
DTSTART;TZID=America/Vancouver:20251009T180000
DTEND;TZID=America/Vancouver:20251009T210000
DTSTAMP:20260421T014519
CREATED:20250926T191349Z
LAST-MODIFIED:20250926T191349Z
UID:19743-1760032800-1760043600@www.wkartscouncil.com
SUMMARY:Paint Night - Spooky Trees - Family Friendly Event by Gilbert Studios
DESCRIPTION:📅 Thursday\, Oct 9\n⏰ 6:00–9:00 PM\n🏠 3364 Southridge Drive\n💸 $40 or bring a friend and pay 2 for $75 (must be paid together) \nPlease message me via my business page to confirm availability before sending payment. Don’t forget to follow the page so you don’t miss out on upcoming classes!\nhttps://www.facebook.com/StudioPaintNight/\nStudio is located in Castlegar\, British Columbia \nJoin us for a fun\, creative night out—perfect for friends and family! No experience needed. All supplies (brushes\, paints\, canvas)\, plus a snack and warm drink\, are included.\n👨‍👩‍👧 Family friendly: Recommended for kids 12+ but any age is welcome provided they are able to follow instructions and stay seated for the full class (ratio of 1 adult per child).\n☕ Warm drinks (coffee\, tea\, hot chocolate) and a light snack provided. Let me know if you have any allergies (studio is nut free and I have gluten free options)
URL:https://www.wkartscouncil.com/event/paint-night-spooky-trees-family-friendly-event-by-gilbert-studios/
LOCATION:Gilbert Studios\, 3364 Southridge Drive\, Castlegar\, BC\, V1N 4G1\, Canada
CATEGORIES:Calendar,Workshops
ATTACH;FMTTYPE=image/jpeg:https://genexsites.s3.ca-west-1.amazonaws.com/05/wp-content/uploads/sites/26/2025/09/26121339/Oct9.jpg
END:VEVENT
END:VCALENDAR