
BEGIN:VCALENDAR
VERSION:2.0
PRODID:-//West Kootenay Regional Arts Council - ECPv6.15.20//NONSGML v1.0//EN
CALSCALE:GREGORIAN
METHOD:PUBLISH
X-WR-CALNAME:West Kootenay Regional Arts Council
X-ORIGINAL-URL:https://www.wkartscouncil.com
X-WR-CALDESC:Events for West Kootenay Regional Arts Council
REFRESH-INTERVAL;VALUE=DURATION:PT1H
X-Robots-Tag:noindex
X-PUBLISHED-TTL:PT1H
BEGIN:VTIMEZONE
TZID:America/Vancouver
BEGIN:DAYLIGHT
TZOFFSETFROM:-0800
TZOFFSETTO:-0700
TZNAME:PDT
DTSTART:20240310T100000
END:DAYLIGHT
BEGIN:STANDARD
TZOFFSETFROM:-0700
TZOFFSETTO:-0800
TZNAME:PST
DTSTART:20241103T090000
END:STANDARD
BEGIN:DAYLIGHT
TZOFFSETFROM:-0800
TZOFFSETTO:-0700
TZNAME:PDT
DTSTART:20250309T100000
END:DAYLIGHT
BEGIN:STANDARD
TZOFFSETFROM:-0700
TZOFFSETTO:-0800
TZNAME:PST
DTSTART:20251102T090000
END:STANDARD
BEGIN:DAYLIGHT
TZOFFSETFROM:-0800
TZOFFSETTO:-0700
TZNAME:PDT
DTSTART:20260308T100000
END:DAYLIGHT
BEGIN:STANDARD
TZOFFSETFROM:-0700
TZOFFSETTO:-0800
TZNAME:PST
DTSTART:20261101T090000
END:STANDARD
END:VTIMEZONE
BEGIN:VEVENT
DTSTART;VALUE=DATE:20250926
DTEND;VALUE=DATE:20250929
DTSTAMP:20260421T031829
CREATED:20250904T003339Z
LAST-MODIFIED:20250904T003339Z
UID:19198-1758844800-1759103999@www.wkartscouncil.com
SUMMARY:Mural Workshop | Adults
DESCRIPTION:Mural Workshop | Adults\nHosted by Antonia Otoya\nLearn how to transform your artwork into larger-than-life murals in this immersive three-day workshop. Antonia Otoya will guide you through a perfect balance of hands-on learning and theory\, providing you with the essential foundations of mural painting. This workshop is designed for beginners and artists who want to expand their skills and delve into the world of mural painting. Please note that this class focuses on hand painting with acrylic paint\, rather than spray paint. \nSeptember 26\, 27\, & 28\n$180 – All materials provided\nAdults\nRVAC Kitchen Studio & Offsite Location\nFor beginner and intermediate artists\nArtists will be painting a collaborative mural\nPending Public Art Committee Approval\nTIMELINE:\nFriday Evening: Learn the theory\, partner up\, start finalising your design.\nSaturday (Full day): Translate your design onto the building\, mix colours\, paint!\nSunday (Full day): Continue painting your mural
URL:https://www.wkartscouncil.com/event/mural-workshop-adults/
LOCATION:320 Wilson St.\, Revelstoke
CATEGORIES:Calendar,Workshops
ATTACH;FMTTYPE=image/jpeg:https://genexsites.s3.ca-west-1.amazonaws.com/05/wp-content/uploads/sites/26/2025/09/03172745/20230901_163441-scaled.jpg
ORGANIZER;CN="Revelstoke Visual Arts Centre":MAILTO:info@revelstokeartgallery.ca
END:VEVENT
BEGIN:VEVENT
DTSTART;TZID=America/Vancouver:20250927T140000
DTEND;TZID=America/Vancouver:20250927T160000
DTSTAMP:20260421T031829
CREATED:20250814T164909Z
LAST-MODIFIED:20250902T222742Z
UID:18477-1758981600-1758988800@www.wkartscouncil.com
SUMMARY:Beading Space with West Kootenay Metis Society
DESCRIPTION:4th Thursday and Saturday \nBeading Space \nFNMI relatives are invited to join us the 4th Thursday and Saturday of the month \nNMAG at 502 Vernon \nSummer hours – \nThursday July 24 5:30- 7:30pm \nSaturday July 26 2-4pm \nTheme- Blueberry pin kits \n  \nThursday August 28 5:30- 7:30pm \nSaturday August 30 2-4pm \nTheme -Orange Shirt pins \nCost is free. Supplies included. Light snack provided. Beginner kits available. Intermediate and advanced welcome to bring own project. \nBeginner kits are: \na simple leather thimble. \nBasic and based on the theme of the month \n\nHeartberries ‘ode mina’ (strawberry)
URL:https://www.wkartscouncil.com/event/beading-space-with-west-kootenay-metis-society-3/
LOCATION:Nelson Museum\, Archives & Gallery\, 502 Vernon Street\, Nelson\, V1L 4E7\, Canada
CATEGORIES:Calendar,Community Events,Workshops
ATTACH;FMTTYPE=image/jpeg:https://genexsites.s3.ca-west-1.amazonaws.com/05/wp-content/uploads/sites/26/2025/08/20174414/KCR-PSA-Calendar-Beading-Space-rb9nKp.jpg
END:VEVENT
END:VCALENDAR