
BEGIN:VCALENDAR
VERSION:2.0
PRODID:-//West Kootenay Regional Arts Council - ECPv6.15.20//NONSGML v1.0//EN
CALSCALE:GREGORIAN
METHOD:PUBLISH
X-WR-CALNAME:West Kootenay Regional Arts Council
X-ORIGINAL-URL:https://www.wkartscouncil.com
X-WR-CALDESC:Events for West Kootenay Regional Arts Council
REFRESH-INTERVAL;VALUE=DURATION:PT1H
X-Robots-Tag:noindex
X-PUBLISHED-TTL:PT1H
BEGIN:VTIMEZONE
TZID:America/Vancouver
BEGIN:DAYLIGHT
TZOFFSETFROM:-0800
TZOFFSETTO:-0700
TZNAME:PDT
DTSTART:20240310T100000
END:DAYLIGHT
BEGIN:STANDARD
TZOFFSETFROM:-0700
TZOFFSETTO:-0800
TZNAME:PST
DTSTART:20241103T090000
END:STANDARD
BEGIN:DAYLIGHT
TZOFFSETFROM:-0800
TZOFFSETTO:-0700
TZNAME:PDT
DTSTART:20250309T100000
END:DAYLIGHT
BEGIN:STANDARD
TZOFFSETFROM:-0700
TZOFFSETTO:-0800
TZNAME:PST
DTSTART:20251102T090000
END:STANDARD
BEGIN:DAYLIGHT
TZOFFSETFROM:-0800
TZOFFSETTO:-0700
TZNAME:PDT
DTSTART:20260308T100000
END:DAYLIGHT
BEGIN:STANDARD
TZOFFSETFROM:-0700
TZOFFSETTO:-0800
TZNAME:PST
DTSTART:20261101T090000
END:STANDARD
END:VTIMEZONE
BEGIN:VTIMEZONE
TZID:America/Edmonton
BEGIN:DAYLIGHT
TZOFFSETFROM:-0700
TZOFFSETTO:-0600
TZNAME:MDT
DTSTART:20240310T090000
END:DAYLIGHT
BEGIN:STANDARD
TZOFFSETFROM:-0600
TZOFFSETTO:-0700
TZNAME:MST
DTSTART:20241103T080000
END:STANDARD
BEGIN:DAYLIGHT
TZOFFSETFROM:-0700
TZOFFSETTO:-0600
TZNAME:MDT
DTSTART:20250309T090000
END:DAYLIGHT
BEGIN:STANDARD
TZOFFSETFROM:-0600
TZOFFSETTO:-0700
TZNAME:MST
DTSTART:20251102T080000
END:STANDARD
BEGIN:DAYLIGHT
TZOFFSETFROM:-0700
TZOFFSETTO:-0600
TZNAME:MDT
DTSTART:20260308T090000
END:DAYLIGHT
BEGIN:STANDARD
TZOFFSETFROM:-0600
TZOFFSETTO:-0700
TZNAME:MST
DTSTART:20261101T080000
END:STANDARD
END:VTIMEZONE
BEGIN:VEVENT
DTSTART;VALUE=DATE:20250926
DTEND;VALUE=DATE:20250929
DTSTAMP:20260421T045715
CREATED:20250904T003339Z
LAST-MODIFIED:20250904T003339Z
UID:19198-1758844800-1759103999@www.wkartscouncil.com
SUMMARY:Mural Workshop | Adults
DESCRIPTION:Mural Workshop | Adults\nHosted by Antonia Otoya\nLearn how to transform your artwork into larger-than-life murals in this immersive three-day workshop. Antonia Otoya will guide you through a perfect balance of hands-on learning and theory\, providing you with the essential foundations of mural painting. This workshop is designed for beginners and artists who want to expand their skills and delve into the world of mural painting. Please note that this class focuses on hand painting with acrylic paint\, rather than spray paint. \nSeptember 26\, 27\, & 28\n$180 – All materials provided\nAdults\nRVAC Kitchen Studio & Offsite Location\nFor beginner and intermediate artists\nArtists will be painting a collaborative mural\nPending Public Art Committee Approval\nTIMELINE:\nFriday Evening: Learn the theory\, partner up\, start finalising your design.\nSaturday (Full day): Translate your design onto the building\, mix colours\, paint!\nSunday (Full day): Continue painting your mural
URL:https://www.wkartscouncil.com/event/mural-workshop-adults/
LOCATION:320 Wilson St.\, Revelstoke
CATEGORIES:Calendar,Workshops
ATTACH;FMTTYPE=image/jpeg:https://genexsites.s3.ca-west-1.amazonaws.com/05/wp-content/uploads/sites/26/2025/09/03172745/20230901_163441-scaled.jpg
ORGANIZER;CN="Revelstoke Visual Arts Centre":MAILTO:info@revelstokeartgallery.ca
END:VEVENT
BEGIN:VEVENT
DTSTART;TZID=America/Edmonton:20250926T080000
DTEND;TZID=America/Edmonton:20250926T170000
DTSTAMP:20260421T045715
CREATED:20250926T192159Z
LAST-MODIFIED:20250926T192159Z
UID:19749-1758873600-1758906000@www.wkartscouncil.com
SUMMARY:Unusual Angles" 2026 Open Adjudicated Art Exhibit
DESCRIPTION:Coming up in February 2026: Open Adjudicated Art Exhibit celebrating visual art and The Kootenays | “Unusual Angles” | February 5 – March 1\, 2026 \nWith this year’s theme “Unusual Angles” we are looking to celebrate The Kootenays from unique perspectives. \nAnyone can enter up to 3 artworks in any medium. Deadline for entry and artworks: Sunday\, January 25\, 2026. \nWhat’s in it for YOU? \n1. The awesome experience of being part of this celebration of visual art & The Kootenays with other artists and art collectors.\n2. A guaranteed spot for your artwork(s) in the online gallery for a month.\n3. A guaranteed spot for your artwork(s) in the web shop for a month.\n4. Exposure on our website\, in our newsletter\, on social media\, in local news outlets\, at the opening reception\, and in the art gallery for a month.\n5. A chance at winning the $100 (minimum) Inspiration Award (selected by draw from all artworks that didn’t make the shortlist).\n6. A chance at having your artwork(s) selected to be showcased at Art Gallery Kimberley in a high traffic location in Kimberley’s Platzl for a month.\n7. A chance at having your artwork(s) short-listed for the Kootenay Art Prize.\n8. A chance at winning the $500 (minimum) Kootenay Art Prize (selected by draw from shortlist).\n9. Added value to your CV.\n10. An invitation to celebrate with fellow artists\, family\, and friends at the opening reception. \nNumber of artworks selected to be showcased in the art gallery: 20-25 depending on dimensions | Minimum number of entries: 20 | Number of artworks to be shortlisted: 10 | Kootenay Art Prize min. $500\, Inspiration Award min. $100.
URL:https://www.wkartscouncil.com/event/unusual-angles-2026-open-adjudicated-art-exhibit/
LOCATION:167 Deer Park Avenue\, Kimberley\, BC\, V1A 2J5\, 167 Deer Park Avenue\, Kimberley\, V1A 2J5
CATEGORIES:Calendar,Workshops
ATTACH;FMTTYPE=image/jpeg:https://genexsites.s3.ca-west-1.amazonaws.com/05/wp-content/uploads/sites/26/2025/09/26121956/2026-Open-Art-Exhibit_Call-to-Artists-1.jpg
ORGANIZER;CN="Art Gallery Kimberley":MAILTO:info@artgallerykimberley.com
END:VEVENT
BEGIN:VEVENT
DTSTART;TZID=America/Edmonton:20250926T080000
DTEND;TZID=America/Edmonton:20250926T170000
DTSTAMP:20260421T045715
CREATED:20250926T193634Z
LAST-MODIFIED:20250926T193634Z
UID:19757-1758873600-1758906000@www.wkartscouncil.com
SUMMARY:Zine Making 101
DESCRIPTION:Join us for a hands-on workshop diving into the world of zines!\nWhether you’re new to zine making or have some experience\, this session offers a perfect space to learn\, create\, and connect with other enthusiasts. \nYou’ll get a chance to brainstorm zine topics with a fun free-writing exercise\, and then you’ll have dedicated time and materials to create your very own zine.
URL:https://www.wkartscouncil.com/event/zine-making-101/
LOCATION:Castlegar Library\, 1005 3 St\, Castlegar\, BC
CATEGORIES:Calendar,Workshops
ATTACH;FMTTYPE=image/jpeg:https://genexsites.s3.ca-west-1.amazonaws.com/05/wp-content/uploads/sites/26/2025/09/26123515/Kaihen_Harwood_zine5-scaled.jpg
END:VEVENT
END:VCALENDAR