
BEGIN:VCALENDAR
VERSION:2.0
PRODID:-//West Kootenay Regional Arts Council - ECPv6.15.20//NONSGML v1.0//EN
CALSCALE:GREGORIAN
METHOD:PUBLISH
X-WR-CALNAME:West Kootenay Regional Arts Council
X-ORIGINAL-URL:https://www.wkartscouncil.com
X-WR-CALDESC:Events for West Kootenay Regional Arts Council
REFRESH-INTERVAL;VALUE=DURATION:PT1H
X-Robots-Tag:noindex
X-PUBLISHED-TTL:PT1H
BEGIN:VTIMEZONE
TZID:America/Edmonton
BEGIN:DAYLIGHT
TZOFFSETFROM:-0700
TZOFFSETTO:-0600
TZNAME:MDT
DTSTART:20240310T090000
END:DAYLIGHT
BEGIN:STANDARD
TZOFFSETFROM:-0600
TZOFFSETTO:-0700
TZNAME:MST
DTSTART:20241103T080000
END:STANDARD
BEGIN:DAYLIGHT
TZOFFSETFROM:-0700
TZOFFSETTO:-0600
TZNAME:MDT
DTSTART:20250309T090000
END:DAYLIGHT
BEGIN:STANDARD
TZOFFSETFROM:-0600
TZOFFSETTO:-0700
TZNAME:MST
DTSTART:20251102T080000
END:STANDARD
BEGIN:DAYLIGHT
TZOFFSETFROM:-0700
TZOFFSETTO:-0600
TZNAME:MDT
DTSTART:20260308T090000
END:DAYLIGHT
BEGIN:STANDARD
TZOFFSETFROM:-0600
TZOFFSETTO:-0700
TZNAME:MST
DTSTART:20261101T080000
END:STANDARD
END:VTIMEZONE
BEGIN:VEVENT
DTSTART;TZID=America/Edmonton:20250913T140000
DTEND;TZID=America/Edmonton:20250913T170000
DTSTAMP:20260421T045717
CREATED:20250909T173008Z
LAST-MODIFIED:20250909T173008Z
UID:19305-1757772000-1757782800@www.wkartscouncil.com
SUMMARY:Eco-Dyeing and Printing at Cranbrook Arts
DESCRIPTION:Join artist Karen Deibert for an introductory workshop on eco-dyeing and printing. In this hands-on class\, participants will learn the fundamentals of natural dyeing and create a one-of-a-kind 14” x 72” silk scarf using iron or copper-based mordants. The process explores plant-based techniques that produce beautiful and unpredictable designs rooted in nature. \nThe workshop includes instruction on terminology\, technique\, and design experimentation. All materials are provided. A follow-up drop-in session on September 14 offers the opportunity to view final scarf results and discuss the process further. \n  \nNote: Seating is limited. This is a creative\, beginner-friendly class — no prior experience required.
URL:https://www.wkartscouncil.com/event/eco-dyeing-and-printing-at-cranbrook-arts/
LOCATION:Cranbrook Arts\, 1401 5th St N\, Cranbrook\, BC
CATEGORIES:Calendar,Workshops
ATTACH;FMTTYPE=image/jpeg:https://genexsites.s3.ca-west-1.amazonaws.com/05/wp-content/uploads/sites/26/2025/09/09102844/WebsiteEventsBlogPoster_9-md.jpg
END:VEVENT
END:VCALENDAR