
BEGIN:VCALENDAR
VERSION:2.0
PRODID:-//West Kootenay Regional Arts Council - ECPv6.15.20//NONSGML v1.0//EN
CALSCALE:GREGORIAN
METHOD:PUBLISH
X-WR-CALNAME:West Kootenay Regional Arts Council
X-ORIGINAL-URL:https://www.wkartscouncil.com
X-WR-CALDESC:Events for West Kootenay Regional Arts Council
REFRESH-INTERVAL;VALUE=DURATION:PT1H
X-Robots-Tag:noindex
X-PUBLISHED-TTL:PT1H
BEGIN:VTIMEZONE
TZID:America/Edmonton
BEGIN:DAYLIGHT
TZOFFSETFROM:-0700
TZOFFSETTO:-0600
TZNAME:MDT
DTSTART:20240310T090000
END:DAYLIGHT
BEGIN:STANDARD
TZOFFSETFROM:-0600
TZOFFSETTO:-0700
TZNAME:MST
DTSTART:20241103T080000
END:STANDARD
BEGIN:DAYLIGHT
TZOFFSETFROM:-0700
TZOFFSETTO:-0600
TZNAME:MDT
DTSTART:20250309T090000
END:DAYLIGHT
BEGIN:STANDARD
TZOFFSETFROM:-0600
TZOFFSETTO:-0700
TZNAME:MST
DTSTART:20251102T080000
END:STANDARD
BEGIN:DAYLIGHT
TZOFFSETFROM:-0700
TZOFFSETTO:-0600
TZNAME:MDT
DTSTART:20260308T090000
END:DAYLIGHT
BEGIN:STANDARD
TZOFFSETFROM:-0600
TZOFFSETTO:-0700
TZNAME:MST
DTSTART:20261101T080000
END:STANDARD
END:VTIMEZONE
BEGIN:VEVENT
DTSTART;TZID=America/Edmonton:20250712T190000
DTEND;TZID=America/Edmonton:20250712T210000
DTSTAMP:20260421T084625
CREATED:20250616T170130Z
LAST-MODIFIED:20250616T170130Z
UID:16944-1752346800-1752354000@www.wkartscouncil.com
SUMMARY:Glacier Watercolour Workshop
DESCRIPTION:Glacier Watercolour Workshop | Parks Canada\nHosted by Lara Davis\nPaint the Glaciers with Us!\nAs part of the Parks Canada Glacier Festival\, we’re excited to partner with Parks Canada to offer a special Glacier Watercolour Workshop at the Revelstoke Visual Arts Centre. \nJoin us for a creative evening where you’ll learn how to paint icy blues\, snowy textures\, and the beauty of alpine landscapes using watercolour. Whether you’re an experienced artist or a total beginner\, this workshop is for everyone. \nSaturday\, July 12\n7:00 pm – 9:00 pm\nRVAC Kitchen Studio\n$35 All Materials Provided\nAges 16+\nCome solo or bring a friend — no experience necessary. We look forward to seeing you there!\nRegister on our website: https://revelstokeartgallery.ca/education/
URL:https://www.wkartscouncil.com/event/glacier-watercolour-workshop/
LOCATION:Revelstoke Visual Arts Centre\, 320 Wilson Street\, Revelstoke\, V0E 2S0
CATEGORIES:Calendar,Community Events,Workshops
ATTACH;FMTTYPE=image/jpeg:https://genexsites.s3.ca-west-1.amazonaws.com/05/wp-content/uploads/sites/26/2025/06/20174531/3.jpg
ORGANIZER;CN="Revelstoke Visual Arts Centre":MAILTO:info@revelstokeartgallery.ca
END:VEVENT
END:VCALENDAR