
BEGIN:VCALENDAR
VERSION:2.0
PRODID:-//West Kootenay Regional Arts Council - ECPv6.15.20//NONSGML v1.0//EN
CALSCALE:GREGORIAN
METHOD:PUBLISH
X-ORIGINAL-URL:https://www.wkartscouncil.com
X-WR-CALDESC:Events for West Kootenay Regional Arts Council
REFRESH-INTERVAL;VALUE=DURATION:PT1H
X-Robots-Tag:noindex
X-PUBLISHED-TTL:PT1H
BEGIN:VTIMEZONE
TZID:America/Edmonton
BEGIN:DAYLIGHT
TZOFFSETFROM:-0700
TZOFFSETTO:-0600
TZNAME:MDT
DTSTART:20230312T090000
END:DAYLIGHT
BEGIN:STANDARD
TZOFFSETFROM:-0600
TZOFFSETTO:-0700
TZNAME:MST
DTSTART:20231105T080000
END:STANDARD
BEGIN:DAYLIGHT
TZOFFSETFROM:-0700
TZOFFSETTO:-0600
TZNAME:MDT
DTSTART:20240310T090000
END:DAYLIGHT
BEGIN:STANDARD
TZOFFSETFROM:-0600
TZOFFSETTO:-0700
TZNAME:MST
DTSTART:20241103T080000
END:STANDARD
BEGIN:DAYLIGHT
TZOFFSETFROM:-0700
TZOFFSETTO:-0600
TZNAME:MDT
DTSTART:20250309T090000
END:DAYLIGHT
BEGIN:STANDARD
TZOFFSETFROM:-0600
TZOFFSETTO:-0700
TZNAME:MST
DTSTART:20251102T080000
END:STANDARD
END:VTIMEZONE
BEGIN:VTIMEZONE
TZID:America/Vancouver
BEGIN:DAYLIGHT
TZOFFSETFROM:-0800
TZOFFSETTO:-0700
TZNAME:PDT
DTSTART:20230312T100000
END:DAYLIGHT
BEGIN:STANDARD
TZOFFSETFROM:-0700
TZOFFSETTO:-0800
TZNAME:PST
DTSTART:20231105T090000
END:STANDARD
BEGIN:DAYLIGHT
TZOFFSETFROM:-0800
TZOFFSETTO:-0700
TZNAME:PDT
DTSTART:20240310T100000
END:DAYLIGHT
BEGIN:STANDARD
TZOFFSETFROM:-0700
TZOFFSETTO:-0800
TZNAME:PST
DTSTART:20241103T090000
END:STANDARD
BEGIN:DAYLIGHT
TZOFFSETFROM:-0800
TZOFFSETTO:-0700
TZNAME:PDT
DTSTART:20250309T100000
END:DAYLIGHT
BEGIN:STANDARD
TZOFFSETFROM:-0700
TZOFFSETTO:-0800
TZNAME:PST
DTSTART:20251102T090000
END:STANDARD
END:VTIMEZONE
BEGIN:VEVENT
DTSTART;VALUE=DATE:20240404
DTEND;VALUE=DATE:20240514
DTSTAMP:20260422T230247
CREATED:20240321T210000Z
LAST-MODIFIED:20240321T210000Z
UID:6997-1712188800-1715644799@www.wkartscouncil.com
SUMMARY:Youthful Seniors Art & Music Classes - Nelson Studio 88
DESCRIPTION:At Nelson Studio 88\, we believe in the transformative power of creativity for all ages. Our adult and youthful seniors classes are designed for life long learners that are looking for creative outlets and connection with others. The beauty of the arts lies in its ability to stimulate various areas of the brain\, enhancing memory\, cognition\, and a sense of accomplishment and our classes open opportunities to meet like-minded people to play and learn alongside. \nSing and dance with Glee Club\nCommit to an artistic Sketchbook practice\nStrum along Guitar and learn new fingerpicking\nCreate your very own landscape felted wall hanging \nJoin us today at Nelson Studio 88 and step into a world of creativity and growth.
URL:https://www.wkartscouncil.com/event/youthful-seniors-art-music-classes-nelson-studio-88/
LOCATION:Nelson Studio 88\, 402 Victoria St.\, Nelson\, BC\, V1L 4K5\, Canada
CATEGORIES:Calendar,Community Events,Workshops
ATTACH;FMTTYPE=image/jpeg:https://genexsites.s3.ca-west-1.amazonaws.com/05/wp-content/uploads/sites/26/2024/03/20181834/YOUTHFUL-SENIOR-IN-LEARNING.jpg
ORGANIZER;CN="Nelson Studio 88":MAILTO:Info@nelsonstudio88.com
END:VEVENT
BEGIN:VEVENT
DTSTART;TZID=America/Vancouver:20240421T120000
DTEND;TZID=America/Vancouver:20240421T150000
DTSTAMP:20260422T230247
CREATED:20240312T185830Z
LAST-MODIFIED:20240421T190214Z
UID:6946-1713700800-1713711600@www.wkartscouncil.com
SUMMARY:Trash to Fashion FUNshop Workshop- Upcycled Fabric Boas and Costume Items
DESCRIPTION:Come celebrate Earth Day weekend by turning some trash into treasures!\nGather your paper and fabric scraps and come make featherless boas\, paper mache masks\, and other upcycled costume items with artist Myra Rasmussen.\nThis Haute Trash! event is meant to inspire your inner creative to come out and play with all manner of discarded fabric scraps and paper items and transform them into fun and wearable art.\nThis family-friendly workshop is for ages 12 years to adult. Younger family members must be accompanied by an adult.\nSpace is limited. Pre-registration is required. https://forms.gle/92tmfUfdeg4Scw67A\nCost: $25\nWorkshop participants will have the option to exhibit their creations at the Haute Trash! Trash Fashion Show Competition and Art Exhibition on June 15\, 2024\, at the Capitol Theatre.
URL:https://www.wkartscouncil.com/event/trash-to-fashion-funshop-workshop-upcycled-fabric-boas-and-costume-items/
LOCATION:Jam Factory Co-working Space\, 303 Vernon St.\, Nelson\, V1L4E3\, Canada
CATEGORIES:Calendar,Community Events,Workshops
ATTACH;FMTTYPE=image/jpeg:https://genexsites.s3.ca-west-1.amazonaws.com/05/wp-content/uploads/sites/26/2024/03/20181843/IMG_2277-5GaQUI.tmp_.jpg
ORGANIZER;CN="Marilyn Hatfield":MAILTO:hautetrashnelson@gmail.com
END:VEVENT
END:VCALENDAR