
BEGIN:VCALENDAR
VERSION:2.0
PRODID:-//West Kootenay Regional Arts Council - ECPv6.15.20//NONSGML v1.0//EN
CALSCALE:GREGORIAN
METHOD:PUBLISH
X-ORIGINAL-URL:https://www.wkartscouncil.com
X-WR-CALDESC:Events for West Kootenay Regional Arts Council
REFRESH-INTERVAL;VALUE=DURATION:PT1H
X-Robots-Tag:noindex
X-PUBLISHED-TTL:PT1H
BEGIN:VTIMEZONE
TZID:America/Edmonton
BEGIN:DAYLIGHT
TZOFFSETFROM:-0700
TZOFFSETTO:-0600
TZNAME:MDT
DTSTART:20230312T090000
END:DAYLIGHT
BEGIN:STANDARD
TZOFFSETFROM:-0600
TZOFFSETTO:-0700
TZNAME:MST
DTSTART:20231105T080000
END:STANDARD
BEGIN:DAYLIGHT
TZOFFSETFROM:-0700
TZOFFSETTO:-0600
TZNAME:MDT
DTSTART:20240310T090000
END:DAYLIGHT
BEGIN:STANDARD
TZOFFSETFROM:-0600
TZOFFSETTO:-0700
TZNAME:MST
DTSTART:20241103T080000
END:STANDARD
BEGIN:DAYLIGHT
TZOFFSETFROM:-0700
TZOFFSETTO:-0600
TZNAME:MDT
DTSTART:20250309T090000
END:DAYLIGHT
BEGIN:STANDARD
TZOFFSETFROM:-0600
TZOFFSETTO:-0700
TZNAME:MST
DTSTART:20251102T080000
END:STANDARD
END:VTIMEZONE
BEGIN:VTIMEZONE
TZID:America/Vancouver
BEGIN:DAYLIGHT
TZOFFSETFROM:-0800
TZOFFSETTO:-0700
TZNAME:PDT
DTSTART:20230312T100000
END:DAYLIGHT
BEGIN:STANDARD
TZOFFSETFROM:-0700
TZOFFSETTO:-0800
TZNAME:PST
DTSTART:20231105T090000
END:STANDARD
BEGIN:DAYLIGHT
TZOFFSETFROM:-0800
TZOFFSETTO:-0700
TZNAME:PDT
DTSTART:20240310T100000
END:DAYLIGHT
BEGIN:STANDARD
TZOFFSETFROM:-0700
TZOFFSETTO:-0800
TZNAME:PST
DTSTART:20241103T090000
END:STANDARD
BEGIN:DAYLIGHT
TZOFFSETFROM:-0800
TZOFFSETTO:-0700
TZNAME:PDT
DTSTART:20250309T100000
END:DAYLIGHT
BEGIN:STANDARD
TZOFFSETFROM:-0700
TZOFFSETTO:-0800
TZNAME:PST
DTSTART:20251102T090000
END:STANDARD
END:VTIMEZONE
BEGIN:VEVENT
DTSTART;VALUE=DATE:20240404
DTEND;VALUE=DATE:20240514
DTSTAMP:20260422T140419
CREATED:20240321T210000Z
LAST-MODIFIED:20240321T210000Z
UID:6997-1712188800-1715644799@www.wkartscouncil.com
SUMMARY:Youthful Seniors Art & Music Classes - Nelson Studio 88
DESCRIPTION:At Nelson Studio 88\, we believe in the transformative power of creativity for all ages. Our adult and youthful seniors classes are designed for life long learners that are looking for creative outlets and connection with others. The beauty of the arts lies in its ability to stimulate various areas of the brain\, enhancing memory\, cognition\, and a sense of accomplishment and our classes open opportunities to meet like-minded people to play and learn alongside. \nSing and dance with Glee Club\nCommit to an artistic Sketchbook practice\nStrum along Guitar and learn new fingerpicking\nCreate your very own landscape felted wall hanging \nJoin us today at Nelson Studio 88 and step into a world of creativity and growth.
URL:https://www.wkartscouncil.com/event/youthful-seniors-art-music-classes-nelson-studio-88/
LOCATION:Nelson Studio 88\, 402 Victoria St.\, Nelson\, BC\, V1L 4K5\, Canada
CATEGORIES:Calendar,Community Events,Workshops
ATTACH;FMTTYPE=image/jpeg:https://genexsites.s3.ca-west-1.amazonaws.com/05/wp-content/uploads/sites/26/2024/03/20181834/YOUTHFUL-SENIOR-IN-LEARNING.jpg
ORGANIZER;CN="Nelson Studio 88":MAILTO:Info@nelsonstudio88.com
END:VEVENT
BEGIN:VEVENT
DTSTART;TZID=America/Vancouver:20240413T100000
DTEND;TZID=America/Vancouver:20240413T130000
DTSTAMP:20260422T140419
CREATED:20240409T165718Z
LAST-MODIFIED:20240413T174610Z
UID:7275-1713002400-1713013200@www.wkartscouncil.com
SUMMARY:Fun With Props Workshop
DESCRIPTION: 2024 Momentum Masterclass Workshop Series \n Fun With Props with Booth Milton (White Monkey Design)\nCOST:\n$30 General\n$25 for KSBI Members\n$20 for Students\nEmail lynn@kootenayfilm.com to sign up\nWHEN: Saturday April 13\, 2024\, 10am – 1pm PST\nWHERE: White Monkey Design\n805 Victoria St\, Nelson\, BC V1L 4L4\n.\n.\n.\nWHAT YOU’LL LEARN:\nThis workshop will give you an overview and introduction to the Props Department in the film industry. We’ll go over responsibilities and typical techniques used for prop building. Participants will have a hands-on look at examples from the art department and hero props from White Monkey’s extensive props collection. As well\, participants will get a mini tour of White Monkey’s mini prop building studio in Nelson (scaled-down from their original props house in Vancouver). The open discussion format will allow for any questions you have about working in props in film and the creative process\, to be answered by an industry professional with over 30+ years experience.\n.\n.\n.\nABOUT BOOTH:\nA renowned artist in the film industry\, Booth Milton has been creating and designing sci-fi\, steampunk\, pre-cowboy vintage\, and iron props for over 30 years. He is an expert in sculpting\, with a focus on science fiction and recycled art.\nEmily Carr 3D Studies graduate and sculptor of all things cool\, Booth has\ncollaborated in designs and engineering of many hero props for major sci fi and fantasy movies and TV series shot in Vancouver such as the Flash\, Arrow\, I-Robot\, Fantastic Four 1 and 2\, X Men 1 and 2\, Battlestar Galactica\, Stargate\, Night at the Museum 2\, Watchmen\, Sucker Punch\, Imaginarium of Dr Parnasis\, Eurika\, Chronicles of Riddeck\, Descendants 1 and 2\, White Fang 2 and countless Disney shows\, to name a few.\nHe founded White Monkey Design Inc. working alongside Jocelyn Banyard\, primarily to service the art\, movie\, retail\, museum and exhibit industries. The only ‘Dirty Studio’ serving Greater Vancouver until 2021\, known for mixing traditional techniques and materials with emerging cutting edge technology. After closing the Vancouver studio\, he now resides in Nelson\, BC and has created a mini studio that is home to his legacy of props making.\n‘His work shows a tremendous dexterity\, flexibility in the range of materials he can work in as well as an elegance and energy that simply radiates off each piece.’\n\nhttps://www.whitemonkeydesign.com/
URL:https://www.wkartscouncil.com/event/fun-with-props-workshop/
LOCATION:White Monkey Design\, 805 Victoria Street\, Nelson\, V1L 4L4
CATEGORIES:Calendar,Workshops
ATTACH;FMTTYPE=image/jpeg:https://genexsites.s3.ca-west-1.amazonaws.com/05/wp-content/uploads/sites/26/2024/04/20181737/436800630_10222182432263464_5225509825955286969_n-kOdH9W.tmp_.jpg
END:VEVENT
BEGIN:VEVENT
DTSTART;TZID=America/Vancouver:20240413T100000
DTEND;TZID=America/Vancouver:20240413T180000
DTSTAMP:20260422T140419
CREATED:20240408T180814Z
LAST-MODIFIED:20240408T180814Z
UID:7238-1713002400-1713031200@www.wkartscouncil.com
SUMMARY:Beginner Blacksmithing
DESCRIPTION:Forge your own Fire Pocker or Forge a Railway Spike into a Knife
URL:https://www.wkartscouncil.com/event/beginner-blacksmithing-2/
LOCATION:Boundary Museum and Archives\, 6145 Reservoir Road\, Grand Forks\, V0H 1H5
CATEGORIES:Calendar,Workshops
ORGANIZER;CN="Boundary Museum Society":MAILTO:info@boundarymuseum.com
END:VEVENT
BEGIN:VEVENT
DTSTART;TZID=America/Vancouver:20240413T130000
DTEND;TZID=America/Vancouver:20240413T150000
DTSTAMP:20260422T140419
CREATED:20240324T205951Z
LAST-MODIFIED:20240413T174633Z
UID:7042-1713013200-1713020400@www.wkartscouncil.com
SUMMARY:Faceless Dolls workshop series
DESCRIPTION:The Faceless Dolls campaign\, created by the Native Women’s Association of Canada\, was launched in March 2012 to raise awareness of missing and murdered Indigenous women and girls\, and of the impact this tragedy has on communities across Canada. The project builds on the work of Gloria Larocque’s ‘Aboriginal Angel Doll Project.’\n\nJoin Nelson Museum Social Justice Coordinator Lesley Garlow for free\, facilitated workshops to create your own faceless doll. You can attend one\, a few\, or all of the workshops\, and completed dolls will be on display in the Community Cabinets on the main floor of the Museum. This is a FREE program\, no registration is required\, and all materials will be supplied.
URL:https://www.wkartscouncil.com/event/faceless-dolls-workshop-series-3/
LOCATION:Nelson Museum\, Archives & Gallery\, 502 Vernon Street\, Nelson\, V1L 4E7\, Canada
CATEGORIES:Calendar,Exhibition/Speakers,Kid Friendly,LGBTQIA2S+,Workshops
ATTACH;FMTTYPE=image/jpeg:https://genexsites.s3.ca-west-1.amazonaws.com/05/wp-content/uploads/sites/26/2024/03/20181814/faceless-workshop-M6f1R2.tmp_.jpg
ORGANIZER;CN="Nelson Museum%2C Archives &amp%3B Gallery":MAILTO:info@nelsonmuseum.ca
END:VEVENT
END:VCALENDAR