
BEGIN:VCALENDAR
VERSION:2.0
PRODID:-//West Kootenay Regional Arts Council - ECPv6.15.20//NONSGML v1.0//EN
CALSCALE:GREGORIAN
METHOD:PUBLISH
X-ORIGINAL-URL:https://www.wkartscouncil.com
X-WR-CALDESC:Events for West Kootenay Regional Arts Council
REFRESH-INTERVAL;VALUE=DURATION:PT1H
X-Robots-Tag:noindex
X-PUBLISHED-TTL:PT1H
BEGIN:VTIMEZONE
TZID:America/Edmonton
BEGIN:DAYLIGHT
TZOFFSETFROM:-0700
TZOFFSETTO:-0600
TZNAME:MDT
DTSTART:20230312T090000
END:DAYLIGHT
BEGIN:STANDARD
TZOFFSETFROM:-0600
TZOFFSETTO:-0700
TZNAME:MST
DTSTART:20231105T080000
END:STANDARD
BEGIN:DAYLIGHT
TZOFFSETFROM:-0700
TZOFFSETTO:-0600
TZNAME:MDT
DTSTART:20240310T090000
END:DAYLIGHT
BEGIN:STANDARD
TZOFFSETFROM:-0600
TZOFFSETTO:-0700
TZNAME:MST
DTSTART:20241103T080000
END:STANDARD
BEGIN:DAYLIGHT
TZOFFSETFROM:-0700
TZOFFSETTO:-0600
TZNAME:MDT
DTSTART:20250309T090000
END:DAYLIGHT
BEGIN:STANDARD
TZOFFSETFROM:-0600
TZOFFSETTO:-0700
TZNAME:MST
DTSTART:20251102T080000
END:STANDARD
END:VTIMEZONE
BEGIN:VTIMEZONE
TZID:America/Vancouver
BEGIN:DAYLIGHT
TZOFFSETFROM:-0800
TZOFFSETTO:-0700
TZNAME:PDT
DTSTART:20230312T100000
END:DAYLIGHT
BEGIN:STANDARD
TZOFFSETFROM:-0700
TZOFFSETTO:-0800
TZNAME:PST
DTSTART:20231105T090000
END:STANDARD
BEGIN:DAYLIGHT
TZOFFSETFROM:-0800
TZOFFSETTO:-0700
TZNAME:PDT
DTSTART:20240310T100000
END:DAYLIGHT
BEGIN:STANDARD
TZOFFSETFROM:-0700
TZOFFSETTO:-0800
TZNAME:PST
DTSTART:20241103T090000
END:STANDARD
BEGIN:DAYLIGHT
TZOFFSETFROM:-0800
TZOFFSETTO:-0700
TZNAME:PDT
DTSTART:20250309T100000
END:DAYLIGHT
BEGIN:STANDARD
TZOFFSETFROM:-0700
TZOFFSETTO:-0800
TZNAME:PST
DTSTART:20251102T090000
END:STANDARD
END:VTIMEZONE
BEGIN:VEVENT
DTSTART;VALUE=DATE:20240404
DTEND;VALUE=DATE:20240514
DTSTAMP:20260422T123309
CREATED:20240321T210000Z
LAST-MODIFIED:20240321T210000Z
UID:6997-1712188800-1715644799@www.wkartscouncil.com
SUMMARY:Youthful Seniors Art & Music Classes - Nelson Studio 88
DESCRIPTION:At Nelson Studio 88\, we believe in the transformative power of creativity for all ages. Our adult and youthful seniors classes are designed for life long learners that are looking for creative outlets and connection with others. The beauty of the arts lies in its ability to stimulate various areas of the brain\, enhancing memory\, cognition\, and a sense of accomplishment and our classes open opportunities to meet like-minded people to play and learn alongside. \nSing and dance with Glee Club\nCommit to an artistic Sketchbook practice\nStrum along Guitar and learn new fingerpicking\nCreate your very own landscape felted wall hanging \nJoin us today at Nelson Studio 88 and step into a world of creativity and growth.
URL:https://www.wkartscouncil.com/event/youthful-seniors-art-music-classes-nelson-studio-88/
LOCATION:Nelson Studio 88\, 402 Victoria St.\, Nelson\, BC\, V1L 4K5\, Canada
CATEGORIES:Calendar,Community Events,Workshops
ATTACH;FMTTYPE=image/jpeg:https://genexsites.s3.ca-west-1.amazonaws.com/05/wp-content/uploads/sites/26/2024/03/20181834/YOUTHFUL-SENIOR-IN-LEARNING.jpg
ORGANIZER;CN="Nelson Studio 88":MAILTO:Info@nelsonstudio88.com
END:VEVENT
BEGIN:VEVENT
DTSTART;TZID=America/Vancouver:20240404T153000
DTEND;TZID=America/Vancouver:20240404T163000
DTSTAMP:20260422T123309
CREATED:20240108T202442Z
LAST-MODIFIED:20240403T180331Z
UID:6063-1712244600-1712248200@www.wkartscouncil.com
SUMMARY:Youth Workshop – Visual Exploration Club – Ages 15-18
DESCRIPTION:This bi-weekly club has a different theme per session. Participants will explore a variety of materials to gain confidence in their art making\, building a sketchbook to reflect their growth as an artist. Themes include: Watercolour\, Clay & 3D Art\, Repainting Thrifted Art\, and Paper Mosaic. \nWhen: Thursdays (bi-weekly) 3:30pm-4:30pm \nDuration:  Jan 11-May 16\, 2024 (No VEC club during Spring Break) \nAge: 15 – 18 \nClass fee: $80 for 9 classes (January – May); or $10 drop-in per youth \n\n\nWhere: \n\nVISAC Gallery – Under the red gallery awning\n1501 Cedar Ave\, Trail\nLower Level of Selkirk Building\n\n\n\n\n\n\n\n\n\n\n\n\nPlease email info@visacgallery.com with any questions.
URL:https://www.wkartscouncil.com/event/youth-workshop-visual-exploration-club-ages-15-18-6/
LOCATION:VISAC Gallery\, 1501 Cedar Avenue\, Trail\, V1R 2J5
CATEGORIES:Calendar,Kid Friendly,Workshops
ATTACH;FMTTYPE=image/png:https://genexsites.s3.ca-west-1.amazonaws.com/05/wp-content/uploads/sites/26/2023/12/20182145/VEC-Ad-2-1-WTURkM.tmp_.png
ORGANIZER;CN="VISAC Gallery":MAILTO:Info@visacgallery.com
END:VEVENT
BEGIN:VEVENT
DTSTART;TZID=America/Vancouver:20240404T173000
DTEND;TZID=America/Vancouver:20240404T193000
DTSTAMP:20260422T123309
CREATED:20240324T205952Z
LAST-MODIFIED:20240403T180331Z
UID:7035-1712251800-1712259000@www.wkartscouncil.com
SUMMARY:Faceless Dolls workshop series
DESCRIPTION:The Faceless Dolls campaign\, created by the Native Women’s Association of Canada\, was launched in March 2012 to raise awareness of missing and murdered Indigenous women and girls\, and of the impact this tragedy has on communities across Canada. The project builds on the work of Gloria Larocque’s ‘Aboriginal Angel Doll Project.’\n\nJoin Nelson Museum Social Justice Coordinator Lesley Garlow for free\, facilitated workshops to create your own faceless doll. You can attend one\, a few\, or all of the workshops\, and completed dolls will be on display in the Community Cabinets on the main floor of the Museum. This is a FREE program\, no registration is required\, and all materials will be supplied.
URL:https://www.wkartscouncil.com/event/faceless-dolls-workshop-series-4/
LOCATION:Nelson Museum\, Archives & Gallery\, 502 Vernon Street\, Nelson\, V1L 4E7\, Canada
CATEGORIES:Calendar,Exhibition/Speakers,Kid Friendly,LGBTQIA2S+,Workshops
ATTACH;FMTTYPE=image/jpeg:https://genexsites.s3.ca-west-1.amazonaws.com/05/wp-content/uploads/sites/26/2024/03/20181814/faceless-workshop-M6f1R2.tmp_.jpg
ORGANIZER;CN="Nelson Museum%2C Archives &amp%3B Gallery":MAILTO:info@nelsonmuseum.ca
END:VEVENT
END:VCALENDAR