
BEGIN:VCALENDAR
VERSION:2.0
PRODID:-//West Kootenay Regional Arts Council - ECPv6.15.20//NONSGML v1.0//EN
CALSCALE:GREGORIAN
METHOD:PUBLISH
X-ORIGINAL-URL:https://www.wkartscouncil.com
X-WR-CALDESC:Events for West Kootenay Regional Arts Council
REFRESH-INTERVAL;VALUE=DURATION:PT1H
X-Robots-Tag:noindex
X-PUBLISHED-TTL:PT1H
BEGIN:VTIMEZONE
TZID:America/Vancouver
BEGIN:DAYLIGHT
TZOFFSETFROM:-0800
TZOFFSETTO:-0700
TZNAME:PDT
DTSTART:20220313T100000
END:DAYLIGHT
BEGIN:STANDARD
TZOFFSETFROM:-0700
TZOFFSETTO:-0800
TZNAME:PST
DTSTART:20221106T090000
END:STANDARD
BEGIN:DAYLIGHT
TZOFFSETFROM:-0800
TZOFFSETTO:-0700
TZNAME:PDT
DTSTART:20230312T100000
END:DAYLIGHT
BEGIN:STANDARD
TZOFFSETFROM:-0700
TZOFFSETTO:-0800
TZNAME:PST
DTSTART:20231105T090000
END:STANDARD
BEGIN:DAYLIGHT
TZOFFSETFROM:-0800
TZOFFSETTO:-0700
TZNAME:PDT
DTSTART:20240310T100000
END:DAYLIGHT
BEGIN:STANDARD
TZOFFSETFROM:-0700
TZOFFSETTO:-0800
TZNAME:PST
DTSTART:20241103T090000
END:STANDARD
END:VTIMEZONE
BEGIN:VEVENT
DTSTART;TZID=America/Vancouver:20231130T153000
DTEND;TZID=America/Vancouver:20231130T163000
DTSTAMP:20260422T230357
CREATED:20230928T183208Z
LAST-MODIFIED:20231130T223129Z
UID:4910-1701358200-1701361800@www.wkartscouncil.com
SUMMARY:Visual Exploration Club – Teen (15-18)
DESCRIPTION:This bi-weekly club encourages creative growth and exploration\, with supportive and themed topics that allow for participants to develop their own visual identity. Instructor\, Erin Shuttleworth\, focuses on a process-based practice\, so she will help encourage members to experiment\, research and make mistakes\, leading to new and exciting outcomes as the year progresses.  \nWhen: Thursdays (bi-weekly) 3:30pm-4:30pm  \nDuration:  \nFall session: Sept 21-Dec 14  \nWinter session: Jan 11-May 16  \nAge: 15 – 18 \nClass fee: $150 for 17 classes (September – May); or $10 drop-in per youth
URL:https://www.wkartscouncil.com/event/visual-exploration-club-teen-15-18-3/
LOCATION:VISAC Gallery\, 1501 Cedar Avenue\, Trail\, V1R 2J5
CATEGORIES:Calendar,Workshops
ATTACH;FMTTYPE=image/jpeg:https://genexsites.s3.ca-west-1.amazonaws.com/05/wp-content/uploads/sites/26/2023/09/20182338/IMG_5116-2-tQ62WI.tmp_.jpg
ORGANIZER;CN="VISAC Gallery":MAILTO:Info@visacgallery.com
END:VEVENT
END:VCALENDAR