
BEGIN:VCALENDAR
VERSION:2.0
PRODID:-//West Kootenay Regional Arts Council - ECPv6.15.20//NONSGML v1.0//EN
CALSCALE:GREGORIAN
METHOD:PUBLISH
X-WR-CALNAME:West Kootenay Regional Arts Council
X-ORIGINAL-URL:https://www.wkartscouncil.com
X-WR-CALDESC:Events for West Kootenay Regional Arts Council
REFRESH-INTERVAL;VALUE=DURATION:PT1H
X-Robots-Tag:noindex
X-PUBLISHED-TTL:PT1H
BEGIN:VTIMEZONE
TZID:America/Vancouver
BEGIN:DAYLIGHT
TZOFFSETFROM:-0800
TZOFFSETTO:-0700
TZNAME:PDT
DTSTART:20250309T100000
END:DAYLIGHT
BEGIN:STANDARD
TZOFFSETFROM:-0700
TZOFFSETTO:-0800
TZNAME:PST
DTSTART:20251102T090000
END:STANDARD
BEGIN:DAYLIGHT
TZOFFSETFROM:-0800
TZOFFSETTO:-0700
TZNAME:PDT
DTSTART:20260308T100000
END:DAYLIGHT
BEGIN:STANDARD
TZOFFSETFROM:-0700
TZOFFSETTO:-0800
TZNAME:PST
DTSTART:20261101T090000
END:STANDARD
BEGIN:DAYLIGHT
TZOFFSETFROM:-0800
TZOFFSETTO:-0700
TZNAME:PDT
DTSTART:20270314T100000
END:DAYLIGHT
BEGIN:STANDARD
TZOFFSETFROM:-0700
TZOFFSETTO:-0800
TZNAME:PST
DTSTART:20271107T090000
END:STANDARD
END:VTIMEZONE
BEGIN:VEVENT
DTSTART;TZID=America/Vancouver:20260309T180000
DTEND;TZID=America/Vancouver:20260309T200000
DTSTAMP:20260420T152339
CREATED:20260209T195013Z
LAST-MODIFIED:20260209T195013Z
UID:23638-1773079200-1773086400@www.wkartscouncil.com
SUMMARY:Winlaw - Year-Long Plant Dye Journey
DESCRIPTION:Join Tracy Fillion and Stefania Zwirello with the West Kootenay Fibreshed for a year-long plant dye journey focused on working seasonally with natural dyes. This in-person program meets once a month and offers participants the opportunity to build skills gradually while exploring a wide range of dye plants and processes over the course of a full year. \nThis cohort-based format allows for continuity\, shared learning\, and deeper engagement with plant dye practices as the seasons change. \nDates: One Monday a month for one year\, starting March 9\, 2026\nTime: 6:00 to 8:00 PM\nLocation: Slocan Valley Threads Guild\, Winlaw
URL:https://www.wkartscouncil.com/event/year-long-plant-dye/
LOCATION:Slocan Valley Threads Guild\,\, 7112 Perrys Back Road\, Winlaw\, V0G 2J0
CATEGORIES:Art,Calendar,Workshops
ATTACH;FMTTYPE=image/png:https://genexsites.s3.ca-west-1.amazonaws.com/05/wp-content/uploads/sites/26/2026/02/09114724/Year-Long-Plant-Dye-Journey-ThreadsGuild_InstaPost-1.png
ORGANIZER;CN="West Kootenay Fibreshed":MAILTO:info@westkootenayfibreshed.com
END:VEVENT
BEGIN:VEVENT
DTSTART;TZID=America/Vancouver:20260312T180000
DTEND;TZID=America/Vancouver:20260312T200000
DTSTAMP:20260420T152339
CREATED:20260305T222742Z
LAST-MODIFIED:20260305T222742Z
UID:25308-1773338400-1773345600@www.wkartscouncil.com
SUMMARY:Revelstoke - VINYL ANIMATION WORKSHOP
DESCRIPTION:VINYL ANIMATION WORKSHOP\nHosted by Annabel \nDiscover the basics of animation in this hands-on\, creative workshop. Participants will learn step by step how to create a simple walk cycle by handpainting on a vinyl! Don’t worry we will give you a template to follow along! This playful introduction to animation focuses on movement\, storytelling\, and experimentation—no prior experience needed. \nThursday\, March 12 | 6pm – 8pm\nRVAC Jailhouse Studio\, 320 Wilson st.\nAdults\n$45 per person\, all materials included
URL:https://www.wkartscouncil.com/event/revelstoke-vinyl-animation-workshop/
LOCATION:Revelstoke Visual Arts Centre\, 320 Wilson Street\, Revelstoke\, V0E 2S0
CATEGORIES:Art,Calendar,Workshops
ATTACH;FMTTYPE=image/png:https://genexsites.s3.ca-west-1.amazonaws.com/05/wp-content/uploads/sites/26/2026/03/05142546/rvac-vinyl.png
ORGANIZER;CN="Revelstoke Visual Arts Centre":MAILTO:info@revelstokeartgallery.ca
END:VEVENT
BEGIN:VEVENT
DTSTART;TZID=America/Vancouver:20260313T180000
DTEND;TZID=America/Vancouver:20260313T180000
DTSTAMP:20260420T152339
CREATED:20260224T173712Z
LAST-MODIFIED:20260224T174058Z
UID:24851-1773424800-1773424800@www.wkartscouncil.com
SUMMARY:Nelson - LOOT: Orienting to Matter; Day 1
DESCRIPTION:A three-day symposium in Nelson and Kaslo featuring Kootenay and Okanagan artists and writers known as the Ten Thieves Artist Collective runs from March 13 to 15 will include panels\, workshops\, a keynote talk and an art exhibition all centered on exploring humanity’s current relationship to matter.\n“Our relationship with matter which includes the elements that support our existence have been taken for granted\,” said LOOT curator Deborah Thompson\, a Nelson artist. “The symposium will focus on examining and re-imagining our attitudes towards matter\, and the stories we tell that shape this vital relationship.” \n“LOOT: Orienting to Matter\,” the symposium will begin with a keynote address by UBC Okanagan feminist environmental and humanities professor Astrida Neimanis at 6 p.m. March 13 at the Nelson Museum\, Archives and Gallery\, 502 Vernon St. \nThe event’s panels and workshops will be held March 14 and 15 at the Langham Cultural Centre\, 447 A Ave.\, Kaslo\, starting at 10 am each day.\nAn art exhibition of new works by the Ten Thieves Artist Collective – Susan Andrews Grace\, Eimear Laffan\, Carol Wallace\, Jim Holyoak\, Genevieve Robertson\, Hildur Jonasson\, Maggie Shirley\, Marnie Temple and Deborah Thompson – will be on display at the Langham from March 7 to May 8. \nAdmission to LOOT’s events is free or by donation.\nRegistration is encouraged for the workshops\, which include drawing\, poetry\, making art with natural materials. There will also be a lakeshore geology and hydrofeminsim walk.\nRegistration information and a detailed agenda for the symposium are at https://thelangham.ca
URL:https://www.wkartscouncil.com/event/loot-day-1/
LOCATION:Nelson Museum\, Archives & Gallery\, 502 Vernon Street\, Nelson\, V1L 4E7\, Canada
CATEGORIES:Art,Calendar,Exhibition/Speakers,Workshops
ATTACH;FMTTYPE=image/jpeg:https://genexsites.s3.ca-west-1.amazonaws.com/05/wp-content/uploads/sites/26/2026/02/24093243/loot-orienting-to-matter-genevieve-robertson.jpg
ORGANIZER;CN="Ten Thieves Artist Collective":MAILTO:zwadi@telus.net
END:VEVENT
BEGIN:VEVENT
DTSTART;VALUE=DATE:20260314
DTEND;VALUE=DATE:20260316
DTSTAMP:20260420T152339
CREATED:20260224T173947Z
LAST-MODIFIED:20260224T173947Z
UID:24855-1773446400-1773619199@www.wkartscouncil.com
SUMMARY:Kaslo - LOOT: Orienting to Matter; Days 2 & 3
DESCRIPTION:A three-day symposium in Nelson and Kaslo featuring Kootenay and Okanagan artists and writers known as the Ten Thieves Artist Collective runs from March 13 to 15 will include panels\, workshops\, a keynote talk and an art exhibition all centered on exploring humanity’s current relationship to matter.\n“Our relationship with matter which includes the elements that support our existence have been taken for granted\,” said LOOT curator Deborah Thompson\, a Nelson artist. “The symposium will focus on examining and re-imagining our attitudes towards matter\, and the stories we tell that shape this vital relationship.” \n“LOOT: Orienting to Matter\,” the symposium will begin with a keynote address by UBC Okanagan feminist environmental and humanities professor Astrida Neimanis at 6 p.m. March 13 at the Nelson Museum\, Archives and Gallery\, 502 Vernon St. \nThe event’s panels and workshops will be held March 14 and 15 at the Langham Cultural Centre\, 447 A Ave.\, Kaslo\, starting at 10 am each day.\nAn art exhibition of new works by the Ten Thieves Artist Collective – Susan Andrews Grace\, Eimear Laffan\, Carol Wallace\, Jim Holyoak\, Genevieve Robertson\, Hildur Jonasson\, Maggie Shirley\, Marnie Temple and Deborah Thompson – will be on display at the Langham from March 7 to May 8. \nAdmission to LOOT’s events is free or by donation.\nRegistration is encouraged for the workshops\, which include drawing\, poetry\, making art with natural materials. There will also be a lakeshore geology and hydrofeminsim walk.\nRegistration information and a detailed agenda for the symposium are at https://thelangham.ca
URL:https://www.wkartscouncil.com/event/loot-day-2-3/
LOCATION:The Langham\, 447 A Avenue\, Kaslo\, BC\, V0G 1M0\, Canada
CATEGORIES:Art,Calendar,Exhibition/Speakers,Workshops
ATTACH;FMTTYPE=image/jpeg:https://genexsites.s3.ca-west-1.amazonaws.com/05/wp-content/uploads/sites/26/2026/02/24093243/loot-orienting-to-matter-genevieve-robertson.jpg
ORGANIZER;CN="Ten Thieves Artist Collective":MAILTO:zwadi@telus.net
END:VEVENT
BEGIN:VEVENT
DTSTART;TZID=America/Vancouver:20260314T130000
DTEND;TZID=America/Vancouver:20260314T150000
DTSTAMP:20260420T152339
CREATED:20260112T213910Z
LAST-MODIFIED:20260112T213957Z
UID:22754-1773493200-1773500400@www.wkartscouncil.com
SUMMARY:Winlaw: Flax to Linen Workshop
DESCRIPTION:Explore the full journey of flax from plant to fibre to linen. \nJoin us for a hands-on workshop that brings the ancient craft of linen-making to life. Participants will learn how flax\, a plant well-suited to our bioregion\, is transformed into soft\, strong raw linen through traditional hand-processing techniques. All flax used in this workshop was grown in our community plot this year \nYou’ll have the opportunity to try your hand at breaking\, scutching\, and hackling flax\, learn about its cultivation and cultural history in the Kootenays\, and explore how this plant fits into our regional fibre system today. \nThe tools used in these workshops are hand-crafted by local artisan Scott Fettes\, using locally sourced wood and traditional joinery. Their creation was made possible through generous support from Columbia Basin Trust and Kootenay Savings Credit Union\, helping us build a shared legacy of regional flax processing. \nThese workshops are part of our Flax to Linen Program\, a regional initiative connecting communities across the West Kootenays to reimagine the potential of locally grown fibre crops. By learning together\, we’re helping build the foundation for a bioregional linen economy rooted in soil health\, community collaboration\, and regenerative practice. \nNo experience is required. All materials and tools are provided. \nNote: Members receive 10% off all workshops. Look for your discount code in your inbox. If you cannot find it in your inbox or spam folder\, please contact info@westkootenayfibreshed.com \n$45 – $55 sliding scale tickets.
URL:https://www.wkartscouncil.com/event/winlaw-flax-to-linen/
LOCATION:Slocan Valley Threads Guild\,\, 7112 Perrys Back Road\, Winlaw\, V0G 2J0
CATEGORIES:Art,Calendar,Workshops
ATTACH;FMTTYPE=image/png:https://genexsites.s3.ca-west-1.amazonaws.com/05/wp-content/uploads/sites/26/2026/01/12133647/Flax-to-Linen-Workshop-Winlaw_InstaPost.png
ORGANIZER;CN="West Kootenay Fibreshed":MAILTO:info@westkootenayfibreshed.com
END:VEVENT
BEGIN:VEVENT
DTSTART;TZID=America/Vancouver:20260314T160000
DTEND;TZID=America/Vancouver:20260314T180000
DTSTAMP:20260420T152339
CREATED:20260305T223101Z
LAST-MODIFIED:20260305T223101Z
UID:25314-1773504000-1773511200@www.wkartscouncil.com
SUMMARY:Revelstoke - Origami Workshop
DESCRIPTION:ORIGAMI WORKSHOP\nHosted by Milene Mochizuki \nLearn the Art of Origiami with Milene! In this hands-on workshop you will explore the traditional Japanese art of paper folding and learn to create Origami models. This workshop is the perfect opportunity to learn a something new\, enjoy a relaxing creative activity\, and bring home some beautiful art! \nSaturday\, March 14\, 4pm to 6pm\nRVAC Kitchen Studio Studio – 320 Wilson Street\n$40 – Materials Provided
URL:https://www.wkartscouncil.com/event/rvacorigami/
LOCATION:Revelstoke Visual Arts Centre\, 320 Wilson Street\, Revelstoke\, V0E 2S0
CATEGORIES:Art,Calendar,Workshops
ATTACH;FMTTYPE=image/png:https://genexsites.s3.ca-west-1.amazonaws.com/05/wp-content/uploads/sites/26/2026/03/05142908/rvac-origami.png
ORGANIZER;CN="Revelstoke Visual Arts Centre":MAILTO:info@revelstokeartgallery.ca
END:VEVENT
BEGIN:VEVENT
DTSTART;TZID=America/Vancouver:20260321T130000
DTEND;TZID=America/Vancouver:20260321T150000
DTSTAMP:20260420T152339
CREATED:20260302T214240Z
LAST-MODIFIED:20260302T214240Z
UID:25169-1774098000-1774105200@www.wkartscouncil.com
SUMMARY:Creston - SkillShare Saturdays – Sketchbook & Collage Club
DESCRIPTION:  \nCollage Club is back with a sketchbook twist! \nStarting with an old book\, we’ll use collage elements\, paint\, and whatever else we want to create a sketchbook or visual diary. Join us for an opportunity for free creative play! \nAll supplies provided! No registration required. \nThis is an adult programming event\, but children accompanied by a participating adult are very welcome to attend. \nThis is the last session in a three-part series of collage events. \n 
URL:https://www.wkartscouncil.com/event/sketchbook-collage-club/
LOCATION:Creston Valley Public Library\, 531 16 Ave S\, Creston\, BC\, V0B 1G5
CATEGORIES:Art,Calendar,Community Events,Workshops
ATTACH;FMTTYPE=image/jpeg:https://genexsites.s3.ca-west-1.amazonaws.com/05/wp-content/uploads/sites/26/2026/03/02133839/Sketchbook-Collage-Club-3.jpg
ORGANIZER;CN="Creston Valley Public Library":MAILTO:programs@crestonlibrary.com
END:VEVENT
BEGIN:VEVENT
DTSTART;TZID=America/Vancouver:20260321T130000
DTEND;TZID=America/Vancouver:20260321T150000
DTSTAMP:20260420T152339
CREATED:20260305T232131Z
LAST-MODIFIED:20260305T232131Z
UID:25327-1774098000-1774105200@www.wkartscouncil.com
SUMMARY:Revelstoke - CHOPSTICK WORKSHOP
DESCRIPTION:CHOPSTICK WORKSHOP\nHosted by Ken Talbot \nJoin us in the RVAC Woodshop for a fun and hands-on woodworking experience! In this two-hour workshop\, you’ll learn to craft two sets of chopsticks under the guidance of local woodworker and wholesome hero Ken Talbot. No experience necessary — just bring your curiosity and enthusiasm. \nSaturday\, March 21\n1pm – 3pm\n$30 – All Materials Provided\nRVAC Woodshop\, 320 Wilson st.\nNo experience necessary
URL:https://www.wkartscouncil.com/event/revelstoke-chopstick-workshop/
LOCATION:Revelstoke Visual Arts Centre\, 320 Wilson Street\, Revelstoke\, V0E 2S0
CATEGORIES:Art,Calendar,Workshops
ATTACH;FMTTYPE=image/png:https://genexsites.s3.ca-west-1.amazonaws.com/05/wp-content/uploads/sites/26/2026/03/05152000/chopstick.png
END:VEVENT
BEGIN:VEVENT
DTSTART;TZID=America/Vancouver:20260324T180000
DTEND;TZID=America/Vancouver:20260324T203000
DTSTAMP:20260420T152339
CREATED:20260305T231847Z
LAST-MODIFIED:20260305T232240Z
UID:25324-1774375200-1774384200@www.wkartscouncil.com
SUMMARY:Revelstoke - LINOCUT WORKSHOP
DESCRIPTION:LINOCUT WORKSHOP\nHosted by Kira Makela \nExplore the art of linocut printmaking and create expressive prints in this engaging\, hands-on workshop. Ideal for individuals of all skill levels\, this class is designed for those who want to grasp the fundamentals of relief printmaking\, with no prior experience required. \nTuesday\, March 24 6:00pm – 8:30pm\nRVAC Printmaking Studio\, 320 Wilson Street\nAdults\n$50 All materials included\nGain hands-on experience that will empower you to continue your printmaking journey at home. Open to adults\, all necessary materials will be provided. Don’t miss this fantastic opportunity to socialize\, acquire a new skill\, and thrive in a supportive and creative atmosphere!
URL:https://www.wkartscouncil.com/event/rvac-linocut-workshop/
LOCATION:Revelstoke Visual Arts Centre\, 320 Wilson Street\, Revelstoke\, V0E 2S0
CATEGORIES:Art,Calendar,Workshops
ATTACH;FMTTYPE=image/png:https://genexsites.s3.ca-west-1.amazonaws.com/05/wp-content/uploads/sites/26/2026/03/05151724/LINOCUT.png
ORGANIZER;CN="Revelstoke Visual Arts Centre":MAILTO:info@revelstokeartgallery.ca
END:VEVENT
END:VCALENDAR