
BEGIN:VCALENDAR
VERSION:2.0
PRODID:-//West Kootenay Regional Arts Council - ECPv6.15.20//NONSGML v1.0//EN
CALSCALE:GREGORIAN
METHOD:PUBLISH
X-ORIGINAL-URL:https://www.wkartscouncil.com
X-WR-CALDESC:Events for West Kootenay Regional Arts Council
REFRESH-INTERVAL;VALUE=DURATION:PT1H
X-Robots-Tag:noindex
X-PUBLISHED-TTL:PT1H
BEGIN:VTIMEZONE
TZID:America/Edmonton
BEGIN:DAYLIGHT
TZOFFSETFROM:-0700
TZOFFSETTO:-0600
TZNAME:MDT
DTSTART:20240310T090000
END:DAYLIGHT
BEGIN:STANDARD
TZOFFSETFROM:-0600
TZOFFSETTO:-0700
TZNAME:MST
DTSTART:20241103T080000
END:STANDARD
BEGIN:DAYLIGHT
TZOFFSETFROM:-0700
TZOFFSETTO:-0600
TZNAME:MDT
DTSTART:20250309T090000
END:DAYLIGHT
BEGIN:STANDARD
TZOFFSETFROM:-0600
TZOFFSETTO:-0700
TZNAME:MST
DTSTART:20251102T080000
END:STANDARD
BEGIN:DAYLIGHT
TZOFFSETFROM:-0700
TZOFFSETTO:-0600
TZNAME:MDT
DTSTART:20260308T090000
END:DAYLIGHT
BEGIN:STANDARD
TZOFFSETFROM:-0600
TZOFFSETTO:-0700
TZNAME:MST
DTSTART:20261101T080000
END:STANDARD
END:VTIMEZONE
BEGIN:VTIMEZONE
TZID:America/Vancouver
BEGIN:DAYLIGHT
TZOFFSETFROM:-0800
TZOFFSETTO:-0700
TZNAME:PDT
DTSTART:20240310T100000
END:DAYLIGHT
BEGIN:STANDARD
TZOFFSETFROM:-0700
TZOFFSETTO:-0800
TZNAME:PST
DTSTART:20241103T090000
END:STANDARD
BEGIN:DAYLIGHT
TZOFFSETFROM:-0800
TZOFFSETTO:-0700
TZNAME:PDT
DTSTART:20250309T100000
END:DAYLIGHT
BEGIN:STANDARD
TZOFFSETFROM:-0700
TZOFFSETTO:-0800
TZNAME:PST
DTSTART:20251102T090000
END:STANDARD
BEGIN:DAYLIGHT
TZOFFSETFROM:-0800
TZOFFSETTO:-0700
TZNAME:PDT
DTSTART:20260308T100000
END:DAYLIGHT
BEGIN:STANDARD
TZOFFSETFROM:-0700
TZOFFSETTO:-0800
TZNAME:PST
DTSTART:20261101T090000
END:STANDARD
END:VTIMEZONE
BEGIN:VEVENT
DTSTART;TZID=America/Edmonton:20250823T090000
DTEND;TZID=America/Edmonton:20250823T120000
DTSTAMP:20260421T045626
CREATED:20250820T215547Z
LAST-MODIFIED:20250820T215547Z
UID:18750-1755939600-1755950400@www.wkartscouncil.com
SUMMARY:Intro to Plein Air Workshop with Jaye Benoit at Red Bird Estate Winery
DESCRIPTION:Enjoy a beautiful morning drawing and painting amongst the vines of Red Bird Estate Winery with Jaye Benoit\, proprietress of Yellowbird School of Art. Learn how to compose your image\, simplify detail\, and create space in your landscapes. We’ll start with a few drawn or painted sketches and work our way into a finished work. Suitable for students with some experience in drawing or painting and brave beginners! Bring a snack picnic and enjoy a glass of wine or cider while you work (available for purchase at 11am). Tickets are $70. More info here: https://www.yellowbirdschool.ca/service-page/intro-to-plein-air-red-bird-winery-2?referral=service_list_widget
URL:https://www.wkartscouncil.com/event/intro-to-plein-air-workshop-with-jaye-benoit-at-red-bird-estate-winery/
LOCATION:Red Bird Estate Winery\, 1046 Lamont Rd\, Creston\, BC\, V0B 1G1
CATEGORIES:Calendar,Workshops
ATTACH;FMTTYPE=image/avif:https://genexsites.s3.ca-west-1.amazonaws.com/05/wp-content/uploads/sites/26/2025/08/20174408/5decf3_e09fd21561584667930231070477c614mv2.jpg.avif
END:VEVENT
BEGIN:VEVENT
DTSTART;TZID=America/Vancouver:20250824T110000
DTEND;TZID=America/Vancouver:20250824T123000
DTSTAMP:20260421T045626
CREATED:20250618T170209Z
LAST-MODIFIED:20250824T225453Z
UID:17001-1756033200-1756038600@www.wkartscouncil.com
SUMMARY:Any Body Can Sing on Soul’s Paradise Beach
DESCRIPTION:Explore your voice Vocal Technique Play Games Sing with others Learn a group song Gain knowledge on vocal health.
URL:https://www.wkartscouncil.com/event/any-body-can-sing-on-souls-paradise-beach/
LOCATION:Soul’s Paradise\, 16961 Pilot Bay Road\, Kootenay Bay\, BC\, Canada
CATEGORIES:Calendar,Community Events,Kid Friendly,Workshops
ATTACH;FMTTYPE=image/jpeg:https://genexsites.s3.ca-west-1.amazonaws.com/05/wp-content/uploads/sites/26/2025/06/20174521/bella-3vrq9E.jpg
END:VEVENT
END:VCALENDAR