
BEGIN:VCALENDAR
VERSION:2.0
PRODID:-//West Kootenay Regional Arts Council - ECPv6.15.20//NONSGML v1.0//EN
CALSCALE:GREGORIAN
METHOD:PUBLISH
X-ORIGINAL-URL:https://www.wkartscouncil.com
X-WR-CALDESC:Events for West Kootenay Regional Arts Council
REFRESH-INTERVAL;VALUE=DURATION:PT1H
X-Robots-Tag:noindex
X-PUBLISHED-TTL:PT1H
BEGIN:VTIMEZONE
TZID:America/Vancouver
BEGIN:DAYLIGHT
TZOFFSETFROM:-0800
TZOFFSETTO:-0700
TZNAME:PDT
DTSTART:20240310T100000
END:DAYLIGHT
BEGIN:STANDARD
TZOFFSETFROM:-0700
TZOFFSETTO:-0800
TZNAME:PST
DTSTART:20241103T090000
END:STANDARD
BEGIN:DAYLIGHT
TZOFFSETFROM:-0800
TZOFFSETTO:-0700
TZNAME:PDT
DTSTART:20250309T100000
END:DAYLIGHT
BEGIN:STANDARD
TZOFFSETFROM:-0700
TZOFFSETTO:-0800
TZNAME:PST
DTSTART:20251102T090000
END:STANDARD
BEGIN:DAYLIGHT
TZOFFSETFROM:-0800
TZOFFSETTO:-0700
TZNAME:PDT
DTSTART:20260308T100000
END:DAYLIGHT
BEGIN:STANDARD
TZOFFSETFROM:-0700
TZOFFSETTO:-0800
TZNAME:PST
DTSTART:20261101T090000
END:STANDARD
END:VTIMEZONE
BEGIN:VTIMEZONE
TZID:America/Edmonton
BEGIN:DAYLIGHT
TZOFFSETFROM:-0700
TZOFFSETTO:-0600
TZNAME:MDT
DTSTART:20240310T090000
END:DAYLIGHT
BEGIN:STANDARD
TZOFFSETFROM:-0600
TZOFFSETTO:-0700
TZNAME:MST
DTSTART:20241103T080000
END:STANDARD
BEGIN:DAYLIGHT
TZOFFSETFROM:-0700
TZOFFSETTO:-0600
TZNAME:MDT
DTSTART:20250309T090000
END:DAYLIGHT
BEGIN:STANDARD
TZOFFSETFROM:-0600
TZOFFSETTO:-0700
TZNAME:MST
DTSTART:20251102T080000
END:STANDARD
BEGIN:DAYLIGHT
TZOFFSETFROM:-0700
TZOFFSETTO:-0600
TZNAME:MDT
DTSTART:20260308T090000
END:DAYLIGHT
BEGIN:STANDARD
TZOFFSETFROM:-0600
TZOFFSETTO:-0700
TZNAME:MST
DTSTART:20261101T080000
END:STANDARD
END:VTIMEZONE
BEGIN:VEVENT
DTSTART;TZID=America/Vancouver:20250709T160000
DTEND;TZID=America/Vancouver:20250709T193000
DTSTAMP:20260421T064941
CREATED:20250701T170827Z
LAST-MODIFIED:20250701T170827Z
UID:17467-1752076800-1752089400@www.wkartscouncil.com
SUMMARY:Dance Exploration Workshop at the Harris Ranch - with Rachel Harris  
DESCRIPTION:SLAC is please to coordinate the Nikkei Art Excursions this summer. Come join this unique dance exploration workshop in the scenic fields of the Harris Ranch—with contemporary dancer and teacher Rachel Harris accompanied by Paul “Garbanzo” Gibbons playing the bamboo flutes. Rachel Harris will guide participants in a dance exploration over her family’s ranch\, combined with storytelling of the land and the role it played during the Internment of Japanese Canadians. \nRachel Harris is a professional dancer now based in Montreal with family roots in the Slocan. She has collaborated with over thirty choreographers in a career that has taken her around the globe. Rachel also guides movement workshops in women’s shelters in Montreal as part of Dance Against Violence. \nLocation: Meet at top of Harris Road between Silverton & New Denver BC \nCost: $40-75 sliding scale for members | $50-75 sliding scale for non-members. To register https://www.slocanlakeartscouncil.ca/events/upcoming/nikkei-dance-exploration-2025 \nIncluded: some light snacks\, cool water and 40% discount on a ticket for Nikkei Internment Memorial Centre (NIMC). \nParticipants: Open to all\, 12 years and older. Mixed abilities are welcome though participants should be comfortable walking. Max 25 participants. \nBring: water\, snacks\, sun & rain protection\, comfortable walking shoes and a blanket or chair if you like.
URL:https://www.wkartscouncil.com/event/dance-exploration-workshop-at-the-harris-ranch-with-rachel-harris/
LOCATION:The Harris Ranch\, New Denver\, New Denver\, V0G 1S0
CATEGORIES:Calendar,Workshops
ATTACH;FMTTYPE=image/jpeg:https://genexsites.s3.ca-west-1.amazonaws.com/05/wp-content/uploads/sites/26/2025/07/20174455/Nikkei-FB-poster-2025-Rachel.jpg
ORGANIZER;CN="Slocan Lake Arts Council":MAILTO:slocanlakeartscouncil@gmail.com
END:VEVENT
BEGIN:VEVENT
DTSTART;TZID=America/Edmonton:20250712T190000
DTEND;TZID=America/Edmonton:20250712T210000
DTSTAMP:20260421T064941
CREATED:20250616T170130Z
LAST-MODIFIED:20250616T170130Z
UID:16944-1752346800-1752354000@www.wkartscouncil.com
SUMMARY:Glacier Watercolour Workshop
DESCRIPTION:Glacier Watercolour Workshop | Parks Canada\nHosted by Lara Davis\nPaint the Glaciers with Us!\nAs part of the Parks Canada Glacier Festival\, we’re excited to partner with Parks Canada to offer a special Glacier Watercolour Workshop at the Revelstoke Visual Arts Centre. \nJoin us for a creative evening where you’ll learn how to paint icy blues\, snowy textures\, and the beauty of alpine landscapes using watercolour. Whether you’re an experienced artist or a total beginner\, this workshop is for everyone. \nSaturday\, July 12\n7:00 pm – 9:00 pm\nRVAC Kitchen Studio\n$35 All Materials Provided\nAges 16+\nCome solo or bring a friend — no experience necessary. We look forward to seeing you there!\nRegister on our website: https://revelstokeartgallery.ca/education/
URL:https://www.wkartscouncil.com/event/glacier-watercolour-workshop/
LOCATION:Revelstoke Visual Arts Centre\, 320 Wilson Street\, Revelstoke\, V0E 2S0
CATEGORIES:Calendar,Community Events,Workshops
ATTACH;FMTTYPE=image/jpeg:https://genexsites.s3.ca-west-1.amazonaws.com/05/wp-content/uploads/sites/26/2025/06/20174531/3.jpg
ORGANIZER;CN="Revelstoke Visual Arts Centre":MAILTO:info@revelstokeartgallery.ca
END:VEVENT
BEGIN:VEVENT
DTSTART;VALUE=DATE:20250717
DTEND;VALUE=DATE:20250718
DTSTAMP:20260421T064941
CREATED:20250618T172152Z
LAST-MODIFIED:20250618T172152Z
UID:17040-1752710400-1752796799@www.wkartscouncil.com
SUMMARY:Castlegar Community Drumming Experience
DESCRIPTION:Set free your inner rhythm\, connect with your community\, and let the beat move you! \nWelcome to the Castlegar Community Drumming Experience! With support from the Columbia Kootenay Cultural Alliance\, Rhythm by Nature brings you a fully interactive and immersive drumming event\, for the whole community\, at the Kootenay Gallery of Art History & Science\, Castlegar. \nNo drumming experience is needed and all the instruments are provided. \nProfessionally facilitated\, participants will learn about and experiment with different drums and drumming techniques from all around the world. You’ll experience a fun and inclusive drumming workshop\, but that’s only the beginning! \nHere are a number of reasons why this event is for you: \nGroup drumming is an effective way to reduce stress and negative emotions\nYou’re pulled into the present moment which induces deep relaxation\nIt provides a sense of empowerment and self-confidence\nIt is a powerful and positive way to connect with your local community\nIt can reduce chronic pain & boost the immune system\nYour body and mind align with the natural world and your inner nature\nYou’re offered a non-verbal communicative tool to express and connect\nIt provides a foundation for personal transformation and growth\nOh\, and it’s a whole lot of fun!\nDiscounts are offered when you buy three or more tickets!\nInstruments are provided but feel free to bring your own.\nA little about Rhythm By Nature and your facilitator\, Patrick Carrick: \nPatrick is a certified ‘Circles of Rhythm’ master facilitator\, endorsed REMO Rhythm Wellness & You provider\, professional percussionist\, and music educator. Patrick has a passion for bringing people together through the power of rhythm and has worked within a wide variety of musical genres and ensembles. \nPatrick founded Rhythm by Nature in 2016 and it has since become a popular mainstay in BC’s Kootenay region\, offering a variety of programs and events that promote community connection\, wellness\, social development\, and creativity. \nPatrick’s affection for music and drumming has taken him all around the world\, finally growing roots in the Columbia Valley. After completing three levels of facilitation training with the nationally acclaimed ‘Circles Of Rhythm’ & internationally recognized Rhythm2Recovery\, Patrick has been hosting community drumming events throughout the Columbia Basin. Rhythm by Nature has earned a reputation for its positive community impact and inclusive approach to group drumming. \nThanks to the support of the Columbia Kootenay Cultural Alliance\, Rhythm By Nature is touring the entire Columbia Basin during the spring of 2025 with the intention of demonstrating the many benefits that come from the Integrative Community Drum Circle. \nAn Important Distinction: \nRhythm By Nature follows the ‘Integrative Community Drum Circle (ICDC)’ methodology. This means that our drumming is not based on any ethnospecific traditions\, cultures\, or rhythms. The ICDC employs a multicultural approach so that the experience is accessible to everyone. It’s about celebrating our diversity\, creativity\, and playfulness. Our drums are from all around the world but do not hold any limiting cultural or ceremonial significance. Our instruments are of premium quality and are made from 100% recycled wood fibre. \nFamilies are most welcome. We find that very young children have trouble holding attention for the whole session\, so we kindly ask that children of all ages be responsibly supervised for the enjoyment of all.: ) If you’re interested in a session designed specifically for young people\, we offer programs for schools and youth events of all kinds! \nWe would like to thank the Columbia Kootenay Cultural Alliance for their support and the Kootenay Gallery of Art History & Science for hosting.
URL:https://www.wkartscouncil.com/event/castlegar-community-drumming-experience/
LOCATION:Kootenay Gallery of Art\, 120 Heritage Way\, Castlegar\, BC\, V1N 4M5\, Canada
CATEGORIES:Calendar,Workshops
ATTACH;FMTTYPE=image/jpeg:https://genexsites.s3.ca-west-1.amazonaws.com/05/wp-content/uploads/sites/26/2025/06/20174519/IMG_0252-scaled.jpg
ORGANIZER;CN="Rhythm By Nature":MAILTO:info@rhythmbynature.ca
END:VEVENT
BEGIN:VEVENT
DTSTART;TZID=America/Vancouver:20250718T170000
DTEND;TZID=America/Vancouver:20250720T220000
DTSTAMP:20260421T064941
CREATED:20250531T011019Z
LAST-MODIFIED:20250719T004819Z
UID:16018-1752858000-1753048800@www.wkartscouncil.com
SUMMARY:Starbelly Jam Music Festival
DESCRIPTION:NOT TOO BIG\, NOT TOO SMALL…\n\n\n\n\n\n\n\n\nStarbelly Jam is a special festival; great entertainment\, great food\, great people\, lots of happy kids and room to play — we’ve deliberately steered the festival away from getting too big or becoming too crowded; this festival’s success is all about the celebration of life through music\, friendship and having a fun time for all in a safe and secure environment.
URL:https://www.wkartscouncil.com/event/starbelly-jam-music-festival-3/
LOCATION:Crawford Bay
CATEGORIES:Art,Calendar,Comedy,Community Events,Exhibition/Speakers,Kid Friendly,Live Performance,Markets/Festival,Workshops
ORGANIZER;CN="Starbelly Jam":MAILTO:info@starbellyjam.org
END:VEVENT
BEGIN:VEVENT
DTSTART;TZID=America/Vancouver:20250728T090000
DTEND;TZID=America/Vancouver:20250728T170000
DTSTAMP:20260421T064941
CREATED:20250718T174622Z
LAST-MODIFIED:20250729T003321Z
UID:17966-1753693200-1753722000@www.wkartscouncil.com
SUMMARY:NELSON : Marketing for Hippies 101 Daylong Workshop – Live
DESCRIPTION:This Pay What You Can (PWYC) workshop offers ways to get clients that are deeply respectful\, trauma-informed\, and conscience-driven.\nMarketing can feel good.\nThat’s the premise of this workshop.You don’t need to sell your soul to sell your work.Too much marketing (even by savvy\, conscious entrepreneurs) creates either no response or seems “over-hyped” and triggers a “used car salesman” reaction.In short\, it feels awful.Since 2001\, I have traveled around North America & Europe working with conscious entrepreneurs just like you. Some successful\, others struggling. And I’ve gathered quite the assortment of success stories and strategies right from the horses’ mouths.This workshop is my best distillation and collection of those practices and stories.This workshop is for those who know they need to market but who hate marketing.You don’t have to choose between ethics and effectiveness.You can sell successfully and sleep soundly.\nIn general\, here’s who this workshop is for:Most of the folks who’ve come are service providers of some kind: in the Healing Arts or a Holistic Practitioner\, a Therapist\, Massage Therapist or Body-worker\, Yoga Instructor\, Herbalist\, Shamanic Practitioner\, Life-Coach\, Meditation Teacher etc. But I’ve also had crafters\, farmers and permaculture folks and they’ve loved it too. Everyone is welcome.\nIn this workshop you will learn how to:-Apply the Seven Fundamentals of the Marketing for Hippies approach (Space\, Ethics\, Niching\, Point of View Marketing\, Business Model\, Hub Marketing\, and Sharing).-Get more word-of-mouth and attract more of the clients you want (without ever sacrificing your integrity or spending a fortune).-Apply my best core ethical marketing strategies on how to market your business in a way that’s genuinely good-vibes\, deeply respectful\, trauma-informed\, consent-based\, conscience-driven\, courteous\, and that honours the dignity of everyone involved (including you).– Market your beautiful work beautifully – in a way that makes the world better.-Market with no fake scripts\, no pitching\, no inauthentic self-promotion\, no high-pressure sales tactics\, no manipulating anyone and make sure your marketing gets a positive response and creates warm feelings of trust.This is marketing you’ll actually do.My name is Tad Hargrave and I want to invite you to come and join us for this day-long workshop\, my signature event that I call Marketing for Hippies 101.PRICE: $25 deposit + Pay What You Want at the End.What does this mean?You pay $25 to secure your spot.And then you get to enjoy the workshop and\, at the very end\, you can pay me whatever you’d like to pay.It’s an honest-to-goodness\, decide-at-the-end\, no funny business\, pay-what-you-can/want deal.OR: Pay a flat $300 market value fee for the workshop upfront. If that feels good and convenient for you\, please choose this option. It’s something that’s been requested a number of times so I’m trying it out\, but either way is fine by me.\nIMPORTANT: CANCELLATIONSThese events often sell out. If you cancel last minute\, no-show\, or leave early please remember that someone who could have attended for the entire day could have had your space. If you aren’t committed to coming\, please wait until the last minute to see if any spots are available to someone planning to be there for the full day.\nWHAT TO BRING:– Pen and paper \, or a fresh document on your computer.– Payment: I prefer cash. Otherwise\, please be prepared to send me your PWYC fee at the end of the workshop. I’ll send you an email with a link to a payment button to make this payment online via PayPal or credit card.\nSCHEDULE:This day is mostly hands-on exercises\, reflection groups and Q&A based as you learn the core content of my approach to marketing.MORNING: Three Hours of Workshop (fifteen minute break halfway through)LUNCH: 90 MinutesAFTERNOON: Three and a Half Hours (fifteen minute break halfway through)\nSo that’s it.If you have any questions\, feel free to email us at mfhtour@gmail.com otherwise I hope to see you there.Stay Human\,Tad HargraveFounder\, marketingforhippies.com\nPS: BONUS! When you register for this workshop you’ll get a copy of my ebook How to Start \, which sells for $20 USD on my website. This book is a practical and refreshing\, seven-step workbook to use when marketing feels gross and awkward (you can do it all in one lazy\, rainy afternoon and you’ll use it for the rest of the life of your business).How to Start is a tiny workbook about a little idea that could make a big difference in every piece of marketing you ever do from here on. Here’s the little idea: what if you made the heart of your marketing strategy about how your marketing feels to you and others?\nTESTIMONIALS: What People Are Saying About My Workshops:“Just watched the Marketing for Hippies 101 workshop from the Starter Kit. By FAR the best workshop I’ve ever done . I totally feel the weird pressure off of me and ideas are pouring in.“– Tricia Scott*“Thank you for your starter kit. It is really the first type of marketing that has felt good to me . I am so grateful that you share all of this content for free. As a new start up I wouldn’t be in a position to pay for all the information.”*“I want to thank you for your Starter Kit. I was feeling down\, doubting myself and your videos made me feel better straight away! I have so much debt from so many courses that were NOT a fit for me. ”– MMG*” I’ve learned and understood more about marketing in this workshop\, than I have done in years. “*” I learned more practical and useful marketing strategies in Tad’s one day workshop than I did in my five year university business degree. It’s been three months since I attended Marketing for Hippies 101 and I have been taking his practical advice to a “T”. I nearly sold out my 40 person retreat this past weekend\, have connected with several “hubs”\, and finally have a business model that is profitable. His workshop was like the magic comb I didn’t know was possible to straighten out the mess and just have a simple marketing strategy that actually fucking works.”– Garett Rokosh*“I’m already putting in a good 3 hours a week with free materials. I’ve got some momentum and you/your framework makes sense and I enjoy it and have made more progress than with $10k business coaching investments.”About Tad HargraveTad Hargrave is a hippy who developed a knack for marketing (and then learned to be a hippy again).Since 2001\, he has been weaving together strands of ethical marketing\, Waldorf School education\, a history in the performing arts\, local culture making\, anti-globalization activism\, an interest in his ancestral\, traditional cultures\, community building and supporting local economies into his work helping people create profitable businesses that are ethically grown while restoring the beauty of the marketplace.You can learn more about Tad and his work at marketingforhippies.com
URL:https://www.wkartscouncil.com/event/nelson-marketing-for-hippies-101-daylong-workshop-live/
LOCATION:Nelson & District Chamber of Commerce\, 91 Baker Street\, Nelson\, V1L4G8
CATEGORIES:Calendar,Exhibition/Speakers,Workshops
ATTACH;FMTTYPE=image/png:https://genexsites.s3.ca-west-1.amazonaws.com/05/wp-content/uploads/sites/26/2025/07/20174436/tad-hargrave-TC8oxL.png
END:VEVENT
END:VCALENDAR