
BEGIN:VCALENDAR
VERSION:2.0
PRODID:-//West Kootenay Regional Arts Council - ECPv6.15.20//NONSGML v1.0//EN
CALSCALE:GREGORIAN
METHOD:PUBLISH
X-ORIGINAL-URL:https://www.wkartscouncil.com
X-WR-CALDESC:Events for West Kootenay Regional Arts Council
REFRESH-INTERVAL;VALUE=DURATION:PT1H
X-Robots-Tag:noindex
X-PUBLISHED-TTL:PT1H
BEGIN:VTIMEZONE
TZID:America/Vancouver
BEGIN:DAYLIGHT
TZOFFSETFROM:-0800
TZOFFSETTO:-0700
TZNAME:PDT
DTSTART:20230312T100000
END:DAYLIGHT
BEGIN:STANDARD
TZOFFSETFROM:-0700
TZOFFSETTO:-0800
TZNAME:PST
DTSTART:20231105T090000
END:STANDARD
BEGIN:DAYLIGHT
TZOFFSETFROM:-0800
TZOFFSETTO:-0700
TZNAME:PDT
DTSTART:20240310T100000
END:DAYLIGHT
BEGIN:STANDARD
TZOFFSETFROM:-0700
TZOFFSETTO:-0800
TZNAME:PST
DTSTART:20241103T090000
END:STANDARD
BEGIN:DAYLIGHT
TZOFFSETFROM:-0800
TZOFFSETTO:-0700
TZNAME:PDT
DTSTART:20250309T100000
END:DAYLIGHT
BEGIN:STANDARD
TZOFFSETFROM:-0700
TZOFFSETTO:-0800
TZNAME:PST
DTSTART:20251102T090000
END:STANDARD
BEGIN:DAYLIGHT
TZOFFSETFROM:-0800
TZOFFSETTO:-0700
TZNAME:PDT
DTSTART:20260308T100000
END:DAYLIGHT
BEGIN:STANDARD
TZOFFSETFROM:-0700
TZOFFSETTO:-0800
TZNAME:PST
DTSTART:20261101T090000
END:STANDARD
END:VTIMEZONE
BEGIN:VTIMEZONE
TZID:America/Edmonton
BEGIN:DAYLIGHT
TZOFFSETFROM:-0700
TZOFFSETTO:-0600
TZNAME:MDT
DTSTART:20240310T090000
END:DAYLIGHT
BEGIN:STANDARD
TZOFFSETFROM:-0600
TZOFFSETTO:-0700
TZNAME:MST
DTSTART:20241103T080000
END:STANDARD
BEGIN:DAYLIGHT
TZOFFSETFROM:-0700
TZOFFSETTO:-0600
TZNAME:MDT
DTSTART:20250309T090000
END:DAYLIGHT
BEGIN:STANDARD
TZOFFSETFROM:-0600
TZOFFSETTO:-0700
TZNAME:MST
DTSTART:20251102T080000
END:STANDARD
BEGIN:DAYLIGHT
TZOFFSETFROM:-0700
TZOFFSETTO:-0600
TZNAME:MDT
DTSTART:20260308T090000
END:DAYLIGHT
BEGIN:STANDARD
TZOFFSETFROM:-0600
TZOFFSETTO:-0700
TZNAME:MST
DTSTART:20261101T080000
END:STANDARD
END:VTIMEZONE
BEGIN:VEVENT
DTSTART;TZID=America/Vancouver:20240808T190000
DTEND;TZID=America/Vancouver:20240808T210000
DTSTAMP:20260420T004344
CREATED:20240601T190717Z
LAST-MODIFIED:20240624T163157Z
UID:8334-1723143600-1723150800@www.wkartscouncil.com
SUMMARY:Drop in Art Nights | FREE
DESCRIPTION:Looking for a creative space to meet new people and make something? Have a project you’ve been meaning to work on? Join us for our free drop-in art nights! These relaxed evenings are open to everyone so bring your art supplies\, a drink\, a snack\, and come get creative! These evening are a fantastic way to make time for your art.  \nThe gallery will have some basic supplies on hand\, like scissors and brushes\, however artists are expected to be self sufficient and bring their own supplies. In the past participants have worked on everything from illustrations and paintings\, to fishing flies and mending projects. We welcome all forms of creative expression\, just please avoid brining any projects that are overly loud or smelly. \n– The second Thursday of the month 7pm – 9pm \n– June 13\, July 11\,  August 8\, & September 12 \n– The Revelstoke Visual Arts Centre\, Kitchen Studio\, 320 Wilson st \n– Entrance is via the undercover area on the left hand side of the building \n– Please leave the space clean for the next person \n– All welcome\, no bookings required
URL:https://www.wkartscouncil.com/event/drop-in-art-nights-free/
LOCATION:Revelstoke Visual Arts Centre\, 320 Wilson Street\, Revelstoke\, V0E 2S0
CATEGORIES:Calendar,Community Events,LGBTQIA2S+,Wellness
ORGANIZER;CN="Revelstoke Visual Arts Centre":MAILTO:info@revelstokeartgallery.ca
END:VEVENT
BEGIN:VEVENT
DTSTART;TZID=America/Vancouver:20240912T190000
DTEND;TZID=America/Vancouver:20240912T210000
DTSTAMP:20260420T004344
CREATED:20240614T185258Z
LAST-MODIFIED:20240624T163217Z
UID:8555-1726167600-1726174800@www.wkartscouncil.com
SUMMARY:Drop in Art Nights | FREE
DESCRIPTION:Looking for a creative space to meet new people and make something? Have a project you’ve been meaning to work on? Join us for our free drop-in art nights! These relaxed evenings are open to everyone so bring your art supplies\, a drink\, a snack\, and come get creative! These evening are a fantastic way to make time for your art.  \nThe gallery will have some basic supplies on hand\, like scissors and brushes\, however artists are expected to be self sufficient and bring their own supplies. In the past participants have worked on everything from illustrations and paintings\, to fishing flies and mending projects. We welcome all forms of creative expression\, just please avoid brining any projects that are overly loud or smelly. \n– The second Thursday of the month 7pm – 9pm \n– June 13\, July 11\,  August 8\, & September 12 \n– The Revelstoke Visual Arts Centre\, Kitchen Studio\, 320 Wilson st \n– Entrance is via the undercover area on the left hand side of the building \n– Please leave the space clean for the next person \n– All welcome\, no bookings required
URL:https://www.wkartscouncil.com/event/drop-in-art-nights-free-4/
LOCATION:Revelstoke Visual Arts Centre\, 320 Wilson Street\, Revelstoke\, V0E 2S0
CATEGORIES:Calendar,Community Events,LGBTQIA2S+,Wellness
ORGANIZER;CN="Revelstoke Visual Arts Centre":MAILTO:info@revelstokeartgallery.ca
END:VEVENT
BEGIN:VEVENT
DTSTART;TZID=America/Vancouver:20240919T190000
DTEND;TZID=America/Vancouver:20240919T210000
DTSTAMP:20260420T004344
CREATED:20240801T231218Z
LAST-MODIFIED:20240917T030908Z
UID:9571-1726772400-1726779600@www.wkartscouncil.com
SUMMARY:Crystal Journey In Nelson\, BC. Tagum Hall
DESCRIPTION:Thursday\, September 19thTaghum Hall5915 Taghum Hall RdNelson\, BC7:00-9:00pm$25/PersonTickets Available @\nhttps://www.taghumhall.ca/event-details/crystal-journey-with-david-hickey \nAnd At The Door\n\nBring Yoga Mat Or Blanket To Lie On\n\nWhat You Can Expect From Crystal Journey:\nThe show will take place in two 40 to 50 minute sets. David’s usual set up includes 6 Quartz Crystal Bowls\, 8 Paiste Planet Gongs\, 2 Persian Santoors & Harmonica.
URL:https://www.wkartscouncil.com/event/crystal-journey-in-nelson-bc-tagum-hall/
LOCATION:Taghum Hall\, 5915 Taghum Hall Rd\, Nelson\, V1L 6Y4
CATEGORIES:Calendar,Community Events,Kid Friendly,Live Performance,Wellness
ATTACH;FMTTYPE=image/jpeg:https://genexsites.s3.ca-west-1.amazonaws.com/05/wp-content/uploads/sites/26/2024/08/20180323/Nelson-web-lQABPj.tmp_.jpg
ORGANIZER;CN="Taghum Hall":MAILTO:taghumhall@shaw.ca
END:VEVENT
BEGIN:VEVENT
DTSTART;TZID=America/Vancouver:20241012T130000
DTEND;TZID=America/Vancouver:20241012T160000
DTSTAMP:20260420T004344
CREATED:20240920T163621Z
LAST-MODIFIED:20241010T200234Z
UID:9941-1728738000-1728748800@www.wkartscouncil.com
SUMMARY:Comedy Writing Workshop – “Laugh and Learn”: 30 writing methods
DESCRIPTION:24th Annual FunnyFest Comedy Writing Workshop – “Laugh and Learn”: 30 unique writing methods and receive feedback in a supportive and fun environment. The incredibly applied and practical course is taught by a life-time stand up comedian that has performed in over 2000 shows. FunnyFest 100% guarantees your writing\, inspiration and creative paradigm will improve! During the course you can eat and drink\, while you learn and have fun! FunnyFest will also throw in a 2 free tickets to attend a show (value $40 free). \nWHEN: Saturday\, OCTOBER 12 @ 1pm to 4pm. \nVENUE: Nelson Community Centre \nMore info & Buy Comedy WRITING Workshop: https://funnyfest-comedy-writing-workshop-Nelson-BC.eventbrite.ca
URL:https://www.wkartscouncil.com/event/comedy-writing-workshop-laugh-and-learn-30-writing-methods/
LOCATION:Nelson District Community Complex\, 305 Hall Street\, Nelson\, V1L 5X4\, Canada
CATEGORIES:Calendar,Community Events,Exhibition/Speakers,Food/Beverage,Kid Friendly,Live Performance,Wellness,Workshops
ATTACH;FMTTYPE=image/jpeg:https://genexsites.s3.ca-west-1.amazonaws.com/05/wp-content/uploads/sites/26/2024/09/20180243/Comedy-Writing-workshop-NELSON-KRX0qe.tmp_.jpg
ORGANIZER;CN="FunnyFest Society":MAILTO:tickets@funnyfest.com
END:VEVENT
BEGIN:VEVENT
DTSTART;TZID=America/Vancouver:20241213T183000
DTEND;TZID=America/Vancouver:20241213T203000
DTSTAMP:20260420T004344
CREATED:20241213T231624Z
LAST-MODIFIED:20241213T231624Z
UID:11161-1734114600-1734121800@www.wkartscouncil.com
SUMMARY:Community Song Circle
DESCRIPTION:Community Song Circle – BY DONATION\nFriday 13th December6.30pm – 8.30pm\n@Bindu Studio( 5676 Winlaw Bridge Rd )\nBY DONATION*Suggested $15 – $25*\nNo one turned away due to finances\nTo register your spote-mail yogamy108@gmail.com\nJoin Amy Heasman & Mark Parsons300hr Yoga Teacher & Vocalistas we celebrate & connect withsound & vocal expression.\n– Gentle Stretching– Vocal Warm Up & Toning– Vocal Chakra Activations– Community Song Circle\nBring along your yoga mat\,a cushion & a water bottle / tea
URL:https://www.wkartscouncil.com/event/community-song-circle/
LOCATION:Bindu Studio\, 5676 Winlaw Bridge Rd\, Winlaw\, BC\, V0G 2J0\, Canada
CATEGORIES:Calendar,Community Events,Wellness,Workshops
ATTACH;FMTTYPE=image/jpeg:https://genexsites.s3.ca-west-1.amazonaws.com/05/wp-content/uploads/sites/26/2024/12/20175836/css-dbu430.tmp_.jpg
ORGANIZER;CN="Fluid Soul Yoga":MAILTO:yogamy108@gmail.com
END:VEVENT
BEGIN:VEVENT
DTSTART;TZID=America/Vancouver:20241221T100000
DTEND;TZID=America/Vancouver:20241221T160000
DTSTAMP:20260420T004345
CREATED:20241213T231623Z
LAST-MODIFIED:20241221T194614Z
UID:11181-1734775200-1734796800@www.wkartscouncil.com
SUMMARY:Celebrate Winter Solstice (One Day Retreat)
DESCRIPTION:Join us at this potent time of the sun’s rebirth. We will be honouring our deep connection with nature\, inviting in the nurturing power of the Light and letting it shine out to others throughout the world. \nCombining movement and stillness we will be reflecting\, bringing together the opposites and connecting to the wisdom within. Tools such as the Divine Light Invocation\, visualizations\, meditations\, and gentle hatha yoga movements with reflection encourage a deeper understanding of your life’s path. Yoga is now– a perfect time to pause\, reflect and renew with insights about how you want to move forward with loving kindness which expands out to each other\, the planet and beyond.
URL:https://www.wkartscouncil.com/event/celebrate-winter-solstice-one-day-retreat/
LOCATION:Online
CATEGORIES:Calendar,Community Events,Online,Wellness,Workshops
ATTACH;FMTTYPE=image/jpeg:https://genexsites.s3.ca-west-1.amazonaws.com/05/wp-content/uploads/sites/26/2024/12/20175829/Heading-3-VST9nj.tmp_.jpg
END:VEVENT
BEGIN:VEVENT
DTSTART;TZID=America/Vancouver:20250101T110000
DTEND;TZID=America/Vancouver:20250101T123000
DTSTAMP:20260420T004345
CREATED:20241230T175840Z
LAST-MODIFIED:20250101T200232Z
UID:11295-1735729200-1735734600@www.wkartscouncil.com
SUMMARY:Nelson Polar Bear Swim
DESCRIPTION:The Polar Bear Swim is a fun event that brings together around 400 people every year. Happening on Wednesday\, Jan 1st with the plunge at noon. This is a fundraiser for Kootenay Co-op Radio and Friends of Kootenay Lake Stewardship Society. Head to https://nelsonpolarbearswim.com/ to sign up\, donate\, or find more info.
URL:https://www.wkartscouncil.com/event/nelson-polar-bear-swim/
LOCATION:Lakeside Park\, 1900 Lakeside Dr.\, Nelson\, V1L 5S4\, Canada
CATEGORIES:Calendar,Community Events,Kid Friendly,Sports,Wellness
ATTACH;FMTTYPE=image/jpeg:https://genexsites.s3.ca-west-1.amazonaws.com/05/wp-content/uploads/sites/26/2024/12/20175813/Happy-Holidays-from-your-favourite-Polar-Bear-compressed-1-scaled-0TMB2R.tmp_.jpg
ORGANIZER;CN="Kootenay Co-op Radio":MAILTO:info@kootenaycoopradio.com
END:VEVENT
BEGIN:VEVENT
DTSTART;TZID=America/Vancouver:20250221T090000
DTEND;TZID=America/Vancouver:20250221T210000
DTSTAMP:20260420T004345
CREATED:20250218T191447Z
LAST-MODIFIED:20250222T000114Z
UID:12008-1740128400-1740171600@www.wkartscouncil.com
SUMMARY:Kootenay Coldsmoke Powderfest
DESCRIPTION:Kootenay Coldsmoke Powderfest is an annual celebration of ski and snowboard culture. This grassroots flagship festival features clinics\, competitions\, and ski-themed arts and culture programming both in Nelson and at Whitewater. \nColdsmoke brings together a community with a shared passion for winter sport. Through a curated collection of competitions\, backcountry education\, arts and culture\, storytelling\, and clinics\, we aim to connect\, educate\, and inspire. \nIt’s a chance to expand your skills\, bridge connections\, and immerse yourself in the breathtaking landscape that surrounds us. The spirit of Coldsmoke stays with you long after the weekend ends. \nJoin us at Coldsmoke\, where the slopes are our canvas\, and the spirit of skiing and snowboarding takes center stage.
URL:https://www.wkartscouncil.com/event/kootenay-coldsmoke-powderfest-3/
LOCATION:Whitewater Ski Resort\, Whitewater Ski Hill Rd\, Nelson BC\, V1L 5R3\, Canada
CATEGORIES:Calendar,Exhibition/Speakers,Film,Food/Beverage,Markets/Festival,Sports,Wellness,Workshops
ORGANIZER;CN="Whitewater Ski Resort":MAILTO:events@skiwhitewater.com
END:VEVENT
BEGIN:VEVENT
DTSTART;TZID=America/Vancouver:20250222T083000
DTEND;TZID=America/Vancouver:20250222T210000
DTSTAMP:20260420T004345
CREATED:20250218T191446Z
LAST-MODIFIED:20250223T001614Z
UID:12015-1740213000-1740258000@www.wkartscouncil.com
SUMMARY:Kootenay Coldsmoke Powderfest
DESCRIPTION:Kootenay Coldsmoke Powderfest is an annual celebration of ski and snowboard culture. This grassroots flagship festival features clinics\, competitions\, and ski-themed arts and culture programming both in Nelson and at Whitewater. \nColdsmoke brings together a community with a shared passion for winter sport. Through a curated collection of competitions\, backcountry education\, arts and culture\, storytelling\, and clinics\, we aim to connect\, educate\, and inspire. \nIt’s a chance to expand your skills\, bridge connections\, and immerse yourself in the breathtaking landscape that surrounds us. The spirit of Coldsmoke stays with you long after the weekend ends. \nJoin us at Coldsmoke\, where the slopes are our canvas\, and the spirit of skiing and snowboarding takes center stage.
URL:https://www.wkartscouncil.com/event/kootenay-coldsmoke-powderfest-2/
LOCATION:Whitewater Ski Resort\, Whitewater Ski Hill Rd\, Nelson BC\, V1L 5R3\, Canada
CATEGORIES:Calendar,Exhibition/Speakers,Film,Food/Beverage,Markets/Festival,Sports,Wellness,Workshops
ORGANIZER;CN="Whitewater Ski Resort":MAILTO:events@skiwhitewater.com
END:VEVENT
BEGIN:VEVENT
DTSTART;TZID=America/Vancouver:20250223T080000
DTEND;TZID=America/Vancouver:20250223T150000
DTSTAMP:20260420T004345
CREATED:20250218T191225Z
LAST-MODIFIED:20250224T000145Z
UID:12024-1740297600-1740322800@www.wkartscouncil.com
SUMMARY:Kootenay Coldsmoke Powderfest
DESCRIPTION:Kootenay Coldsmoke Powderfest is an annual celebration of ski and snowboard culture. This grassroots flagship festival features clinics\, competitions\, and ski-themed arts and culture programming both in Nelson and at Whitewater. \nColdsmoke brings together a community with a shared passion for winter sport. Through a curated collection of competitions\, backcountry education\, arts and culture\, storytelling\, and clinics\, we aim to connect\, educate\, and inspire. \nIt’s a chance to expand your skills\, bridge connections\, and immerse yourself in the breathtaking landscape that surrounds us. The spirit of Coldsmoke stays with you long after the weekend ends. \nJoin us at Coldsmoke\, where the slopes are our canvas\, and the spirit of skiing and snowboarding takes center stage.
URL:https://www.wkartscouncil.com/event/kootenay-coldsmoke-powderfest/
LOCATION:Whitewater Ski Resort\, Whitewater Ski Hill Rd\, Nelson BC\, V1L 5R3\, Canada
CATEGORIES:Calendar,Exhibition/Speakers,Film,Food/Beverage,Markets/Festival,Sports,Wellness,Workshops
ORGANIZER;CN="Whitewater Ski Resort":MAILTO:events@skiwhitewater.com
END:VEVENT
BEGIN:VEVENT
DTSTART;TZID=America/Vancouver:20250307T183000
DTEND;TZID=America/Vancouver:20250307T210000
DTSTAMP:20260420T004345
CREATED:20250218T191224Z
LAST-MODIFIED:20250308T003125Z
UID:12054-1741372200-1741381200@www.wkartscouncil.com
SUMMARY:Zelene Rojo • An Arabic Oud & Bendir Cozy Concert
DESCRIPTION:Zelene Rojo is a Ukrainian-Argentinian musical project created by a duo of musicians\, Kateryna Melnyk and Bruno Bosio. With their original compositions and reversions of existing works\, they are inviting you to a journey through Northern Africa\, Arabian Peninsula\, South of Europe\, and even Asia. All those places where ancient oud was conquering the listeners hearts. \n“A musical journey exploring the different passageways of the soul\, invoking the mystique and sound depth that emanates and emerges between the woods and strings of instruments\, the voice\, an ancient drum beat\, and the modern sound that it has been transformed to”
URL:https://www.wkartscouncil.com/event/zelene-rojo-an-arabic-oud-bendir-cozy-concert/
LOCATION:SOMA Sound & Events\, 444 Baker St.\, Nelson BC
CATEGORIES:Calendar,Live Performance,Wellness
ATTACH;FMTTYPE=image/jpeg:https://genexsites.s3.ca-west-1.amazonaws.com/05/wp-content/uploads/sites/26/2025/02/20175637/https___cdn.evbuc_.com_images_948674173_1156911555283_1_original-VyuDED.tmp_.jpg
ORGANIZER;CN="SOMA Sound &amp%3B Events":MAILTO:somasoundstudio444@gmail.com
END:VEVENT
BEGIN:VEVENT
DTSTART;TZID=America/Vancouver:20250525T110000
DTEND;TZID=America/Vancouver:20250525T170000
DTSTAMP:20260420T004345
CREATED:20250224T235517Z
LAST-MODIFIED:20250525T203105Z
UID:12338-1748170800-1748192400@www.wkartscouncil.com
SUMMARY:Witches Spring Market
DESCRIPTION:Witch Market and interactive events!! May 25 2025 Taghum Hall 11-5\n\n*Tarot\, Palm and Oracle readers\, established locally as well as reputable readers from Kelowna.\n\n*Vendors that will put a spell on you with their witchy\, wacky and spiritual wears. Not your average market!!\n\n*Workshops every half an hour to drop in on and learn about Wicca 101\, How to set a crystal grid\, sacred smoking\, singing and breathing\, music and how to read palms.\n\nAll for $2 at the door
URL:https://www.wkartscouncil.com/event/witches-spring-market/
LOCATION:Taghum Hall\, 5915 Taghum Hall Rd\, Nelson\, V1L 6Y4
CATEGORIES:Art,Calendar,Community Events,Exhibition/Speakers,Food/Beverage,Kid Friendly,LGBTQIA2S+,Live Performance,Markets/Festival,Wellness,Workshops
ATTACH;FMTTYPE=image/png:https://genexsites.s3.ca-west-1.amazonaws.com/05/wp-content/uploads/sites/26/2025/02/20175614/2nd-Annual-Ad-poster-ZOgL7R.tmp_.png
END:VEVENT
BEGIN:VEVENT
DTSTART;VALUE=DATE:20250606
DTEND;VALUE=DATE:20250607
DTSTAMP:20260420T004345
CREATED:20250207T030212Z
LAST-MODIFIED:20250207T030212Z
UID:11722-1749168000-1749254399@www.wkartscouncil.com
SUMMARY:Earth Daughters Festival
DESCRIPTION:A 4 day wellness gathering for Wild Hearted Women.\n100+ workshops to curate your own journey.\nProfessional music & performances each day.\nMarket Place featuring Vendors Village & Healers Grove\nCatered Meal & Food Vendors \n‘Where we are restoring our true brilliance\,\nattuning to our innate intelligence and\nforging a way forward for the generations to come\nthat resides within deep reverence toward life.’
URL:https://www.wkartscouncil.com/event/earth-daughters-festival/
LOCATION:Golden\, BC
CATEGORIES:Calendar,Live Performance,Wellness,Workshops
ATTACH;FMTTYPE=image/jpeg:https://genexsites.s3.ca-west-1.amazonaws.com/05/wp-content/uploads/sites/26/2025/02/20175701/DSC01080.jpg
ORGANIZER;CN="Earth Daughters Collective":MAILTO:hello@earthdaughtersfestival.com
END:VEVENT
BEGIN:VEVENT
DTSTART;TZID=America/Vancouver:20250628T110000
DTEND;TZID=America/Vancouver:20250628T160000
DTSTAMP:20260420T004345
CREATED:20250618T170222Z
LAST-MODIFIED:20250629T001714Z
UID:16987-1751108400-1751126400@www.wkartscouncil.com
SUMMARY:Family Beach Party on Soul’s Paradise Beach
DESCRIPTION:Enjoy a family beach party/potluck 🙂 Lady V & Bass Cat will play classic hits and beats for all the family. Valéry & Sadie will teach a basic choreography so that everyone can dance together. Park on Pilot Bay Road. Bring a chair\, food & drinks. Free for everyone under 18 years old. $10/Adult
URL:https://www.wkartscouncil.com/event/family-beach-party-on-souls-paradise-beach/
LOCATION:Soul’s Paradise\, 16961 Pilot Bay Road\, Kootenay Bay\, BC\, Canada
CATEGORIES:Calendar,Kid Friendly,Live Performance,Markets/Festival,Wellness
ATTACH;FMTTYPE=image/jpeg:https://genexsites.s3.ca-west-1.amazonaws.com/05/wp-content/uploads/sites/26/2025/06/20174524/family-hfTctm.jpg
END:VEVENT
BEGIN:VEVENT
DTSTART;TZID=America/Edmonton:20251101T150000
DTEND;TZID=America/Edmonton:20251101T230000
DTSTAMP:20260420T004345
CREATED:20251031T061516Z
LAST-MODIFIED:20251031T175214Z
UID:20578-1762009200-1762038000@www.wkartscouncil.com
SUMMARY:Day of the Dead: A Cross-Cultural Celebration
DESCRIPTION:Join us for a very special Day of the Dead celebration\, a free\, family-friendly community event where we’ll honor tradition while embracing the richness of many cultures. Inspired by Día de Muertos\, this event brings together diverse practices of remembrance and celebration of life. \nWhat to Expect at the Day of the Dead Celebration \n✨ Mexico – Dia de Muertos\nInteractive altar. Arts & crafts while we share the meaning of this tradition. Plus\, live serenatas (serenades) will fill the space with music and remembrance. \n✨ Philippines – “Undas”\nExperience the Filipino tradition of Undas through a communal altar\, prayers\, and music. Participate in shared offerings\, hands-on crafts\, and enjoy a live performance of Dahil Sayo. \n✨ India – “Moksha”\n“Moksha” is a visual and interactive display of India’s diverse rituals of remembrance\, including storytelling\, a short talk\, and a participatory dance performance. \n✨ Celtic Roots – “From Samhain to Halloween”\nPresenter Shannon Silvermoon will explore Samhain’s ancient rituals and its transformation into Halloween. Participate in a short visualization\, ancestor offerings\, and intention-setting for the new year. \n✨ Reflections on Grief and Healing\nLed by death doula Leif\, this space invites us to reflect on loss\, grief\, and renewal. \n✨ Community Offerings \n-Food vendors & face painting \n-Performances by local & guest artists \n-A closing dance party with uplifting global beats \n📌 Save the date: Full schedule with times will be shared soon! \nEvent Schedule: \n-3:00 – 4:00 PM: Altars making & community gathering begin\, live Serenata from 3:30–4:00 PM & face painting & mini traditional food market open \n-4:00 – 4:10 PM: Land Acknowledgment\nby Rick Desautel \n-4:10 – 5:10 PM: Community Talk: “Grief\, Loss\, and Healing”by Leif Mjolsness \n-5:10 – 6:20 PM: Cultural Presentations:\nIreland – Origins of Halloween (5:10–5:30)\nIndia – Moska (5:30–5:40)\nMexico – Traditions + Activity (5:40–6:00)\nPhilippines – Heritage + Activity (6:00–6:20) \n-6:20 – 6:30 PM: Closing Remarks \n-6:30 – 7:00 PM: Dance Performances featuring:\nMiriam Martínez\, Slava Doval’s DanceFusion\, Sophie Barbaric\, Surya & Nino\, Tango group & Tapatia Collective \n-7:00 – 9:30 PM: Dance Party featuring\nDJ Mochilero & DJ Dubconscious \n-9:30 – 11:00 PM: Karaoke & Curated Playlist
URL:https://www.wkartscouncil.com/event/day-of-the-dead-2025/
LOCATION:The Eagles Hall\, 641 Baker St\, Nelson\, BC V1L 4J3\, Canada\, BC\, V1L 4J3\, Canada
CATEGORIES:Art,Calendar,Community Events,Exhibition/Speakers,Food/Beverage,Kid Friendly,Live Performance,Wellness,Workshops
ATTACH;FMTTYPE=image/jpeg:https://genexsites.s3.ca-west-1.amazonaws.com/05/wp-content/uploads/sites/26/2025/10/30231904/Day-of-the-Dead-Tapatia-2025.jpg
ORGANIZER;CN="Tapatia Collective":MAILTO:Info@tapatiacollective.com
END:VEVENT
END:VCALENDAR