
BEGIN:VCALENDAR
VERSION:2.0
PRODID:-//West Kootenay Regional Arts Council - ECPv6.15.20//NONSGML v1.0//EN
CALSCALE:GREGORIAN
METHOD:PUBLISH
X-WR-CALNAME:West Kootenay Regional Arts Council
X-ORIGINAL-URL:https://www.wkartscouncil.com
X-WR-CALDESC:Events for West Kootenay Regional Arts Council
REFRESH-INTERVAL;VALUE=DURATION:PT1H
X-Robots-Tag:noindex
X-PUBLISHED-TTL:PT1H
BEGIN:VTIMEZONE
TZID:America/Vancouver
BEGIN:DAYLIGHT
TZOFFSETFROM:-0800
TZOFFSETTO:-0700
TZNAME:PDT
DTSTART:20220313T100000
END:DAYLIGHT
BEGIN:STANDARD
TZOFFSETFROM:-0700
TZOFFSETTO:-0800
TZNAME:PST
DTSTART:20221106T090000
END:STANDARD
BEGIN:DAYLIGHT
TZOFFSETFROM:-0800
TZOFFSETTO:-0700
TZNAME:PDT
DTSTART:20230312T100000
END:DAYLIGHT
BEGIN:STANDARD
TZOFFSETFROM:-0700
TZOFFSETTO:-0800
TZNAME:PST
DTSTART:20231105T090000
END:STANDARD
BEGIN:DAYLIGHT
TZOFFSETFROM:-0800
TZOFFSETTO:-0700
TZNAME:PDT
DTSTART:20240310T100000
END:DAYLIGHT
BEGIN:STANDARD
TZOFFSETFROM:-0700
TZOFFSETTO:-0800
TZNAME:PST
DTSTART:20241103T090000
END:STANDARD
END:VTIMEZONE
BEGIN:VEVENT
DTSTART;TZID=America/Vancouver:20230908T080000
DTEND;TZID=America/Vancouver:20230910T190000
DTSTAMP:20260419T194037
CREATED:20230720T171230Z
LAST-MODIFIED:20230908T171754Z
UID:4198-1694160000-1694372400@www.wkartscouncil.com
SUMMARY:Mind.Body.Circus Retreat
DESCRIPTION:The Circus Acts Insomniacs are proud to present our second retreat\n\nMind. Body. Circus.\n——Wellness Retreat——-\n━━━━━━༻❁༺━━━━━━\nA weekend of Aerials\, Dance & Self Discovery\nSeptember 8th – 9th & 10th 2023 at Vallican Whole in Winlaw\, BC\n━━━━━━༻❁༺━━━━━━\nConnect\, ground yourself\, uncover your aerial incarnation through movement.\n━━━━━━༻❁༺━━━━━━\n\nOfferings include\,\nAerial Hoop\nAerial Silks\nAerial Trapeze\nAuthentic Movement Dance\nDance Workshop\nPartner Movement Workshop\nYoga\nSound Healing\nGuided Meditation\nMakeup class\nPerformance & Act development Workshop\nAs well as group development exercises and more!\n═══════☆═══════\nVegetarian Meals included for the weekend.\n═══════☆═══════\nCamping accommodations are included at Valhalla pines campground. Driving locally is also an option.\n═══════☆═══════\n$750 Investment for the whole weekend (all 3 days\, camping\, and meals included)\n═══════☆═══════\nNO AERIAL OR DANCE EXPERIENCE NECESSARY!\n═══════☆═══════\nFull Schedule TBA.\n\nTo register you can fill out the registration form here :\nhttps://www.circusactsinsomniacs.com/retreat
URL:https://www.wkartscouncil.com/event/mind-body-circus-retreat/
LOCATION:Vallican Whole Community Centre\, 3762 Little Slocan South Road\, Vallican\, British Columbia\, V0G2J0\, Canada
CATEGORIES:Calendar,Wellness,Workshops
ATTACH;FMTTYPE=image/jpeg:https://genexsites.s3.ca-west-1.amazonaws.com/05/wp-content/uploads/sites/26/2023/07/20182503/361627698_852995966376460_2928096804226298737_n-SI5Uth.tmp_.jpg
ORGANIZER;CN="The Circus Acts Insomniacs":MAILTO:info@circusactsinsomniacs.com
END:VEVENT
END:VCALENDAR