
BEGIN:VCALENDAR
VERSION:2.0
PRODID:-//West Kootenay Regional Arts Council - ECPv6.15.20//NONSGML v1.0//EN
CALSCALE:GREGORIAN
METHOD:PUBLISH
X-ORIGINAL-URL:https://www.wkartscouncil.com
X-WR-CALDESC:Events for West Kootenay Regional Arts Council
REFRESH-INTERVAL;VALUE=DURATION:PT1H
X-Robots-Tag:noindex
X-PUBLISHED-TTL:PT1H
BEGIN:VTIMEZONE
TZID:America/Vancouver
BEGIN:DAYLIGHT
TZOFFSETFROM:-0800
TZOFFSETTO:-0700
TZNAME:PDT
DTSTART:20250309T100000
END:DAYLIGHT
BEGIN:STANDARD
TZOFFSETFROM:-0700
TZOFFSETTO:-0800
TZNAME:PST
DTSTART:20251102T090000
END:STANDARD
BEGIN:DAYLIGHT
TZOFFSETFROM:-0800
TZOFFSETTO:-0700
TZNAME:PDT
DTSTART:20260308T100000
END:DAYLIGHT
BEGIN:STANDARD
TZOFFSETFROM:-0700
TZOFFSETTO:-0800
TZNAME:PST
DTSTART:20261101T090000
END:STANDARD
BEGIN:DAYLIGHT
TZOFFSETFROM:-0800
TZOFFSETTO:-0700
TZNAME:PDT
DTSTART:20270314T100000
END:DAYLIGHT
BEGIN:STANDARD
TZOFFSETFROM:-0700
TZOFFSETTO:-0800
TZNAME:PST
DTSTART:20271107T090000
END:STANDARD
END:VTIMEZONE
BEGIN:VEVENT
DTSTART;TZID=America/Vancouver:20260412T173000
DTEND;TZID=America/Vancouver:20260412T210000
DTSTAMP:20260422T145331
CREATED:20260407T215837Z
LAST-MODIFIED:20260407T215902Z
UID:26979-1776015000-1776027600@www.wkartscouncil.com
SUMMARY:Castlegar - Oots Open Mic ft. Jayne Karma Lamo & the Interbeings
DESCRIPTION:Monthly Open Mic with feature act. Saturday April 12th at Castlegar’s newest\, hippest venue… Come on out\, we’d love to see you perform\, watch\, dance or simply hang out… All arts disciplines welcomed.\nAll ages\, by donation event.\nLet’s go Castlegar/Oots and beyond!\nDoors open at 5:30pm\nMusic starts at 6:00pm\nFeature Act at 8:00pm \nFood and drinks available. \nThis month’s feature act: Jayne Karma Lamo and the Interbeings \nJayne Karma Lamo & The Interbeings are an emerging\, femme-fronted\, neuro-spicy Kootenay act playing all original post-grunge\, alt rock\, dream-pop / shoegaze\, with undertones reminiscent of The Cranberries\, PJ Harvey\, Emma Ruth Rundle\, Radiohead and Tool. Audiences are loving their unique & super tight sets\, and are utterly captivated by Jayne’s ethereal signature vocals\, emotional lyrical content\, and brain-tingling\, catchy melodies. Jayne is backed by Ryan Hagen on bass\, Steve Wilson / Lee Campese on drums\, and Nelson from Nelson on guitar – local Kootenay favourites\, and is planning to record another killer album this Spring with Juno award-winning producer Roger Swan. \nWebsite: https://jaynekarmalamo.com\nInstagram: https://www.instagram.com/jaynekarmalamo\nFacebook: https://www.facebook.com/jaynekarmalamo\nSpotify: https://open.spotify.com/artist/1QrONa5msW5C3taGeeSok6\nBandCamp: http://jaynekarmalamo.bandccamp.com/\nYoutube: https://www.youtube.com/@jaynekarmalamo
URL:https://www.wkartscouncil.com/event/oots-open-mic-ft-jayne/
LOCATION:Harry’s Hall\, 1119 Columbia Rd.\, Castlegar\, British Columbia\, V1N4L7\, Canada
CATEGORIES:Art,Calendar,Community Events,Live Performance,Music
ATTACH;FMTTYPE=image/png:https://genexsites.s3.ca-west-1.amazonaws.com/05/wp-content/uploads/sites/26/2026/04/07145611/oots-open-mic-castlegar-jayne.png
ORGANIZER;CN="SMG Endeavors":MAILTO:smgosselin80@gmail.com
END:VEVENT
BEGIN:VEVENT
DTSTART;TZID=America/Vancouver:20260410T200000
DTEND;TZID=America/Vancouver:20260410T220000
DTSTAMP:20260422T145331
CREATED:20260317T183841Z
LAST-MODIFIED:20260411T021846Z
UID:25869-1775851200-1775858400@www.wkartscouncil.com
SUMMARY:Castlegar - Queen City Burlesque Expo
DESCRIPTION:Queen City Burlesque Expo Returns for Its 7th Season with “Step Into Your Power” \nThree-Night Celebration Brings International Performers to the Kootenays\, April 11–13 \nCASTLEGAR/TRAIL/SALMO\, BC — The Queen City Burlesque Expo is back\, and this year it’s going silver. Now in its seventh season\, the landmark Kootenay burlesque event returns April 11–13 with a three-night run across Castlegar\, Trail\, and Salmo under the theme Step Into Your Power — a celebration of diversity\, personal strength\, and fearless self-expression. \nHeadlining this year’s Expo is the internationally acclaimed Jessabelle Thunder\, joined by Canadian icons Bettina May and Jezebel Express\, alongside performers from around the world converging on the region for one extraordinary weekend. Want to join in on the fun?\nCharacter-driven workshops covering movement\, modelling\, and personal discovery will be offered at Bailey Theatre on Saturday\, April 11th\, at $25 each and open to everyone. \nShow Schedule:\nFriday\, April 10 — Castle Theatre\, Castlegar | 8:00 PM\nSaturday\, April 11 — Charles Bailey Theatre\, Trail | 7:30 PM\nSunday\, April 12 — Salmo Hotel Pub & Grill\, Salmo | 12:00 PM \nTickets range from $17 to $45 (CAD) and are available now at queencityburlesque.ca. \n“The Kootenays deserve world-class live art\, and for seven years the Queen City Burlesque Expo has delivered exactly that. This season’s theme\, Step Into Your Power\, is an invitation to everyone in our community to show up\, be seen\, and celebrate what makes us distinct. We have an extraordinary lineup\, and I cannot wait to share it.” Venessa Loubert\, Founder and Artistic Director\, Queen City Burlesque Expo \nTrail business manager at Copper Magnolia\, Dana Gould\, echoes that sentiment: “The Expo is great for Trail and its surrounding area. It’s a fun crowd\, presenting phenomenal showcases\, and the influx of tourism during an otherwise quiet time of the year is a great reason to go out and support the show.” \nNow in its seventh year\, the Queen City Burlesque Expo has established itself as one of the Kootenays’ most distinctive live arts events\, drawing audiences and performers from across Canada and beyond. The Expo is produced by Trail Arts Council along with its Founder and Artistic Director\, a four-time Top 5 Canadian Burlesque Producer. \nThe weekend is sponsored by Trail & District Arts Council\, ReDi Grants\, Columbia Basin Trust\, British Columbia Arts Council\, Government of Canada\, South Kootenay\, and BC Live Performance Network. \nFor tickets and full event details\, visit queencityburlesque.ca.
URL:https://www.wkartscouncil.com/event/castlegar-qcb-expo/
LOCATION:Old Castle Theatre\, 185 Columbia Ave\, Castlegar
CATEGORIES:Art,Calendar,Dance,Live Performance,Music,Workshops
ATTACH;FMTTYPE=image/png:https://genexsites.s3.ca-west-1.amazonaws.com/05/wp-content/uploads/sites/26/2026/03/17111129/queen-city-burlesque.png
ORGANIZER;CN="Queen City Burlesque Expo":MAILTO:queencityexpo@gmail.com
END:VEVENT
BEGIN:VEVENT
DTSTART;TZID=America/Vancouver:20260327T190000
DTEND;TZID=America/Vancouver:20260327T190000
DTSTAMP:20260422T145331
CREATED:20260323T230221Z
LAST-MODIFIED:20260323T230340Z
UID:26162-1774638000-1774638000@www.wkartscouncil.com
SUMMARY:Castlegar - Groovy Tunes with TruckVanCar and Steve Marc
DESCRIPTION:  \nJoin us for an unforgettable evening at Harry’s Hall. Experience the energy\, the music\, and the community that makes every event special.\nGroovy Tunes with TruckVanCar and Steve Marc\nFriday\, March 27 – Doors at 7pm\, Music at 7:30\nHarry’s Hall\, 1119 Columbia Rd\, Castlegar\nAll Ages\, Licensed Event\n$20 Adults\, $10 Minors\nGet Your Tickets at https://harryshall.com/events \nGet ready to dance and groove the night away!!!\nTruckvancar is a soul-stirring fusion of reggae\, soul\, and rock ‘n’ roll\, born in the heart of a small mountain ski town. With roots as deep as the pines and grooves as fresh as a snowfall\, this five-piece band blends laid-back island rhythms with raw\, mountain-town grit. Their sound is equal parts sunset jam and backcountry bonfire — heartfelt\, high-energy\, and undeniably human. Whether you’re dancing barefoot in the grass or cruising mountain roads\, Truckvancar delivers the kind of music that makes you feel at home wherever you are.\nFacebook: https://www.facebook.com/TruckVanCar\nInstagram: https://www.instagram.com/truckvancar\nYouTube: https://www.youtube.com/@Truckvancar\nWebsite: https://truckvancarmusic.com/ \nSteve Marc is a high-vibrational world/reggae/funk fusion band from the Kootenays. They deliver soulful\, danceable grooves infused with messages of peace\, unity\, and healing. Feel good music that uplifts the spirit\, moves the body\, and opens the heart. Featuring a small but mighty horn section and luscious harmony background vocals\, Steve’s unique songwriting prowess will move you in more ways than one. This six piece band brings fun\, love and energy to the stage with creative arrangements of cover songs known and unknown\, mixed in with mostly original songs you will surely come to love.\nFacebook: https://www.facebook.com/stevemarcg\nInstagram: https://www.instagram.com/stevemarcmusic\nYouTube: https://www.youtube.com/@SteveMarcG\nWebsite: https://www.stevemarc.ca
URL:https://www.wkartscouncil.com/event/castlegar-groovy-tunes/
LOCATION:Harry’s Hall\, 1119 Columbia Rd.\, Castlegar\, British Columbia\, V1N4L7\, Canada
CATEGORIES:Calendar,Dance,Food/Beverage,Kid Friendly,Live Performance,Music
ATTACH;FMTTYPE=image/png:https://genexsites.s3.ca-west-1.amazonaws.com/05/wp-content/uploads/sites/26/2026/03/23155718/groovy-tunes.png
ORGANIZER;CN="Harry's Hall":MAILTO:info@harryshall.com
END:VEVENT
BEGIN:VEVENT
DTSTART;TZID=America/Vancouver:20260314T190000
DTEND;TZID=America/Vancouver:20260314T223000
DTSTAMP:20260422T145331
CREATED:20260311T185552Z
LAST-MODIFIED:20260311T185759Z
UID:25602-1773514800-1773527400@www.wkartscouncil.com
SUMMARY:Fruitvale - Dance away the winter blues with Swingsations
DESCRIPTION:Join Swingsations Big Band for an evening of live swing and jazz at the Fruitvale Memorial Hall on Friday\, March 14. The 18-piece band will be performing classic big band favorites along with lively dance tunes that keep the floor moving all night. \nWhether you’re an experienced swing dancer or just want to enjoy great live music\, everyone is welcome. Come out for a fun community evening filled with big band sound\, great rhythm\, and plenty of opportunity to dance. \nDoors open at 7:00 PM\, with music starting at 7:30 PM.
URL:https://www.wkartscouncil.com/event/dance-winter-swingsations/
LOCATION:fruitvale memorial hall\, 1968 Main St\, Fruitvale\, BC\, V0G 1L0\, Canada
CATEGORIES:Calendar,Community Events,Dance,Live Performance,Music
ATTACH;FMTTYPE=image/jpeg:https://genexsites.s3.ca-west-1.amazonaws.com/05/wp-content/uploads/sites/26/2026/03/11115048/SwingSations-14mar26-Poster-final.jpg
ORGANIZER;CN="Swingsations":MAILTO:swingsations.bigband@gmail.com
END:VEVENT
BEGIN:VEVENT
DTSTART;TZID=America/Vancouver:20260314T173000
DTEND;TZID=America/Vancouver:20260314T210000
DTSTAMP:20260422T145331
CREATED:20260311T184833Z
LAST-MODIFIED:20260311T184833Z
UID:25596-1773509400-1773522000@www.wkartscouncil.com
SUMMARY:Castlegar - Oots Open Mic featuring Tenise Marie
DESCRIPTION:  \nMonthly Open Mic with feature act. Saturday March 14h at Castlegar’s newest\, hippest venue… Come on out\, we’d love to see you perform\, watch\, dance or simply hang out… All arts disciplines welcomed.\nAll ages\, by donation event.\nLet’s go Castlegar/Oots and beyond! \nFood and drinks available by Feed Your Soul Foods. \nThis month’s feature act: Tenise Marie \nTenise Marie is a singer-songwriter and performer based in Nelson\, British Columbia. \nKnown for her luminous voice\, enchanting lyrics\, and melodies that transcend the expected\, her songs bridge tradition and innovation\, reflecting the confluence of her English\, French & Assyrian roots. \nHer latest album Off The Record was released in 2025 with support from Creative BC and The Province of British Columbia\, marking a vulnerable journey of reclaiming heritage and identity\, heavily inspired by her travels to Iraq’s Assyrian homeland\, supported by the Canada Council for the Arts.\nIn 2025\, Tenise toured her live show across BC\, with notable performances at festivals including Starbelly Jam (Crawford Bay) and Woodstove Festival (Cumberland)\, an official showcase at Pacific Contact (Vancouver)\, and a headlining concert at Key City Theatre (Cranbrook). \n“Tenise doesn’t just write songs – she documents the soul’s evolution. Her music has always reflected a deep curiosity and hunger for meaning\, and this new release continues this tradition with quiet grace”\n~ Mischa Plouffe\, Buzz Music\, Los Angeles \n“Watching Marie perform is an emotional experience…coming of age\, falling in love\, and exploring the world are just the surface level of inspiration in Marie’s pieces”\n~ Olivia Herring\, Music Mecca\, Nashville \nSounds like: Allison Russell\, Bedouine\, & Joan Baez \nhttps://www.tenisemariemusic.com/\nhttps://www.instagram.com/tenisemariemusic/\nhttps://www.facebook.com/tenisemariemusic/\nhttps://www.youtube.com/c/TeniseMarie
URL:https://www.wkartscouncil.com/event/oots-open-mic-tenise/
LOCATION:Harry’s Hall\, 1119 Columbia Rd.\, Castlegar\, British Columbia\, V1N4L7\, Canada
CATEGORIES:Art,Calendar,Community Events,Live Performance,Music
ATTACH;FMTTYPE=image/png:https://genexsites.s3.ca-west-1.amazonaws.com/05/wp-content/uploads/sites/26/2026/03/11101225/oots-open-mic-tenise.png
ORGANIZER;CN="SMG Endeavors":MAILTO:smgosselin80@gmail.com
END:VEVENT
BEGIN:VEVENT
DTSTART;TZID=America/Vancouver:20260307T190000
DTEND;TZID=America/Vancouver:20260307T210000
DTSTAMP:20260422T145331
CREATED:20260210T195702Z
LAST-MODIFIED:20260305T232709Z
UID:24297-1772910000-1772917200@www.wkartscouncil.com
SUMMARY:Balfour - Sapphire Guthrie and Tenise Marie in Concert
DESCRIPTION:Two local artists combine for an evening of music excellence \n7 – 9 pm \n8551 Busk Rd Balfour \n$20 \nTickets at Eddy Music in Nelson and Kootenay Crafted Artisan Shop in Balfour \nEvent website: Balfourchapel.org \n 
URL:https://www.wkartscouncil.com/event/balfour-sapphire-tenise/
LOCATION:Balfour: St Michaels and All angels Chapel and Performance Center (Balfour Chapel on Busk Rd.)\, 8551 Busk Rd\, Balfour
CATEGORIES:Art,Calendar,Live Performance,Music
ATTACH;FMTTYPE=image/png:https://genexsites.s3.ca-west-1.amazonaws.com/05/wp-content/uploads/sites/26/2026/02/10115327/sapphire-tenise.png
END:VEVENT
BEGIN:VEVENT
DTSTART;TZID=America/Vancouver:20260301T103000
DTEND;TZID=America/Vancouver:20260301T120000
DTSTAMP:20260422T145331
CREATED:20260213T205405Z
LAST-MODIFIED:20260213T205405Z
UID:24422-1772361000-1772366400@www.wkartscouncil.com
SUMMARY:Silverton - Kootenay Winter Tour LEILA - Power Duet
DESCRIPTION:Scones & Jam Concert – Leila’s morning set of music will rotate through solo work\, a power duet with jazz drummer Neil Gray\, and a delicate string duet with New Denver’s own Anjuli Otter. \nEnjoy homemade sourdough scones\, coffee/tea\, and stay later to learn some harmonies and sing through some of her tune’s choruses. \nTicket price is $35 and includes scones and coffee/tea. Tickets are available at the door but to ensure food and beverage quantities\, ticket pre-purchase is encouraged. Simply send an e-transfer to admin@slocanlakeartscouncil.ca. Please include your name and the number of tickets desired. \n 
URL:https://www.wkartscouncil.com/event/silverton-leila/
LOCATION:Silverton Gallery\, Lake Avenue\, Silverton\, V0G 1S0
CATEGORIES:Art,Calendar,Food/Beverage,Music
ATTACH;FMTTYPE=image/png:https://genexsites.s3.ca-west-1.amazonaws.com/05/wp-content/uploads/sites/26/2026/02/13125206/Leila-tour.png
END:VEVENT
BEGIN:VEVENT
DTSTART;TZID=America/Vancouver:20260228T190000
DTEND;TZID=America/Vancouver:20260228T210000
DTSTAMP:20260422T145331
CREATED:20260213T205633Z
LAST-MODIFIED:20260213T205633Z
UID:24425-1772305200-1772312400@www.wkartscouncil.com
SUMMARY:Silverton - Neil Gray Music
DESCRIPTION:He’s number 23 on the North American Campus College radio jazz and he is bringing his music through the Kootenays this winter with his newest record In the Streets. Drummer and composer Neil Gray plays the Memorial Hall in Silverton BC\, February 28th. \nNeil Gray is born and raised in BC and his new album speaks to the many people\, places\, and times Neil experienced during his time in the Vancouver jazz scene. Released October 31st 2025 on Canada’s jazz label Cellar Live\, the album plays host to legendary Canadian jazz players like Cory Weeds on tenor sax\, and Bruno Hubert on piano. \nJoining him in New Denver will be renowned Canadian pianist David Restivo\, bassist Douglas Stephenson\, Kiyo Elkuf on the tenor sax\, and trumpet. Celebrate new contemporary jazz music with an added shimmering guest appearance of vocalist Leila Naderi (also known as Leila Neverland)\, for a memorable evening of jazz. \nTo hear more\, check out the All That Jazz radio segment that plays a tune off Neil’s album called For Those in the Back\, at HR 1 Seg B\, or find Neil’s full album on Bandcamp. \nTickets are $20 and pre-purchase is encouraged\, just send an email to admin@slocanlakeartscouncil.ca and indicate your name and the number of tickets desired. Concert starts at 7pm. See you there!
URL:https://www.wkartscouncil.com/event/silverton-neil-gray/
LOCATION:Silverton Memorial Hall\, Silverton BC
CATEGORIES:Art,Calendar,Live Performance,Music
ATTACH;FMTTYPE=image/jpeg:https://genexsites.s3.ca-west-1.amazonaws.com/05/wp-content/uploads/sites/26/2026/02/11105911/Neil-Gray-Social-Media-Vmo4Nw.jpg
END:VEVENT
BEGIN:VEVENT
DTSTART;TZID=America/Vancouver:20260227T183000
DTEND;TZID=America/Vancouver:20260227T200000
DTSTAMP:20260422T145331
CREATED:20260213T210929Z
LAST-MODIFIED:20260213T210929Z
UID:24435-1772217000-1772222400@www.wkartscouncil.com
SUMMARY:Nakusp - Kootenay Winter Tour - LEILA
DESCRIPTION:Nakusp\, you are in for a treat! Virtuoso composer vocalist and Kaslo Jazz Fest 2024 performer LEILA lands at the Bonnington Theatre February 27th as part of a small Kootenay winter tour with her band. \nActing as musical enchantress and captivating audiences with her interdisciplinary concerts\, this tour will showcase her current work as she touches on stories of hardship\, heartbreak\, loss\, love\, and renewal. \nSee www.leilaneverland.com for more including her monthly newsletter with access to The Vault – an exclusive platform of unreleased tunes. \nDoors open at 6:30pm. \nTickets are $20 and available at the door or pre-purchase at Bon Marche.
URL:https://www.wkartscouncil.com/event/nakusp-kootenay-winter-tour-leila/
LOCATION:Bonnington Arts Centre\, 4th st and 6th Ave\, Nakusp\, V0G 1R0\, Canada
CATEGORIES:Art,Calendar,Live Performance,Music
ATTACH;FMTTYPE=image/png:https://genexsites.s3.ca-west-1.amazonaws.com/05/wp-content/uploads/sites/26/2026/02/13125206/Leila-tour.png
ORGANIZER;CN="Arrow Lakes District Arts Council Society":MAILTO:aldacs2020@gmail.com
END:VEVENT
BEGIN:VEVENT
DTSTART;TZID=America/Vancouver:20260225T193000
DTEND;TZID=America/Vancouver:20260225T210000
DTSTAMP:20260422T145331
CREATED:20260126T231949Z
LAST-MODIFIED:20260126T231949Z
UID:23203-1772047800-1772053200@www.wkartscouncil.com
SUMMARY:Trail: Ebony Roots\, A Concert Celebration for Black History Month
DESCRIPTION:The Jazz at the Griff series\, presented by Trail & District Arts Council\, brings you Sound the Alarm’s “Ebony Roots”\, on Wednesday\, February 25 at 7:30 pm to Celebrate Black History Month. \nEbony Roots is a concert celebration of African Descent/Black music – from 300-year-old spirituals to Motown\, and everything in between. It features a journey through Black music representing the evolving emancipation of the African-Descent community from the North American perspective. \nThis powerful and intimate concert journeys through prison work-songs\, passionate spirituals\, iconic songs from the stage\, to the emergence of Black Soul\, R&B\, Blues and Motown\, including a tribute to some of BC’s legacy artists. \nThe Artistic Team\, as led by Brandon Thornhill and Olaf de Shield\, designed this musical journey through Black music to be played by 6 musicians with 2 Vocalists\, Keys\, Bass\, Drums\, and Guitar. \nThis project was produced by Brandon Thornhill with support from Vancouver’s own award-winning company\, Sound the Alarm: Music/Theatre (www.soundthealarm.ca) who is known for touring Music of the Night: The Concert Tour and A Whole New World. \nWatch the trailer https://youtu.be/ELTAEw5u3wg \nSingle tickets are $30. Individual Ticket Under 30 years old (with ID): $15.\nAll individual tickets available online at purchase.trail-arts.com\, by phone at 250-368-9669\, and in person at the Bailey Box Office at 1501 Cedar Ave.\, Trail. Series passes available only by calling or visiting the Box Office. \nThe Jazz at the Griff series is made possible thanks to funding from McEwan Law\, BC Arts Council\, BC Touring Council\, the Government of Canada\, and Tourism South Kootenay. We also gratefully acknowledge the financial support of the Province of British Columbia.
URL:https://www.wkartscouncil.com/event/trail-ebony-roots-a-concert-celebration-for-black-history-month/
LOCATION:Bailey Theatre\, 1501 Cedar Ave.\, Trail\, BC
CATEGORIES:Art,Calendar,Live Performance,Music
ATTACH;FMTTYPE=image/jpeg:https://genexsites.s3.ca-west-1.amazonaws.com/05/wp-content/uploads/sites/26/2026/01/26151718/ebony-roots-1.jpg
ORGANIZER;CN="Trail &#038%3B District Arts Council":MAILTO:info@trail-arts.com
END:VEVENT
BEGIN:VEVENT
DTSTART;TZID=America/Vancouver:20260214T200000
DTEND;TZID=America/Vancouver:20260215T013000
DTSTAMP:20260422T145331
CREATED:20260202T193319Z
LAST-MODIFIED:20260202T193319Z
UID:23422-1771099200-1771119000@www.wkartscouncil.com
SUMMARY:Nelson - THE LATIN LOVERS Valentine's Day Show ft. FATTYCAKES
DESCRIPTION:Get ready to sizzle with fiery Latin rhythms and spicy vinyl beats courtesy of our special guest\, FATTYCAKES! We’ve got a night bursting with electrifying surprises. \nFinley’s is rolling out a dinner and drink special\, so arrive early and stay late as you dance the night away. Dress to impress\, lace up those dancing shoes\, and let’s set the stage ablaze! Show starts at 8pm. Tickets are $25 online and $30 at the door. \n\nLocation: Finley’s Bar and Grill\n\nTime and Date: February 14th\, 8pm-1:30am\n\nOrganizer: THE LATIN LOVERS\n\nPhone: 250-777-7572\n\nEmail: thelatinlovers.bc@gmail.com\n\nWebsite: www.thelatinloversmusic.com\n\nTickets: https://thelatinloversmusic.com/event/6394119/748516707/the-latin-lovers-valentine-s-day
URL:https://www.wkartscouncil.com/event/latin-lovers-valentines/
LOCATION:Finley’s Bar $ Grill\, 705 Vernon St\, Nelson\, BC\, V1L 4G3\, Canada
CATEGORIES:Calendar,Live Performance,Music
ATTACH;FMTTYPE=image/png:https://genexsites.s3.ca-west-1.amazonaws.com/05/wp-content/uploads/sites/26/2026/02/02112946/latin-lover.png
ORGANIZER;CN="The Latin Lovers":MAILTO: thelatinlovers.bc@gmail.com
END:VEVENT
BEGIN:VEVENT
DTSTART;TZID=America/Vancouver:20260214T193000
DTEND;TZID=America/Vancouver:20260215T003000
DTSTAMP:20260422T145331
CREATED:20260213T210217Z
LAST-MODIFIED:20260213T211129Z
UID:24428-1771097400-1771115400@www.wkartscouncil.com
SUMMARY:Nakusp - Winter Blues Dance
DESCRIPTION:Dance party with the funk dance band Lisalicious this Saturday night! \nArrow Lakes District Arts Council Society is Having a Party to break up the winter blues. \nShare the night with family\, friends\, community\, dancing\, appetizers\, door prize and 50/50. \nNakusp Legion \nAdvance tickets at Bon Marche \nEarly bird $20 till January 31\, 2026\nRegular $25 at the door. \nDoors open at 7:30pm \nMusic by Lisalisious starts at 8:30pm
URL:https://www.wkartscouncil.com/event/nakusp-winter-blues/
LOCATION:Nakusp Legion\, 404 1st St NW\,\, Nakusp\, BC\, British Columbia\, Canada
CATEGORIES:Calendar,Community Events,Dance,Music
ATTACH;FMTTYPE=image/jpeg:https://genexsites.s3.ca-west-1.amazonaws.com/05/wp-content/uploads/sites/26/2026/02/13125811/nakusp-February-Dance.jpg
ORGANIZER;CN="Arrow Lakes District Arts Council Society":MAILTO:aldacs2020@gmail.com
END:VEVENT
END:VCALENDAR