
BEGIN:VCALENDAR
VERSION:2.0
PRODID:-//West Kootenay Regional Arts Council - ECPv6.15.20//NONSGML v1.0//EN
CALSCALE:GREGORIAN
METHOD:PUBLISH
X-WR-CALNAME:West Kootenay Regional Arts Council
X-ORIGINAL-URL:https://www.wkartscouncil.com
X-WR-CALDESC:Events for West Kootenay Regional Arts Council
REFRESH-INTERVAL;VALUE=DURATION:PT1H
X-Robots-Tag:noindex
X-PUBLISHED-TTL:PT1H
BEGIN:VTIMEZONE
TZID:America/Vancouver
BEGIN:DAYLIGHT
TZOFFSETFROM:-0800
TZOFFSETTO:-0700
TZNAME:PDT
DTSTART:20250309T100000
END:DAYLIGHT
BEGIN:STANDARD
TZOFFSETFROM:-0700
TZOFFSETTO:-0800
TZNAME:PST
DTSTART:20251102T090000
END:STANDARD
BEGIN:DAYLIGHT
TZOFFSETFROM:-0800
TZOFFSETTO:-0700
TZNAME:PDT
DTSTART:20260308T100000
END:DAYLIGHT
BEGIN:STANDARD
TZOFFSETFROM:-0700
TZOFFSETTO:-0800
TZNAME:PST
DTSTART:20261101T090000
END:STANDARD
BEGIN:DAYLIGHT
TZOFFSETFROM:-0800
TZOFFSETTO:-0700
TZNAME:PDT
DTSTART:20270314T100000
END:DAYLIGHT
BEGIN:STANDARD
TZOFFSETFROM:-0700
TZOFFSETTO:-0800
TZNAME:PST
DTSTART:20271107T090000
END:STANDARD
END:VTIMEZONE
BEGIN:VEVENT
DTSTART;TZID=America/Vancouver:20260425T190000
DTEND;TZID=America/Vancouver:20260425T210000
DTSTAMP:20260422T194612
CREATED:20260414T173846Z
LAST-MODIFIED:20260414T173846Z
UID:27355-1777143600-1777150800@www.wkartscouncil.com
SUMMARY:Silverton - For the Love of the Forest
DESCRIPTION:Slocan Lake Arts Council presents:\nFOR THE LOVE OF THE FOREST\nAn evening of music\, film\, poetry and art celebrating the beauty\, the wonder\, and the wisdom of the woods. \n-Music by FREYA—the captivating soulful sounds of Noel Fudge and Martine DenBok\n-Film: “On BEAUTY\, As We Come to it in the Forest”—a 1/2 hour deep meditative dive into the stunning forests of the Slocan Valley\, by filmmaker Isaac Carter\, produced by Barbara Brown\n-Poetry by Barbara Brown\n-Paintings on display by Barbara Brown\, Artist of the Forest \nAdmission by donation (suggested $20) \nA light concession will be offered – cash only \nwww.slocanlakeartscouncil.ca\nFB: @SlocanLakeAC\nwww.barbarabrownart.com\nSupported by the Province of British Columbia\, British Columbia Arts Council
URL:https://www.wkartscouncil.com/event/silverton-love-of-the-forest/
LOCATION:Silverton Memorial Hall\, Silverton BC
CATEGORIES:Art,Calendar,Exhibition/Speakers,Film,Live Performance,Music
ATTACH;FMTTYPE=image/jpeg:https://genexsites.s3.ca-west-1.amazonaws.com/05/wp-content/uploads/sites/26/2026/04/14103600/Barbara-Brown-Love-of-Forest-slocan.jpg
END:VEVENT
END:VCALENDAR