
BEGIN:VCALENDAR
VERSION:2.0
PRODID:-//West Kootenay Regional Arts Council - ECPv6.15.20//NONSGML v1.0//EN
CALSCALE:GREGORIAN
METHOD:PUBLISH
X-WR-CALNAME:West Kootenay Regional Arts Council
X-ORIGINAL-URL:https://www.wkartscouncil.com
X-WR-CALDESC:Events for West Kootenay Regional Arts Council
REFRESH-INTERVAL;VALUE=DURATION:PT1H
X-Robots-Tag:noindex
X-PUBLISHED-TTL:PT1H
BEGIN:VTIMEZONE
TZID:America/Edmonton
BEGIN:DAYLIGHT
TZOFFSETFROM:-0700
TZOFFSETTO:-0600
TZNAME:MDT
DTSTART:20240310T090000
END:DAYLIGHT
BEGIN:STANDARD
TZOFFSETFROM:-0600
TZOFFSETTO:-0700
TZNAME:MST
DTSTART:20241103T080000
END:STANDARD
BEGIN:DAYLIGHT
TZOFFSETFROM:-0700
TZOFFSETTO:-0600
TZNAME:MDT
DTSTART:20250309T090000
END:DAYLIGHT
BEGIN:STANDARD
TZOFFSETFROM:-0600
TZOFFSETTO:-0700
TZNAME:MST
DTSTART:20251102T080000
END:STANDARD
BEGIN:DAYLIGHT
TZOFFSETFROM:-0700
TZOFFSETTO:-0600
TZNAME:MDT
DTSTART:20260308T090000
END:DAYLIGHT
BEGIN:STANDARD
TZOFFSETFROM:-0600
TZOFFSETTO:-0700
TZNAME:MST
DTSTART:20261101T080000
END:STANDARD
END:VTIMEZONE
BEGIN:VEVENT
DTSTART;VALUE=DATE:20251115
DTEND;VALUE=DATE:20251225
DTSTAMP:20260422T203346
CREATED:20250926T193212Z
LAST-MODIFIED:20250926T193212Z
UID:19753-1763164800-1766620799@www.wkartscouncil.com
SUMMARY:2025 Christmas Art Market
DESCRIPTION:Get ready to get into the holiday spirit at the 2025 Christmas Art Market! Now in its fifth year\, this festive event celebrates local art and the magic of the season\, offering a curated collection of unique gifts for your loved ones—or even a little treat for yourself. \nKicking off on Saturday\, November 15\, and running daily through to December 24\, the market will feature creations from talented local artists like McKenna Prather\, Michele Dupas (Dupas Designs)\, Sam Millard (How Original Art)\, Wendy Franz\, and others. Available treasures include fine art\, digital reproductions\, pottery\, jewellery\, wearables\, books\, and more! \nOpen Monday through Wednesday from noon to 5 pm\, Thursday through Saturday from 10 am to 5 pm\, and Sunday from 11 am to 4 pm\, this is the perfect place to find one-of-a-kind gifts and experience the magic of the holidays.
URL:https://www.wkartscouncil.com/event/2025-christmas-art-market/
LOCATION:167 Deer Park Avenue\, Kimberley\, BC\, V1A 2J5\, 167 Deer Park Avenue\, Kimberley\, V1A 2J5
CATEGORIES:Calendar,Community Events,Markets/Festival
ORGANIZER;CN="Art Gallery Kimberley":MAILTO:info@artgallerykimberley.com
END:VEVENT
BEGIN:VEVENT
DTSTART;TZID=America/Edmonton:20251120T160000
DTEND;TZID=America/Edmonton:20251120T200000
DTSTAMP:20260422T203346
CREATED:20251114T034307Z
LAST-MODIFIED:20251114T034307Z
UID:20943-1763654400-1763668800@www.wkartscouncil.com
SUMMARY:Downtown Trail Ladies Night
DESCRIPTION:Thursday November 20th. It will be a day to remember! There are lots of downtown businesses participating and all will have specials\, snacks and surprises.\n\nI am including the ad that is going out in the Trail Times soon. Everyone who comes to this event will be entered into a draw to win the grand prize valued at$1000. We have an amazing artist prize draw in our store worth over $300. All the artists from our new Artisan Marketplace are contributing along with a special package from us! There will be other surprises too!\n\nPlease feel free to contact me with any questions about the event.\n\nLooking forward to seeing you there!\nMelissa\n\n— \n\nMelissa Woodward \nWoodland Hillside\n\n\nwww.woodlandhillside.ca\nFacebook Woodland Hillside\nmelissa@woodlandhillside.ca\nPhone 250-512-0576
URL:https://www.wkartscouncil.com/event/downtown-trail-ladies-night/
LOCATION:Trail\, BC\, Trail\, BC
CATEGORIES:Calendar,Markets/Festival
ATTACH;FMTTYPE=image/jpeg:https://genexsites.s3.ca-west-1.amazonaws.com/05/wp-content/uploads/sites/26/2025/11/13193306/Trail-Ladies-Nighr.jpg
ORGANIZER;CN="Melissa Woodward":MAILTO:melissa@woodlandhillside.ca
END:VEVENT
END:VCALENDAR