
BEGIN:VCALENDAR
VERSION:2.0
PRODID:-//West Kootenay Regional Arts Council - ECPv6.15.20//NONSGML v1.0//EN
CALSCALE:GREGORIAN
METHOD:PUBLISH
X-ORIGINAL-URL:https://www.wkartscouncil.com
X-WR-CALDESC:Events for West Kootenay Regional Arts Council
REFRESH-INTERVAL;VALUE=DURATION:PT1H
X-Robots-Tag:noindex
X-PUBLISHED-TTL:PT1H
BEGIN:VTIMEZONE
TZID:America/Edmonton
BEGIN:DAYLIGHT
TZOFFSETFROM:-0700
TZOFFSETTO:-0600
TZNAME:MDT
DTSTART:20240310T090000
END:DAYLIGHT
BEGIN:STANDARD
TZOFFSETFROM:-0600
TZOFFSETTO:-0700
TZNAME:MST
DTSTART:20241103T080000
END:STANDARD
BEGIN:DAYLIGHT
TZOFFSETFROM:-0700
TZOFFSETTO:-0600
TZNAME:MDT
DTSTART:20250309T090000
END:DAYLIGHT
BEGIN:STANDARD
TZOFFSETFROM:-0600
TZOFFSETTO:-0700
TZNAME:MST
DTSTART:20251102T080000
END:STANDARD
BEGIN:DAYLIGHT
TZOFFSETFROM:-0700
TZOFFSETTO:-0600
TZNAME:MDT
DTSTART:20260308T090000
END:DAYLIGHT
BEGIN:STANDARD
TZOFFSETFROM:-0600
TZOFFSETTO:-0700
TZNAME:MST
DTSTART:20261101T080000
END:STANDARD
END:VTIMEZONE
BEGIN:VEVENT
DTSTART;TZID=America/Edmonton:20251114T160000
DTEND;TZID=America/Edmonton:20251115T160000
DTSTAMP:20260422T203436
CREATED:20251108T054946Z
LAST-MODIFIED:20251108T055745Z
UID:20781-1763136000-1763222400@www.wkartscouncil.com
SUMMARY:Selkirk Weavers Christmas Sale: Friday (14th) & Saturday (15th)
DESCRIPTION:The Selkirk Weavers and Spinners Guild\, a group of local artisans from Castlegar\, Nelson\, Trail\, and Fruitvale\, are holding their annual Holiday Sale and Exhibit on Friday November 14th from 4-8 pm\, and Saturday November 15th from 9am-4pm.\nIt will be at the Kinnaird Hall at 2320 Columbia Avenue\, Castlegar\, BC.\nHope to see you all there!
URL:https://www.wkartscouncil.com/event/selkirk-weavers-christmas-sale/
LOCATION:Kinnaird Hall\, 2320 Columbia Avenue\, Castlegar\, BC\, V1N 2X1\, Canada
CATEGORIES:Art,Calendar,Community Events,Kid Friendly,Markets/Festival
ATTACH;FMTTYPE=image/png:https://genexsites.s3.ca-west-1.amazonaws.com/05/wp-content/uploads/sites/26/2025/11/07214454/CHRISTMAS-SALE-final-1.png
ORGANIZER;CN="Selkirk Weavers and Spinners Guild":MAILTO:selkirkweavers@gmail.com
END:VEVENT
END:VCALENDAR