
BEGIN:VCALENDAR
VERSION:2.0
PRODID:-//West Kootenay Regional Arts Council - ECPv6.15.20//NONSGML v1.0//EN
CALSCALE:GREGORIAN
METHOD:PUBLISH
X-WR-CALNAME:West Kootenay Regional Arts Council
X-ORIGINAL-URL:https://www.wkartscouncil.com
X-WR-CALDESC:Events for West Kootenay Regional Arts Council
REFRESH-INTERVAL;VALUE=DURATION:PT1H
X-Robots-Tag:noindex
X-PUBLISHED-TTL:PT1H
BEGIN:VTIMEZONE
TZID:America/Edmonton
BEGIN:DAYLIGHT
TZOFFSETFROM:-0700
TZOFFSETTO:-0600
TZNAME:MDT
DTSTART:20240310T090000
END:DAYLIGHT
BEGIN:STANDARD
TZOFFSETFROM:-0600
TZOFFSETTO:-0700
TZNAME:MST
DTSTART:20241103T080000
END:STANDARD
BEGIN:DAYLIGHT
TZOFFSETFROM:-0700
TZOFFSETTO:-0600
TZNAME:MDT
DTSTART:20250309T090000
END:DAYLIGHT
BEGIN:STANDARD
TZOFFSETFROM:-0600
TZOFFSETTO:-0700
TZNAME:MST
DTSTART:20251102T080000
END:STANDARD
BEGIN:DAYLIGHT
TZOFFSETFROM:-0700
TZOFFSETTO:-0600
TZNAME:MDT
DTSTART:20260308T090000
END:DAYLIGHT
BEGIN:STANDARD
TZOFFSETFROM:-0600
TZOFFSETTO:-0700
TZNAME:MST
DTSTART:20261101T080000
END:STANDARD
END:VTIMEZONE
BEGIN:VEVENT
DTSTART;TZID=America/Edmonton:20250821T173000
DTEND;TZID=America/Edmonton:20250821T193000
DTSTAMP:20260419T185203
CREATED:20250731T212630Z
LAST-MODIFIED:20250731T212630Z
UID:18366-1755797400-1755804600@www.wkartscouncil.com
SUMMARY:Maddisun (Full Band) Live @ Summer Sounds 2025
DESCRIPTION:Live music concert series\, free for everyone\, in Rotary Park – the heart of downtown Cranbrook. This annual program organized and run by the volunteers of the Fisher Peak Performing Artists Society (FPPAS) will showcase local musical acts at each evening event every Thursday beginning July 3! \nAugust 21 @ 5:30pm: Maddisun \nMaddisun is a Canadian indie artist whose music reflects the big star dreams she’s carried since childhood in the mountains of British Columbia. Her sound blends soulful songwriter-folk\, rootsy rock\, and vintage textures\, and her electrifying\, heart-led performances consistently capture hearts and command attention. Performing and writing since the age of 10\, Maddisun’s relentless passion for music reflects the one thing that’s always stayed true—her deep love for the craft. \nHer new album\, The Pages\, takes a bold and unconventional route: only Chapter One is available on streaming platforms. The full album is available exclusively on vinyl\, CD\, cassette\, or radio—a nostalgic return to intentional listening for old souls and true music lovers. www.maddisunmusic.com \n“The music is powerful: themes of saying yes to yourself\, empowering yourself\, and refusing to say no. I think Maddisun takes her own advice. Her performance is driven with rhythm and energy.” – Roots Music Canada
URL:https://www.wkartscouncil.com/event/maddisun-full-band-live-summer-sounds-2025/
LOCATION:Rotary Park\, 10 Ave S\, Cranbrook\, BC V1C 2N2\, Cranbrook
CATEGORIES:Live Performance
ATTACH;FMTTYPE=image/png:https://genexsites.s3.ca-west-1.amazonaws.com/05/wp-content/uploads/sites/26/2025/07/20174422/Maddisun.png
END:VEVENT
BEGIN:VEVENT
DTSTART;TZID=America/Edmonton:20250821T173000
DTEND;TZID=America/Edmonton:20250821T193000
DTSTAMP:20260419T185203
CREATED:20250813T001534Z
LAST-MODIFIED:20250813T001534Z
UID:18463-1755797400-1755804600@www.wkartscouncil.com
SUMMARY:Maddisun (Full Band) Live @ Summer Sounds 2025
DESCRIPTION:Live music concert series\, free for everyone\, in Rotary Park – the heart of downtown Cranbrook. This annual program organized and run by the volunteers of the Fisher Peak Performing Artists Society (FPPAS) will showcase local musical acts at each evening event every Thursday beginning July 3! \nAugust 21 @ 5:30pm: Maddisun \nMaddisun is a Canadian indie artist whose music reflects the big star dreams she’s carried since childhood in the mountains of British Columbia. Her sound blends soulful songwriter-folk\, rootsy rock\, and vintage textures\, and her electrifying\, heart-led performances consistently capture hearts and command attention. Performing and writing since the age of 10\, Maddisun’s relentless passion for music reflects the one thing that’s always stayed true—her deep love for the craft. \nHer new album\, The Pages\, takes a bold and unconventional route: only Chapter One is available on streaming platforms. The full album is available exclusively on vinyl\, CD\, cassette\, or radio—a nostalgic return to intentional listening for old souls and true music lovers. www.maddisunmusic.com \n“The music is powerful: themes of saying yes to yourself\, empowering yourself\, and refusing to say no. I think Maddisun takes her own advice. Her performance is driven with rhythm and energy.” – Roots Music Canada
URL:https://www.wkartscouncil.com/event/maddisun-full-band-live-summer-sounds-2025-2/
LOCATION:Rotary Park\, 10 Ave S\, Cranbrook\, BC V1C 2N2\, Cranbrook
CATEGORIES:Calendar,Live Performance
ATTACH;FMTTYPE=image/jpeg:https://genexsites.s3.ca-west-1.amazonaws.com/05/wp-content/uploads/sites/26/2025/08/20174417/summersounds1-md.jpg
END:VEVENT
END:VCALENDAR