
BEGIN:VCALENDAR
VERSION:2.0
PRODID:-//West Kootenay Regional Arts Council - ECPv6.15.20//NONSGML v1.0//EN
CALSCALE:GREGORIAN
METHOD:PUBLISH
X-WR-CALNAME:West Kootenay Regional Arts Council
X-ORIGINAL-URL:https://www.wkartscouncil.com
X-WR-CALDESC:Events for West Kootenay Regional Arts Council
REFRESH-INTERVAL;VALUE=DURATION:PT1H
X-Robots-Tag:noindex
X-PUBLISHED-TTL:PT1H
BEGIN:VTIMEZONE
TZID:America/Edmonton
BEGIN:DAYLIGHT
TZOFFSETFROM:-0700
TZOFFSETTO:-0600
TZNAME:MDT
DTSTART:20240310T090000
END:DAYLIGHT
BEGIN:STANDARD
TZOFFSETFROM:-0600
TZOFFSETTO:-0700
TZNAME:MST
DTSTART:20241103T080000
END:STANDARD
BEGIN:DAYLIGHT
TZOFFSETFROM:-0700
TZOFFSETTO:-0600
TZNAME:MDT
DTSTART:20250309T090000
END:DAYLIGHT
BEGIN:STANDARD
TZOFFSETFROM:-0600
TZOFFSETTO:-0700
TZNAME:MST
DTSTART:20251102T080000
END:STANDARD
BEGIN:DAYLIGHT
TZOFFSETFROM:-0700
TZOFFSETTO:-0600
TZNAME:MDT
DTSTART:20260308T090000
END:DAYLIGHT
BEGIN:STANDARD
TZOFFSETFROM:-0600
TZOFFSETTO:-0700
TZNAME:MST
DTSTART:20261101T080000
END:STANDARD
END:VTIMEZONE
BEGIN:VEVENT
DTSTART;TZID=America/Edmonton:20250816T200000
DTEND;TZID=America/Edmonton:20250816T230000
DTSTAMP:20260419T122528
CREATED:20250814T165826Z
LAST-MODIFIED:20250814T165826Z
UID:18564-1755374400-1755385200@www.wkartscouncil.com
SUMMARY:Echoes Live at Encore Brewing Co.
DESCRIPTION:Join us at Encore Brewing Co. on Saturday\, August 16 for a night of classic rock vibes with Echoes\, a dynamic band hailing from Puerto Vallarta\, Mexico. \nKnown for their powerful covers of rock hits from the ’70s through the ’90s—infused with touches of blues and country—Echoes delivers a sound that’s both nostalgic and electric. \nThis 19+ show promises great music\, great beer\, and a great time. Get your tickets now!
URL:https://www.wkartscouncil.com/event/echoes-live-at-encore-brewing-co/
LOCATION:Encore Brewing\, 1400 4 Street North\, Cranbrook\, BC\, V1C 3L5\, Canada
CATEGORIES:Calendar,Live Performance
ATTACH;FMTTYPE=image/jpeg:https://genexsites.s3.ca-west-1.amazonaws.com/05/wp-content/uploads/sites/26/2025/08/20174413/EchoesLiveatEncoreBrewingCo.-md.jpg
END:VEVENT
END:VCALENDAR