
BEGIN:VCALENDAR
VERSION:2.0
PRODID:-//West Kootenay Regional Arts Council - ECPv6.15.20//NONSGML v1.0//EN
CALSCALE:GREGORIAN
METHOD:PUBLISH
X-ORIGINAL-URL:https://www.wkartscouncil.com
X-WR-CALDESC:Events for West Kootenay Regional Arts Council
REFRESH-INTERVAL;VALUE=DURATION:PT1H
X-Robots-Tag:noindex
X-PUBLISHED-TTL:PT1H
BEGIN:VTIMEZONE
TZID:America/Vancouver
BEGIN:DAYLIGHT
TZOFFSETFROM:-0800
TZOFFSETTO:-0700
TZNAME:PDT
DTSTART:20240310T100000
END:DAYLIGHT
BEGIN:STANDARD
TZOFFSETFROM:-0700
TZOFFSETTO:-0800
TZNAME:PST
DTSTART:20241103T090000
END:STANDARD
BEGIN:DAYLIGHT
TZOFFSETFROM:-0800
TZOFFSETTO:-0700
TZNAME:PDT
DTSTART:20250309T100000
END:DAYLIGHT
BEGIN:STANDARD
TZOFFSETFROM:-0700
TZOFFSETTO:-0800
TZNAME:PST
DTSTART:20251102T090000
END:STANDARD
BEGIN:DAYLIGHT
TZOFFSETFROM:-0800
TZOFFSETTO:-0700
TZNAME:PDT
DTSTART:20260308T100000
END:DAYLIGHT
BEGIN:STANDARD
TZOFFSETFROM:-0700
TZOFFSETTO:-0800
TZNAME:PST
DTSTART:20261101T090000
END:STANDARD
END:VTIMEZONE
BEGIN:VEVENT
DTSTART;TZID=America/Vancouver:20250516T173000
DTEND;TZID=America/Vancouver:20250516T220000
DTSTAMP:20260425T202304
CREATED:20250423T200831Z
LAST-MODIFIED:20250517T004710Z
UID:14262-1747416600-1747432800@www.wkartscouncil.com
SUMMARY:Friday Blues at Torchlight Brewing Co.
DESCRIPTION:
URL:https://www.wkartscouncil.com/event/friday-blues-at-torchlight-brewing-co-2/
LOCATION:Torchlight Brewing Co.\, 125 Hall St\, Nelson\, BC\, V1L 7B4
CATEGORIES:Calendar,Food/Beverage,Live Performance
ATTACH;FMTTYPE=image/jpeg:https://genexsites.s3.ca-west-1.amazonaws.com/05/wp-content/uploads/sites/26/2025/04/20175354/friday-RyqSdr.jpg
ORGANIZER;CN="Kootenay Blues Society":MAILTO:info@kootenaybluessociety.com
END:VEVENT
BEGIN:VEVENT
DTSTART;TZID=America/Vancouver:20250516T190000
DTEND;TZID=America/Vancouver:20250516T220000
DTSTAMP:20260425T202304
CREATED:20250516T174743Z
LAST-MODIFIED:20250517T004710Z
UID:15183-1747422000-1747432800@www.wkartscouncil.com
SUMMARY:Electrojazziness
DESCRIPTION:The Langham presents an interactive\, improvised concert with Electrojazziness.\n\nElectrojazziness is an incredible jazz x electronica x hip hop fusion project\, featuring the amazing Montreal-based jazz piano maestro Alex McNally and the Nelson-based live-music-production wizard and freestyle rapper thisissami.\n\nWhat does “interactive concert” mean? Well\, it’s a concert where the audience will get to direct the music & lyric journey. Attendees and Electrojazziness will collaboratively weave a tapestry that is sure to delight your senses!\n\nThese two life-long improvisers come have been exploring different forms of interactive performance for many years\, and Electrojazziness was born when they met doing street performance in Montreal. We invite you to help us co-create a magical\, eclectic\, groovy improvised journey with us at The Langham.\n\nThis evening will begin with a workshop at 7:15pm where you will get a chance to learn production techniques from these pros and collaborate with them. The interactive concert kicks off at 8:00pm.\n\nTickets: $20 for adults\, $10 for youth (<21 years)
URL:https://www.wkartscouncil.com/event/electrojazziness/
LOCATION:The Langham\, 447 A Avenue\, Kaslo\, BC\, V0G 1M0\, Canada
CATEGORIES:Calendar,Live Performance
END:VEVENT
BEGIN:VEVENT
DTSTART;TZID=America/Vancouver:20250516T190000
DTEND;TZID=America/Vancouver:20250517T010000
DTSTAMP:20260425T202304
CREATED:20250331T192839Z
LAST-MODIFIED:20250517T004710Z
UID:13515-1747422000-1747443600@www.wkartscouncil.com
SUMMARY:STAGE AGAINST THE MACHINE! FUNDRAISER\, LIVE MUSIC & DANCE PARTY
DESCRIPTION:STAGE AGAINST THE MACHINE ! “From Turtle Island To Palestine\, Colonization Is A Crime!” \nA night of LIVE politically conscious music and dance\, to fundraise for the Autonomous Sinixt and Nelson4Palestine (supporting their sponsorships of 2 children in Gaza\, who were orphaned by the Zionist Israel’s military during the ongoing genocide). \n———————- \nEVENT DETAILS: \n——————— \nTIME: 7pm-1am \nLOCATION:\n– The Eagle’s Hall (641 Baker Street)\n– Happening on Sinixt təmxʷúlaʔxʷ (homeland)\, in so-called “Nelson” \nAGE RESTRICTION:\nAll Ages welcome\n*Note: expect some swearing in the music\n..if it was a movie\, we’d rate it PG-13. \nDRINKS:\nNon-Alcoholic\, Flavoured Fizzy Drinks Available.\n– Feel free to bring your own water bottles and snacks \nSOUND SYSTEM\n-https://www.instagram.com/live.harmonics/\nLive Harmonics will be bring in a PK sound system! \n————————— \nTIMELINE (7pm-1am)\n————————— \nDOORS OPEN: 7pm \n7pm-8pm: SILENT AUCTION & KEFFIYEH RAFFLE + DJ WHO\n– please bring cash\, water bottle and snacks\n– To donate see “Tickets & Silent Auction” section below \n8pm-8:30: OPENING CEREMONIES\n– Opening Ceremonies & Land Acknowledgement\n– Host: Othman Hamdan “The Imprisoned Blogger”\n– Guest Speakers: BOLC\, Nelson4Palestine\, Nelson Tenants Union \nLIVE POLITICAL MUSIC\n8:30-9pm: KAY THE AQUANAUT \n910pm-10pm: LEE REED \nCOMMUNITY DJ DANCE PARTY\n10pm-11:30am: RAFFERTY FUNKSMITH \n11:30-1am: MOCHILERO \n——————————————————- \nTICKETS & SILENT AUCTION / DONATIONS\n——————————————————- \nTICKETS AVAILABLE ONLINE & AT DOOR:\n– $10-20 (SLIDING SCALE)\n– $10-15 (YOUTH / LOW INCOME FOLKS)\n– $15 – 20 (IF YOU CAN AFFORD TO PAY FULL PRICE)\n* Limited subsidized tickets available\, by email: stageagainstthemachine@protonmail.me\n– Pre-paying to reserve your spot & helps us to prepare. \nONLINE TICKETS / PRE-PAY:\n1) Send E-transfer to: STAGEAGAINSTTHEMACHINE@PROTONS.ME\n2) In the comments field: specify # of tickets you are paying for + your name and/or the names of attendees joining you.\n3) You name(s) will be on a list / ID required\n*DM if any of this is an issue for you \n*All pre-sale ticket purchasers receive (per ticket):\n1 FREE raffle ticket for 1 handmade Keffiyeh (from www.inaash.org)\, upon arrival.
URL:https://www.wkartscouncil.com/event/stage-against-the-machine-fundraiser-live-music-dance-party/
LOCATION:Eagles Hall\, 641 baker street\, Nelson\, BC\, V1L 4J3\, Canada
CATEGORIES:Calendar,Community Events,Live Performance
ATTACH;FMTTYPE=image/jpeg:https://genexsites.s3.ca-west-1.amazonaws.com/05/wp-content/uploads/sites/26/2025/04/20175349/stage-Mjg8Q3.jpg
ORGANIZER;CN="DJ WHO":MAILTO:stageagainstthemachine@proton.me
END:VEVENT
BEGIN:VEVENT
DTSTART;TZID=America/Vancouver:20250516T200000
DTEND;TZID=America/Vancouver:20250516T233000
DTSTAMP:20260425T202304
CREATED:20250423T200831Z
LAST-MODIFIED:20250517T004710Z
UID:14263-1747425600-1747438200@www.wkartscouncil.com
SUMMARY:CITIZEN RAGE\, IDIOFAME\, POOR SPORT\, FOLDED HAND
DESCRIPTION:NOISE CULT PRODUCTIONS PRESENTS  \ntwo bangin nights with \nMAY 16TH -$25 \nCITIZEN RAGE \nIDIOFAME \nPOOR SPORT \nFOLDED HAND \nMAY 17TH – $25 \nTERAKKA \nPURE LOVE ETERNAL PEACE \nGARDENER \nINFINITE ENCLOSURE \nWEEKEND PASS – $40
URL:https://www.wkartscouncil.com/event/citizen-rage-idiofame-poor-sport-folded-hand/
LOCATION:The Royal\, 330 Baker Street Nelson\, BC V1L 4H5\, Nelson\, British Columbia\, V1L 4H5\, Canada
CATEGORIES:Calendar,Live Performance
ORGANIZER;CN="Noise Cult Productions":MAILTO:thenelsonnoise@gmail.com
END:VEVENT
END:VCALENDAR