
BEGIN:VCALENDAR
VERSION:2.0
PRODID:-//West Kootenay Regional Arts Council - ECPv6.15.20//NONSGML v1.0//EN
CALSCALE:GREGORIAN
METHOD:PUBLISH
X-ORIGINAL-URL:https://www.wkartscouncil.com
X-WR-CALDESC:Events for West Kootenay Regional Arts Council
REFRESH-INTERVAL;VALUE=DURATION:PT1H
X-Robots-Tag:noindex
X-PUBLISHED-TTL:PT1H
BEGIN:VTIMEZONE
TZID:America/Vancouver
BEGIN:DAYLIGHT
TZOFFSETFROM:-0800
TZOFFSETTO:-0700
TZNAME:PDT
DTSTART:20240310T100000
END:DAYLIGHT
BEGIN:STANDARD
TZOFFSETFROM:-0700
TZOFFSETTO:-0800
TZNAME:PST
DTSTART:20241103T090000
END:STANDARD
BEGIN:DAYLIGHT
TZOFFSETFROM:-0800
TZOFFSETTO:-0700
TZNAME:PDT
DTSTART:20250309T100000
END:DAYLIGHT
BEGIN:STANDARD
TZOFFSETFROM:-0700
TZOFFSETTO:-0800
TZNAME:PST
DTSTART:20251102T090000
END:STANDARD
BEGIN:DAYLIGHT
TZOFFSETFROM:-0800
TZOFFSETTO:-0700
TZNAME:PDT
DTSTART:20260308T100000
END:DAYLIGHT
BEGIN:STANDARD
TZOFFSETFROM:-0700
TZOFFSETTO:-0800
TZNAME:PST
DTSTART:20261101T090000
END:STANDARD
END:VTIMEZONE
BEGIN:VEVENT
DTSTART;TZID=America/Vancouver:20250327T193000
DTEND;TZID=America/Vancouver:20250327T213000
DTSTAMP:20260425T150323
CREATED:20250224T235517Z
LAST-MODIFIED:20250328T004627Z
UID:12397-1743103800-1743111000@www.wkartscouncil.com
SUMMARY:Melody Diachun & Friends
DESCRIPTION:Trail & District Arts Council Jazz at the Griff Serires presents \nMelody Diachun & Friends – Up Jumped Swing: Springtime Jazz in Bloom \nThursday\, March 27\, 2025 at 7:30 pm in the Griff at The Bailey Theatre. Doors to the building open 1hour prior to the show (6:30pm)\, Doors to the Griff open 30mins prior (7pm). \n2 x 45 minute sets plus intermission. \nSingle tickets are $25. \nIndividual Ticket Under 30 years old and Common Access Card holders (with ID): $12 (sold at the Box Office only) \nOr buy a 6-show series pass for Jazz at the Griff for only $120. Limited availability. Get your pass now! \nPatron Members get a 20% discount on full price tickets. \nLast year series subscribers can buy first from July 30 – Aug 13 \nPatron Members can buy Aug 13 – 27 \nGeneral On sale is after August 27 \nAll individual tickets available online at tickets.trail-arts.com\, by phone at 250-368-9669\, and in person at the Bailey Box Office at 1501 Cedar Ave.\, Trail. Series passes available only by calling or visiting the Box Office.All shows general admission. Groups of 4 may reserve a table at the box office. \nJoin Jazz at the Griff\, presented by Trail & District Arts Council\, for an uplifting evening with Melody Diachun & Friends as they perform “Up Jumped Swing: Springtime Jazz in Bloom” on Thursday\, March 27 at 7:30 pm. Enjoy the jazz club vibe of The Griff as you savour a glass of wine in a setting that is up close and personal with the band. \nExperience the vibrant sounds of spring through fresh interpretations of perennial songs that embody renewal and celebration. Melody Diachun\, honoured as Jazz Artist of the Year at the 2023 Western Canadian Music Awards\, brings her engaging presence to the music\, infusing every lyric with optimism and personal relevance. \nDon’t miss this evening\, sure to lift your spirits and awaken your senses like the promise of spring! \nMelody will be joined by Kiyoshi Elkuf on tenor saxophone\, Mike Rud on guitar\, Doug Stephenson on acoustic bass\, and Tony Ferraro on drums. \nCelebrated Canadian vocalist MELODY DIACHUN is known for her innovative and soulful expression\, and has been nominated for a JUNO for “Contemporary Jazz Album of the Year”in 2008 and a National Jazz Award nomination for Vocalist of the Year. \nPraise for Melody’s singing comes from renowned jazz pianist and author Kenny Werner\, who said\, “She has perfect phrasing! It’s scary\,” and from Joseph Blake at the Times Colonist\, who hailed her as “a jazz singer of the first order.” \nMelody’s musical journey began in Montreal and took her through Nova Scotia\, New York City\, Banff\, and Vancouver before finding its poetic home in Nelson\, British Columbia. Her impact on the British Columbia music scene is not only as a performer but also as a respected faculty member at Selkirk College\, where she was an instructor for ten years\, and now is the School Chair of the School of the Arts. \nKiyoshi Elkuf started playing the saxophone at age 11\, and after high school he gained valuable experience performing with local/international jazz legend Donny Clark. After completing his Bachelors in Jazz Studies Degree in 2006 and numerous jazz shows across Canada\, Kiyoshi has adapted to family life in the Kootenays where he continues to perform regularly in a variety of settings from classical to reggae\, electronic to straight ahead jazz. \nMike Rud is a Juno award-winning jazz guitarist and songwriter. As an instrumentalist\, Mike has played alongside some of the greatest jazz musicians of the era like Peter Bernstein\, Kenny Wheeler\, Herb Ellis and Joey DeFrancesco. As a songwriter and arranger\, Mike won the 2014 Juno Award for his album “Notes on Montreal”\, a critically acclaimed musical portrait of the city. \nDoug Stephenson has been an integral member of Western Canada’s music community for over thirty years. The Calgary native is a bassist\, guitarist\, composer\, producer\, and mixing engineer. He has performed with artists such as Charlie Rouse\, Les McCann\, Bob Murphy\, Jay Thomas\, John Stowell\, Tommy Banks\, P.J. Perry\, Altered Laws\, Campbell Ryga\, and Blues legend Big Miller. \nFrom Trail\, our own Tony Ferraro is a diverse\, musical drummer who is at home in many different genres. After being named Percussionist of the Year at Toronto’s Humber College\, he studied with some of the most accomplished drummers in the world\, including Dave Weckl\, Steve Smith\, and Horacio Hernandez. Forever a self-proclaimed student of the drum set\, Tony is an exciting player\, always bringing his passion and intensity to the music he is performing. \nThe Jazz at the Griff series is made possible thanks to funding from McEwan Law\, BC Arts Council\, BC Touring Council\, the Government of Canada\, and Tourism South Kootenay. We also gratefully acknowledge the financial support of the Province of British Columbia. \nAll shows in the Jazz at The Griff series include: \nThurs. Oct. 24: Jeremy Ledbetter Trio– Contemporary jazz from the boundary pushing trio of JUNO Award winner Jeremy Ledbetter\, Grammy-winning drummer Larnell Lewis of Snarky Puppy and renowned electric bassist Rich Brown. A show featuring jazz and world music full of energy and captivating musicianship. \nThurs. Nov. 28: Nelson Jazz Collective featuring Mike Fahie– The Nelson Jazz Collective because so many of Canada’s best musicians are in Nelson. This stellar ensemble of Mike Rud on guitar\, David Restivo on piano\, Rob Fahie on bass\, Joel Fountain on drums\, and special guest NYC based Mike Fahie on trombone\, will play music composed and curated by Mike. \nThurs. Dec. 12: Rick Lingard Jazzified Christmas– Rick Lingard as lead vocalist and saxophonist\, Juno award-winners Mike Rud on guitar and Dave Restivo on piano\, Steve Parrish on drums\, and Doug Stephenson on bass will warm your season with a “Jazzified Christmas”. Featuring old seasonal favorites and originals with a jazzy\, funky twist. \nThurs. Feb. 13: Laura Landsberg: That’s Amore! Songs about Love\, Anti Love\, & The Stuff In Between– Nelson’s Laura Landsberg shares her versatility and musical prowess as she explores the many layers of love and lust. Expect to laugh\, cry and feel the love. Joining Laura are Dave Restivo on Piano\, Jill McKenna -on Bass\, Paul Landsberg on Guitar\, and Joel Fountain on Drums. \nThurs. Mar. 27: Melody Diachun & Friends: Up Jumped Swing: Springtime Jazz in Bloom– Experience the vibrant sounds of spring through fresh interpretations of perennial songs that embody renewal and celebration. Melody\, Jazz Artist of the Year at the 2023 Western Canadian Music Awards\, will be joined by Kiyoshi Elkuf on tenor saxophone\, Mike Rud on guitar\, Doug Stephenson on acoustic bass\, and Tony Ferraro on drums. \nSat. Apr. 12: Blue Moon Marquee– JUNO Award Winners Blue Moon Marquee are influenced by anything that swings\, jumps or grooves. Jasmine Colette a.k.a. Badlands Jass plays upright bass and a foot drum kit\, singing in honey-dipped tones. A.W. Cardinal’s distinctive and soulful vocals accompany his guitar for the swinging energy of jazz-tinged blues.
URL:https://www.wkartscouncil.com/event/melody-diachun-friends/
LOCATION:Charles Bailey Theatre\, 1501 Cedar Ave\, Trail\, British Columbia\, V1R 4C7\, Canada
CATEGORIES:Calendar,Live Performance
ATTACH;FMTTYPE=image/jpeg:https://genexsites.s3.ca-west-1.amazonaws.com/05/wp-content/uploads/sites/26/2025/02/20175604/melody-EGflAn.tmp_.jpg
ORGANIZER;CN="Trail &#038%3B District Arts Council":MAILTO:info@trail-arts.com
END:VEVENT
BEGIN:VEVENT
DTSTART;TZID=America/Vancouver:20250327T200000
DTEND;TZID=America/Vancouver:20250327T233000
DTSTAMP:20260425T150323
CREATED:20250313T193550Z
LAST-MODIFIED:20250328T004627Z
UID:12983-1743105600-1743118200@www.wkartscouncil.com
SUMMARY:RITCHOT TEXTILES\, JAYNE KARMA LAMO\, TOTAL BUMMER
DESCRIPTION:
URL:https://www.wkartscouncil.com/event/ritchot-textiles-jayne-karma-lamo-total-bummer/
LOCATION:The Royal\, 330 Baker Street Nelson\, BC V1L 4H5\, Nelson\, British Columbia\, V1L 4H5\, Canada
CATEGORIES:Calendar,Live Performance
END:VEVENT
END:VCALENDAR