
BEGIN:VCALENDAR
VERSION:2.0
PRODID:-//West Kootenay Regional Arts Council - ECPv6.15.20//NONSGML v1.0//EN
CALSCALE:GREGORIAN
METHOD:PUBLISH
X-ORIGINAL-URL:https://www.wkartscouncil.com
X-WR-CALDESC:Events for West Kootenay Regional Arts Council
REFRESH-INTERVAL;VALUE=DURATION:PT1H
X-Robots-Tag:noindex
X-PUBLISHED-TTL:PT1H
BEGIN:VTIMEZONE
TZID:America/Vancouver
BEGIN:DAYLIGHT
TZOFFSETFROM:-0800
TZOFFSETTO:-0700
TZNAME:PDT
DTSTART:20240310T100000
END:DAYLIGHT
BEGIN:STANDARD
TZOFFSETFROM:-0700
TZOFFSETTO:-0800
TZNAME:PST
DTSTART:20241103T090000
END:STANDARD
BEGIN:DAYLIGHT
TZOFFSETFROM:-0800
TZOFFSETTO:-0700
TZNAME:PDT
DTSTART:20250309T100000
END:DAYLIGHT
BEGIN:STANDARD
TZOFFSETFROM:-0700
TZOFFSETTO:-0800
TZNAME:PST
DTSTART:20251102T090000
END:STANDARD
BEGIN:DAYLIGHT
TZOFFSETFROM:-0800
TZOFFSETTO:-0700
TZNAME:PDT
DTSTART:20260308T100000
END:DAYLIGHT
BEGIN:STANDARD
TZOFFSETFROM:-0700
TZOFFSETTO:-0800
TZNAME:PST
DTSTART:20261101T090000
END:STANDARD
END:VTIMEZONE
BEGIN:VEVENT
DTSTART;TZID=America/Vancouver:20250315T180000
DTEND;TZID=America/Vancouver:20250315T210000
DTSTAMP:20260425T132046
CREATED:20250304T175408Z
LAST-MODIFIED:20250314T191620Z
UID:12674-1742061600-1742072400@www.wkartscouncil.com
SUMMARY:March Music at Red Light Ramen
DESCRIPTION:As we prep for the spring season\, we’re keeping things warm at Red Light Ramen with delicious bowls\, refreshing drinks\, and a lineup of amazing talent to set the vibe. This month\, we’re bringing in some incredible DJs alongside a few special sets you won’t want to miss. We’re also still hosting private events—if you’re looking for an intimate spot to gather\, reach out to inquire! \nOur Friday lineup (6–9 PM) brings incredible talent to set the tone for your weekend: \nM.1 – Brooke Riome Art Exhibition @brookeriome\nSeverancz (@sabinenburns) & Emerencz (@emerencz) \nM.8 – Sijay James (@onbeyond) \nM.15 – El Toro (@dj_eltoro_) \nM.22 – Mo’ Like Wax (morelikespace) \nReservations are always encouraged. See you at the Red Light. ??
URL:https://www.wkartscouncil.com/event/march-music-at-red-light-ramen-3/
LOCATION:Red Light Ramen\, 308 Herridge Lane\, Nelson\, British Columbia\, V1L 6G5\, Canada
CATEGORIES:Calendar,Food/Beverage,Live Performance
ATTACH;FMTTYPE=image/png:https://genexsites.s3.ca-west-1.amazonaws.com/05/wp-content/uploads/sites/26/2025/03/20175537/Screen-Shot-2025-03-03-at-10.21.11-AM-JW4cUV.tmp_.png
ORGANIZER;CN="Red Light Ramen":MAILTO:info@redlightramenbar.ca
END:VEVENT
BEGIN:VEVENT
DTSTART;TZID=America/Vancouver:20250315T190000
DTEND;TZID=America/Vancouver:20250315T203000
DTSTAMP:20260425T132046
CREATED:20250304T195921Z
LAST-MODIFIED:20250304T195921Z
UID:12706-1742065200-1742070600@www.wkartscouncil.com
SUMMARY:The Red Thread (And Other Mingled Yarns)
DESCRIPTION:A One Woman Show by Ellie Reynolds \nThis performance is offered to the lovely people of Kaslo on a By Donation basis\, no presales – just show up and donate at the door (suggested donation $20). Here’s a little bit more about the show \nEllie’s third solo show picks up a red thread and unspools it\, while asking the big questions: are the events of our lives somehow inevitable? Are we fated or doomed to love one person\, and what is the Red Thread of Destiny that ties us to one another\, and to our own past?\nThree mysterious yarn-spinning goddesses of Fate aid Ellie through the labyrinthe as she wrestles with her lot in (increasingly middle) life\, reminding us all how telling stories can help us understand how the threads of our lives can stretch\, mingle and twist to form webs of connection across time and space.\nMoving between the worlds of Greek Myth\, to Shakespeare\, to North London and Denver Colorado in the eighties\, through to the present moment in the Kootenays – The Red Thread is an earnest\, yet playful exploration of the role of Fate in our lives and the yarns we spin to try and make sense of it all.
URL:https://www.wkartscouncil.com/event/the-red-thread-and-other-mingled-yarns/
LOCATION:The Langham\, 447 A Avenue\, Kaslo\, BC\, V0G 1M0\, Canada
CATEGORIES:Calendar,Live Performance
ATTACH;FMTTYPE=image/png:https://genexsites.s3.ca-west-1.amazonaws.com/05/wp-content/uploads/sites/26/2025/03/20175530/kaslo-rt.png
ORGANIZER;CN="Ellie Reynolds":MAILTO:thewaytheycame@gmail.com
END:VEVENT
BEGIN:VEVENT
DTSTART;TZID=America/Vancouver:20250315T190000
DTEND;TZID=America/Vancouver:20250315T230000
DTSTAMP:20260425T132046
CREATED:20250303T193426Z
LAST-MODIFIED:20250316T004617Z
UID:12636-1742065200-1742079600@www.wkartscouncil.com
SUMMARY:Cantina Sessions – March (DJs)
DESCRIPTION:Mar 1 – Jaded & Braden Early\, DJ duo\, mixed genres\, 7-11pm\nMar 8 – Runekey\, DJ\, mixed genres\, 7-11pm\nMar 15 – Lil Bones\, DJ\, Hip Hop & Mixed genres\, 7-11pm\nMar 22 – DJ Who\, DJ\, mixed genrest\, 7-11pm\nMar 29 – Good Times Buffet\, Vinyl Dj’s\, Funk music\, 7-11pm
URL:https://www.wkartscouncil.com/event/cantina-sessions-march-djs-3/
LOCATION:Cantina Del Centro\, 565 Baker St\, Nelson\, BC\, Nelson\, BC\, V1L 4J1\, Canada
CATEGORIES:Calendar,Food/Beverage,Live Performance
ATTACH;FMTTYPE=image/jpeg:https://genexsites.s3.ca-west-1.amazonaws.com/05/wp-content/uploads/sites/26/2025/03/20175544/cant-vgdEeO.tmp_.jpg
END:VEVENT
BEGIN:VEVENT
DTSTART;TZID=America/Vancouver:20250315T200000
DTEND;TZID=America/Vancouver:20250315T233000
DTSTAMP:20260425T132046
CREATED:20250218T190036Z
LAST-MODIFIED:20250316T004618Z
UID:12065-1742068800-1742081400@www.wkartscouncil.com
SUMMARY:Grateful Dead Tribute Night – A Very Grateful Night
DESCRIPTION:Dead Heads Unite on Saturday\, March 15th head to the Royal on Baker for a Grateful Dead Tribute Night with performances by the Tulsa Naturals\, The Grateful Life\, Snakes and Horses\, Heavy Sweater and Rob Funk. This is all in support of our homegrown radio station Kootenay Co-op Radio. Tickets are available online on the Royal’s website\, $20 for KCR members\, $25 for non-members.
URL:https://www.wkartscouncil.com/event/grateful-dead-tribute-night-a-very-grateful-night/
LOCATION:The Royal\, 330 Baker Street Nelson\, BC V1L 4H5\, Nelson\, British Columbia\, V1L 4H5\, Canada
CATEGORIES:Calendar,Live Performance
ORGANIZER;CN="KCR":MAILTO:larszergun@live.ca
END:VEVENT
END:VCALENDAR