
BEGIN:VCALENDAR
VERSION:2.0
PRODID:-//West Kootenay Regional Arts Council - ECPv6.15.20//NONSGML v1.0//EN
CALSCALE:GREGORIAN
METHOD:PUBLISH
X-ORIGINAL-URL:https://www.wkartscouncil.com
X-WR-CALDESC:Events for West Kootenay Regional Arts Council
REFRESH-INTERVAL;VALUE=DURATION:PT1H
X-Robots-Tag:noindex
X-PUBLISHED-TTL:PT1H
BEGIN:VTIMEZONE
TZID:America/Vancouver
BEGIN:DAYLIGHT
TZOFFSETFROM:-0800
TZOFFSETTO:-0700
TZNAME:PDT
DTSTART:20240310T100000
END:DAYLIGHT
BEGIN:STANDARD
TZOFFSETFROM:-0700
TZOFFSETTO:-0800
TZNAME:PST
DTSTART:20241103T090000
END:STANDARD
BEGIN:DAYLIGHT
TZOFFSETFROM:-0800
TZOFFSETTO:-0700
TZNAME:PDT
DTSTART:20250309T100000
END:DAYLIGHT
BEGIN:STANDARD
TZOFFSETFROM:-0700
TZOFFSETTO:-0800
TZNAME:PST
DTSTART:20251102T090000
END:STANDARD
BEGIN:DAYLIGHT
TZOFFSETFROM:-0800
TZOFFSETTO:-0700
TZNAME:PDT
DTSTART:20260308T100000
END:DAYLIGHT
BEGIN:STANDARD
TZOFFSETFROM:-0700
TZOFFSETTO:-0800
TZNAME:PST
DTSTART:20261101T090000
END:STANDARD
END:VTIMEZONE
BEGIN:VEVENT
DTSTART;TZID=America/Vancouver:20250308T200000
DTEND;TZID=America/Vancouver:20250309T020000
DTSTAMP:20260425T202758
CREATED:20250304T175302Z
LAST-MODIFIED:20250308T234620Z
UID:12670-1741464000-1741485600@www.wkartscouncil.com
SUMMARY:Global Heat Lineup Release & Pre-Party
DESCRIPTION:We are quite pleased to bring to you\,\nGlobal Heat Showcase: Lineup Release & Pre-Party\nFt @nocturnesoundsystem ??\n& our beauuutiful & talented artists @joshrushton_ @_akiiba_ @dubconscious @lilis_creations_art @mraki.ki\n@rosssoooo @sistersunmusic @viravira_music ✨️ \n⏰️The countdown to Global Heat Showcase begins here! Join us for an unforgettable night of rhythm\, connection\, and celebration as we reveal our festival lineup for this June! This pre-party is all about turning up the heat and building a community rooted in the power of music. \nTickets are available NOW.
URL:https://www.wkartscouncil.com/event/global-heat-lineup-release-pre-party/
LOCATION:Ymir Hall\, 1st Avenue at Cherry Street\, Ymir\, BC\, V0G 2K0\, Canada
CATEGORIES:Calendar,Live Performance
ATTACH;FMTTYPE=image/jpeg:https://genexsites.s3.ca-west-1.amazonaws.com/05/wp-content/uploads/sites/26/2025/03/20175536/global-heat-nKLLkp.tmp_.jpg
ORGANIZER;CN="Global Heat Showcase":MAILTO:mraki.musik@gmail.com
END:VEVENT
BEGIN:VEVENT
DTSTART;TZID=America/Vancouver:20250309T100000
DTEND;TZID=America/Vancouver:20250309T150000
DTSTAMP:20260425T202758
CREATED:20250303T193104Z
LAST-MODIFIED:20250310T000117Z
UID:12645-1741514400-1741532400@www.wkartscouncil.com
SUMMARY:Museum Mash!
DESCRIPTION:Lucas Myers & Krista Lynch\, Lance Ledger\, and the Nelson Writing Salon return to the Nelson Museum for everyone’s favourite FREE children’s program–Museum Mash! Explore the building\, get crafty with puppet-making\, sing and dance\, and have a blast! There’s lots of room to run and play\, and no shushing here!
URL:https://www.wkartscouncil.com/event/museum-mash-4/
LOCATION:Nelson Museum\, Archives & Gallery\, 502 Vernon Street\, Nelson\, V1L 4E7\, Canada
CATEGORIES:Calendar,Community Events,Kid Friendly,Live Performance,Workshops
ATTACH;FMTTYPE=image/png:https://genexsites.s3.ca-west-1.amazonaws.com/05/wp-content/uploads/sites/26/2025/03/20175541/museum-mash-insta-sm-21Ywqn.tmp_.png
ORGANIZER;CN="Nelson Museum%2C Archives &amp%3B Gallery":MAILTO:info@nelsonmuseum.ca
END:VEVENT
BEGIN:VEVENT
DTSTART;TZID=America/Vancouver:20250309T150000
DTEND;TZID=America/Vancouver:20250309T170000
DTSTAMP:20260425T202758
CREATED:20241209T205623Z
LAST-MODIFIED:20250310T000117Z
UID:11100-1741532400-1741539600@www.wkartscouncil.com
SUMMARY:The Classical Series Amuse Bouche Trio with chocolate tasting
DESCRIPTION:As part of International Women’s Day weekend\, enjoy an afternoon out with your friends\, a sweet treat\, and music as Amuse Bouche Trio celebrate some of the finest repertoire for this unique arrangement of clarinet\, voice and piano. Presented by Trail & District Arts Council in The Griff at The Bailey Theatre on Sunday\, March 9 at 3:00 pm as part of our Classical series. \nClarinet player Nicola Everton\, pianist Patricia Tao and soprano Noémi Kiss come together for a beautiful selection of pieces by 19th century composers\, in Italian\, English\, German\, French and Spanish\, including Franz Schubert\, Giacomo Meyerbeer\, Antonio Salazar and Franz Liszt.
URL:https://www.wkartscouncil.com/event/the-classical-series-amuse-bouche-trio-with-chocolate-tasting-2/
LOCATION:Bailey Theatre\, 1501 Cedar Ave.\, Trail\, BC
CATEGORIES:Calendar,Live Performance
ATTACH;FMTTYPE=image/png:https://genexsites.s3.ca-west-1.amazonaws.com/05/wp-content/uploads/sites/26/2024/12/20175843/amuse-bouche-trio-bh-500-x-600-px-mTxGvr.tmp_.png
ORGANIZER;CN="Trail &#038%3B District Arts Council":MAILTO:info@trail-arts.com
END:VEVENT
BEGIN:VEVENT
DTSTART;TZID=America/Vancouver:20250309T160000
DTEND;TZID=America/Vancouver:20250309T190000
DTSTAMP:20260425T202758
CREATED:20241209T205622Z
LAST-MODIFIED:20250310T000117Z
UID:11102-1741536000-1741546800@www.wkartscouncil.com
SUMMARY:Newkeys Place presents\, Blues in The Afternoon with Sam Hurrie
DESCRIPTION:Newkeys Place in Crawforbay presents\, Blues in The Afternoon with Sam Hurrie\, Like with friends. \nSundays 4-7
URL:https://www.wkartscouncil.com/event/newkeys-place-presents-blues-in-the-afternoon-with-sam-hurrie-58/
LOCATION:New Key’s Pub\, 16070 BC-3A\, Crawford Bay\, BC\, V0B 1E0\, Canada
CATEGORIES:Calendar,Live Performance
ATTACH;FMTTYPE=image/jpeg:https://genexsites.s3.ca-west-1.amazonaws.com/05/wp-content/uploads/sites/26/2024/02/20182019/421386343_794638979369624_4824241606627690411_n-MipTQS.tmp_.jpg
END:VEVENT
BEGIN:VEVENT
DTSTART;TZID=America/Vancouver:20250309T180000
DTEND;TZID=America/Vancouver:20250309T200000
DTSTAMP:20260425T202758
CREATED:20250303T193426Z
LAST-MODIFIED:20250310T000117Z
UID:12631-1741543200-1741550400@www.wkartscouncil.com
SUMMARY:Cantina Sessions – March (LIVE)
DESCRIPTION:Mar 9 – Rusty Tones\, Live Music\, songstress & original music\, 6-8pm \nMar 12 – Nikko Forsberg – Jazz\, 6-8pm \nMar 16 – Jodie & Stu\, Live Music covers & originals 6-8pm \nMar 30 – Rosa Good\, Live music\, singer songwriter\, 6-8pm
URL:https://www.wkartscouncil.com/event/cantina-sessions-march-live-4/
LOCATION:Cantina Del Centro\, 565 Baker St\, Nelson\, BC\, Nelson\, BC\, V1L 4J1\, Canada
CATEGORIES:Calendar,Food/Beverage,Live Performance
ATTACH;FMTTYPE=image/jpeg:https://genexsites.s3.ca-west-1.amazonaws.com/05/wp-content/uploads/sites/26/2025/03/20175544/cant-vgdEeO.tmp_.jpg
END:VEVENT
BEGIN:VEVENT
DTSTART;TZID=America/Vancouver:20250309T190000
DTEND;TZID=America/Vancouver:20250309T210000
DTSTAMP:20260425T202758
CREATED:20250212T020110Z
LAST-MODIFIED:20250212T020110Z
UID:11845-1741546800-1741554000@www.wkartscouncil.com
SUMMARY:Crystal Journey In Nelson\, BC
DESCRIPTION:Sunday\, March 9th\nTaghum Hall\n5915 Taghum Hall Rd\nNelson\, BC\n7:00-9:00pm Doors Open @ 6pm\n$25/Person\nTickets Available @\nhttps://www.taghumhall.ca/events\nAnd LIMITED NUMBER at The Door\nBring Yoga Mat Or Blanket To Lie On\nWhat You Can Expect From Crystal Journey:\nThe show will take place in two 40 to 50 minute sets. David’s usual set up includes 6 Quartz Crystal Bowls\, 8 Paiste Planet Gongs\, 2 Persian Santoors & Harmonica.\nOccasionally David Uses His Vocals To Create Harmonized Chants.\nNothing is amplified\, pre-recorded or rehearsed. Each set and performance is sonically pure\, unique and completely improvised.\nCD’s will be available for purchase at the shows.\nwww.crystaljourney.ca\nFor more info about the music.
URL:https://www.wkartscouncil.com/event/crystal-journey-in-nelson-bc/
LOCATION:Taghum Community Hall\, Taghum
CATEGORIES:Calendar,Live Performance
ATTACH;FMTTYPE=image/jpeg:https://genexsites.s3.ca-west-1.amazonaws.com/05/wp-content/uploads/sites/26/2025/02/20175659/Nelson-Web.jpg
ORGANIZER;CN="David Hickey":MAILTO:crystaljourney1@hotmail.com
END:VEVENT
BEGIN:VEVENT
DTSTART;TZID=America/Vancouver:20250309T193000
DTEND;TZID=America/Vancouver:20250309T210000
DTSTAMP:20260425T202758
CREATED:20250303T193256Z
LAST-MODIFIED:20250310T000118Z
UID:12632-1741548600-1741554000@www.wkartscouncil.com
SUMMARY:Randy from Creston at the Scout Hall
DESCRIPTION:Lucas Myers returns with his lovable rural opinionator\, Randy from Creston! Randy will be addressing the divisiveness or our current social situation and sharing his own very particular version of “radical redneck wellfullness”\, a process which will include many tangents\, a few tunes\, and a guest star. Oh and laughs. Lots of laughs. Buckle up\, buttercup! \nPick your ticket price\, $15 or $20 plus fees.
URL:https://www.wkartscouncil.com/event/randy-from-creston-at-the-scout-hall/
LOCATION:The Scout Hall 310 Cedar st\, 310 Cedar St\, Nelson\, BC\, Canada
CATEGORIES:Calendar,Comedy,Live Performance
ATTACH;FMTTYPE=image/avif:https://genexsites.s3.ca-west-1.amazonaws.com/05/wp-content/uploads/sites/26/2025/03/20175545/randy-byQozT.tmp_.avif
ORGANIZER;CN="Pilotcopilot Theatre":MAILTO:lucasmyers5000@gmail.com
END:VEVENT
END:VCALENDAR