
BEGIN:VCALENDAR
VERSION:2.0
PRODID:-//West Kootenay Regional Arts Council - ECPv6.15.20//NONSGML v1.0//EN
CALSCALE:GREGORIAN
METHOD:PUBLISH
X-WR-CALNAME:West Kootenay Regional Arts Council
X-ORIGINAL-URL:https://www.wkartscouncil.com
X-WR-CALDESC:Events for West Kootenay Regional Arts Council
REFRESH-INTERVAL;VALUE=DURATION:PT1H
X-Robots-Tag:noindex
X-PUBLISHED-TTL:PT1H
BEGIN:VTIMEZONE
TZID:America/Vancouver
BEGIN:DAYLIGHT
TZOFFSETFROM:-0800
TZOFFSETTO:-0700
TZNAME:PDT
DTSTART:20240310T100000
END:DAYLIGHT
BEGIN:STANDARD
TZOFFSETFROM:-0700
TZOFFSETTO:-0800
TZNAME:PST
DTSTART:20241103T090000
END:STANDARD
BEGIN:DAYLIGHT
TZOFFSETFROM:-0800
TZOFFSETTO:-0700
TZNAME:PDT
DTSTART:20250309T100000
END:DAYLIGHT
BEGIN:STANDARD
TZOFFSETFROM:-0700
TZOFFSETTO:-0800
TZNAME:PST
DTSTART:20251102T090000
END:STANDARD
BEGIN:DAYLIGHT
TZOFFSETFROM:-0800
TZOFFSETTO:-0700
TZNAME:PDT
DTSTART:20260308T100000
END:DAYLIGHT
BEGIN:STANDARD
TZOFFSETFROM:-0700
TZOFFSETTO:-0800
TZNAME:PST
DTSTART:20261101T090000
END:STANDARD
END:VTIMEZONE
BEGIN:VEVENT
DTSTART;TZID=America/Vancouver:20250215T190000
DTEND;TZID=America/Vancouver:20250215T220000
DTSTAMP:20260425T170531
CREATED:20241119T021918Z
LAST-MODIFIED:20250111T220247Z
UID:10712-1739646000-1739656800@www.wkartscouncil.com
SUMMARY:Open Mic
DESCRIPTION:Hosted by Jeff Bonner\, this licensed evening of performances will be a delight and full of surprises! Come to play\, or simply to enjoy the local talents. \nEvent takes place in our Slocan Lake Arts Center: 408 4th Street\, Silverton BC \nThis happens every 3rd Saturday of the month!
URL:https://www.wkartscouncil.com/event/open-mic-11/
LOCATION:Slocan Lake Arts Centre\, 408 Lake Avenue\, Silverton\, BC\, V0G 1S0
CATEGORIES:Calendar,Community Events,Live Performance
ATTACH;FMTTYPE=image/jpeg:https://genexsites.s3.ca-west-1.amazonaws.com/05/wp-content/uploads/sites/26/2023/05/20182638/kate-OW70ek.tmp_.jpg
ORGANIZER;CN="Slocan Lake Arts Council":MAILTO:slocanlakeartscouncil@gmail.com
END:VEVENT
END:VCALENDAR