
BEGIN:VCALENDAR
VERSION:2.0
PRODID:-//West Kootenay Regional Arts Council - ECPv6.15.20//NONSGML v1.0//EN
CALSCALE:GREGORIAN
METHOD:PUBLISH
X-WR-CALNAME:West Kootenay Regional Arts Council
X-ORIGINAL-URL:https://www.wkartscouncil.com
X-WR-CALDESC:Events for West Kootenay Regional Arts Council
REFRESH-INTERVAL;VALUE=DURATION:PT1H
X-Robots-Tag:noindex
X-PUBLISHED-TTL:PT1H
BEGIN:VTIMEZONE
TZID:America/Vancouver
BEGIN:DAYLIGHT
TZOFFSETFROM:-0800
TZOFFSETTO:-0700
TZNAME:PDT
DTSTART:20240310T100000
END:DAYLIGHT
BEGIN:STANDARD
TZOFFSETFROM:-0700
TZOFFSETTO:-0800
TZNAME:PST
DTSTART:20241103T090000
END:STANDARD
BEGIN:DAYLIGHT
TZOFFSETFROM:-0800
TZOFFSETTO:-0700
TZNAME:PDT
DTSTART:20250309T100000
END:DAYLIGHT
BEGIN:STANDARD
TZOFFSETFROM:-0700
TZOFFSETTO:-0800
TZNAME:PST
DTSTART:20251102T090000
END:STANDARD
BEGIN:DAYLIGHT
TZOFFSETFROM:-0800
TZOFFSETTO:-0700
TZNAME:PDT
DTSTART:20260308T100000
END:DAYLIGHT
BEGIN:STANDARD
TZOFFSETFROM:-0700
TZOFFSETTO:-0800
TZNAME:PST
DTSTART:20261101T090000
END:STANDARD
END:VTIMEZONE
BEGIN:VEVENT
DTSTART;TZID=America/Vancouver:20250212T183000
DTEND;TZID=America/Vancouver:20250212T210000
DTSTAMP:20260425T170546
CREATED:20250108T221744Z
LAST-MODIFIED:20250111T220244Z
UID:11519-1739385000-1739394000@www.wkartscouncil.com
SUMMARY:Circus Acts Insomniacs Present: “Go On\, Git!”
DESCRIPTION:Circus Acts Insomniacs Present: “Go On\, Git!”\n A Western Variety Show  \nSaddle up for a wild night of live music and jaw-dropping circus acts! Featuring the rip-roaring tunes of The Sarah Orton Band and a lineup of performers ready to knock your boots off. Your charming host for the evening: Johnny Poutina! \n Starring: \n\nJodie Michelle\nShivivi\nYeehaw Yessie!\nDandy Flanders\nand\, of course\, Circus Acts Insomniacs\n\nRound up your posse and mosey on over for aerial arts\, partner acrobatics\, dance\, comedy\, and a wagon-load of surprises. Dust off those boots\, bring your best holler\, and join us for a night of good ol’ fashioned Western revelry.  \nGiddy up or git! You won’t want to miss this showdown! \nFeb 12 & 13 | 6:30 \n$40 + fees \nThe Capitol Theatre Nelson
URL:https://www.wkartscouncil.com/event/circus-acts-insomniacs-present-go-on-git/
LOCATION:The Capitol Theatre\, 421 Victoria Street\, Nelson\, British Columbia\, V1L 5R2\, Canada
CATEGORIES:Calendar,Live Performance
ORGANIZER;CN="Circus Acts Insomniacs":MAILTO:info@circusactsinsomniacs.com
END:VEVENT
BEGIN:VEVENT
DTSTART;TZID=America/Vancouver:20250212T183000
DTEND;TZID=America/Vancouver:20250212T210000
DTSTAMP:20260425T170546
CREATED:20250110T204934Z
LAST-MODIFIED:20250111T220245Z
UID:11551-1739385000-1739394000@www.wkartscouncil.com
SUMMARY:Circus Acts Insomniacs Present: “Go On\, Git!”
DESCRIPTION:Circus Acts Insomniacs Present: “Go On\, Git!”\n A Western Variety Show  \nSaddle up for a wild night of live music and jaw-dropping circus acts! Featuring the rip-roaring tunes of The Sarah Orton Band and a lineup of performers ready to knock your boots off. Your charming host for the evening: Johnny Poutina! \n Starring: \n\nJodie Michelle\nShivivi\nYeehaw Yessie!\nDandy Flanders\nand\, of course\, Circus Acts Insomniacs\n\nRound up your posse and mosey on over for aerial arts\, partner acrobatics\, dance\, comedy\, and a wagon-load of surprises. Dust off those boots\, bring your best holler\, and join us for a night of good ol’ fashioned Western revelry.  \nFeb 12 & 13 | 6:30 \nCapitol Theatre\, Nelson B.C \n$40 + fees \nGiddy up or git! You won’t want to miss this showdown!
URL:https://www.wkartscouncil.com/event/circus-acts-insomniacs-present-go-on-git-2/
LOCATION:The Capitol Theatre\, 421 Victoria Street\, Nelson\, British Columbia\, V1L 5R2\, Canada
CATEGORIES:Calendar,Live Performance
ORGANIZER;CN="Circus Acts Insomniacs":MAILTO:info@circusactsinsomniacs.com
END:VEVENT
END:VCALENDAR