
BEGIN:VCALENDAR
VERSION:2.0
PRODID:-//West Kootenay Regional Arts Council - ECPv6.15.20//NONSGML v1.0//EN
CALSCALE:GREGORIAN
METHOD:PUBLISH
X-WR-CALNAME:West Kootenay Regional Arts Council
X-ORIGINAL-URL:https://www.wkartscouncil.com
X-WR-CALDESC:Events for West Kootenay Regional Arts Council
REFRESH-INTERVAL;VALUE=DURATION:PT1H
X-Robots-Tag:noindex
X-PUBLISHED-TTL:PT1H
BEGIN:VTIMEZONE
TZID:America/Vancouver
BEGIN:DAYLIGHT
TZOFFSETFROM:-0800
TZOFFSETTO:-0700
TZNAME:PDT
DTSTART:20240310T100000
END:DAYLIGHT
BEGIN:STANDARD
TZOFFSETFROM:-0700
TZOFFSETTO:-0800
TZNAME:PST
DTSTART:20241103T090000
END:STANDARD
BEGIN:DAYLIGHT
TZOFFSETFROM:-0800
TZOFFSETTO:-0700
TZNAME:PDT
DTSTART:20250309T100000
END:DAYLIGHT
BEGIN:STANDARD
TZOFFSETFROM:-0700
TZOFFSETTO:-0800
TZNAME:PST
DTSTART:20251102T090000
END:STANDARD
BEGIN:DAYLIGHT
TZOFFSETFROM:-0800
TZOFFSETTO:-0700
TZNAME:PDT
DTSTART:20260308T100000
END:DAYLIGHT
BEGIN:STANDARD
TZOFFSETFROM:-0700
TZOFFSETTO:-0800
TZNAME:PST
DTSTART:20261101T090000
END:STANDARD
END:VTIMEZONE
BEGIN:VEVENT
DTSTART;TZID=America/Vancouver:20250209T150000
DTEND;TZID=America/Vancouver:20250209T160000
DTSTAMP:20260425T133737
CREATED:20241112T222414Z
LAST-MODIFIED:20250111T220243Z
UID:10674-1739113200-1739116800@www.wkartscouncil.com
SUMMARY:The Baby Tyler Show
DESCRIPTION:A mind-bending puppet show by Fraggle Rock/Sesame/Henson puppeteer. “Hansen turns anything and everything into a puppet and makes it funny. A MUST-SEE!” – FringeReviews.com \nWatch as Ingrid performs a live puppet film before your very eyes\, using only household objects\, a camera\, and her bare hands. \n“Utterly magical\, insanely inventive\, wickedly funny. ★★★★★” – Free Press.\n“Both live and magnified on screen\, in cunningly angled cameras and mirrors\, we see Hansen create characters from her own hands\, fingers\, face. NUTTY\, INGENIOUS\, MESMERIZING.”\n-12th Night.\n“GENIUS PHYSICAL COMEDY!” – Entertainment World.\n“Immensely funny\, creative\, uproarious and surprising…Her physicality is impeccable.”\n– The Star Phoenix\n“Unbelievably funny.” – PLANK Magazine\n“Unbelievably charismatic.” – The Charlebois Post \nDanish-Canadian puppeteer Ingrid Hansen also performs on television with the Jim Henson Company’s Fraggle Rock and Sesame Workshop’s Emmy-Award-Winning series Helpsters. \nAge 5+ \nAdult: $15; Senior: $13.50; Under 30: $10 \nThe Capitol Theatre
URL:https://www.wkartscouncil.com/event/the-baby-tyler-show/
LOCATION:The Capitol Theatre\, 421 Victoria Street\, Nelson\, British Columbia\, V1L 5R2\, Canada
CATEGORIES:Calendar,Kid Friendly,Live Performance
ATTACH;FMTTYPE=image/png:https://genexsites.s3.ca-west-1.amazonaws.com/05/wp-content/uploads/sites/26/2024/11/20175940/3-fUgPQF.tmp_.png
END:VEVENT
BEGIN:VEVENT
DTSTART;TZID=America/Vancouver:20250209T160000
DTEND;TZID=America/Vancouver:20250209T190000
DTSTAMP:20260425T133737
CREATED:20241112T222600Z
LAST-MODIFIED:20250111T220244Z
UID:10676-1739116800-1739127600@www.wkartscouncil.com
SUMMARY:Newkeys Place presents\, Blues in The Afternoon with Sam Hurrie
DESCRIPTION:Newkeys Place in Crawforbay presents\, Blues in The Afternoon with Sam Hurrie\, Like with friends. \nSundays 4-7
URL:https://www.wkartscouncil.com/event/newkeys-place-presents-blues-in-the-afternoon-with-sam-hurrie-54/
LOCATION:New Key’s Pub\, 16070 BC-3A\, Crawford Bay\, BC\, V0B 1E0\, Canada
CATEGORIES:Calendar,Live Performance
ATTACH;FMTTYPE=image/jpeg:https://genexsites.s3.ca-west-1.amazonaws.com/05/wp-content/uploads/sites/26/2024/02/20182019/421386343_794638979369624_4824241606627690411_n-MipTQS.tmp_.jpg
END:VEVENT
END:VCALENDAR