
BEGIN:VCALENDAR
VERSION:2.0
PRODID:-//West Kootenay Regional Arts Council - ECPv6.15.20//NONSGML v1.0//EN
CALSCALE:GREGORIAN
METHOD:PUBLISH
X-WR-CALNAME:West Kootenay Regional Arts Council
X-ORIGINAL-URL:https://www.wkartscouncil.com
X-WR-CALDESC:Events for West Kootenay Regional Arts Council
REFRESH-INTERVAL;VALUE=DURATION:PT1H
X-Robots-Tag:noindex
X-PUBLISHED-TTL:PT1H
BEGIN:VTIMEZONE
TZID:America/Vancouver
BEGIN:DAYLIGHT
TZOFFSETFROM:-0800
TZOFFSETTO:-0700
TZNAME:PDT
DTSTART:20240310T100000
END:DAYLIGHT
BEGIN:STANDARD
TZOFFSETFROM:-0700
TZOFFSETTO:-0800
TZNAME:PST
DTSTART:20241103T090000
END:STANDARD
BEGIN:DAYLIGHT
TZOFFSETFROM:-0800
TZOFFSETTO:-0700
TZNAME:PDT
DTSTART:20250309T100000
END:DAYLIGHT
BEGIN:STANDARD
TZOFFSETFROM:-0700
TZOFFSETTO:-0800
TZNAME:PST
DTSTART:20251102T090000
END:STANDARD
BEGIN:DAYLIGHT
TZOFFSETFROM:-0800
TZOFFSETTO:-0700
TZNAME:PDT
DTSTART:20260308T100000
END:DAYLIGHT
BEGIN:STANDARD
TZOFFSETFROM:-0700
TZOFFSETTO:-0800
TZNAME:PST
DTSTART:20261101T090000
END:STANDARD
END:VTIMEZONE
BEGIN:VEVENT
DTSTART;TZID=America/Vancouver:20250621T200000
DTEND;TZID=America/Vancouver:20250621T233000
DTSTAMP:20260423T091506
CREATED:20250521T175045Z
LAST-MODIFIED:20250621T230314Z
UID:15338-1750536000-1750548600@www.wkartscouncil.com
SUMMARY:LILA GRAY featuring JOHNNY POUTINA
DESCRIPTION:the MORE THAN A KID tour \nRaised in the mountains of BC\, Lila Gray calls Vancouver home. Through her heartfelt lyrics and skillful songwriting\, Lila plumbs the depths of her young adulthood and explores the trials and tribulations of queer womanhood in the 21st century. This young artist found her passion\, and eternal love for music at the tender age of five\, when she started her classical training through cello. Since then\, Lila has picked up singing\, songwriting\, and guitar to establish her presence as a musician. Shortly after placing in the Top 100 of the 2021 CBC Searchlight Competition\, Lila took off to Montreal to pursue a formal education in audio engineering and sound production. Lila’s unique production and intricate lyricism are masterfully executed in her third album Scared Of The Dark (You Should Be Too). Lila has garnered 150\,000 streams\, and counting\, on Spotify. \nFeaturing support from Nelson local\, Johnny Poutina (of The Dancing Legs).
URL:https://www.wkartscouncil.com/event/lila-gray-featuring-johnny-poutina/
LOCATION:The Royal\, 330 Baker Street Nelson\, BC V1L 4H5\, Nelson\, British Columbia\, V1L 4H5\, Canada
CATEGORIES:Calendar,Community Events,LGBTQIA2S+,Live Performance
END:VEVENT
END:VCALENDAR