
BEGIN:VCALENDAR
VERSION:2.0
PRODID:-//West Kootenay Regional Arts Council - ECPv6.15.20//NONSGML v1.0//EN
CALSCALE:GREGORIAN
METHOD:PUBLISH
X-ORIGINAL-URL:https://www.wkartscouncil.com
X-WR-CALDESC:Events for West Kootenay Regional Arts Council
REFRESH-INTERVAL;VALUE=DURATION:PT1H
X-Robots-Tag:noindex
X-PUBLISHED-TTL:PT1H
BEGIN:VTIMEZONE
TZID:America/Vancouver
BEGIN:DAYLIGHT
TZOFFSETFROM:-0800
TZOFFSETTO:-0700
TZNAME:PDT
DTSTART:20240310T100000
END:DAYLIGHT
BEGIN:STANDARD
TZOFFSETFROM:-0700
TZOFFSETTO:-0800
TZNAME:PST
DTSTART:20241103T090000
END:STANDARD
BEGIN:DAYLIGHT
TZOFFSETFROM:-0800
TZOFFSETTO:-0700
TZNAME:PDT
DTSTART:20250309T100000
END:DAYLIGHT
BEGIN:STANDARD
TZOFFSETFROM:-0700
TZOFFSETTO:-0800
TZNAME:PST
DTSTART:20251102T090000
END:STANDARD
BEGIN:DAYLIGHT
TZOFFSETFROM:-0800
TZOFFSETTO:-0700
TZNAME:PDT
DTSTART:20260308T100000
END:DAYLIGHT
BEGIN:STANDARD
TZOFFSETFROM:-0700
TZOFFSETTO:-0800
TZNAME:PST
DTSTART:20261101T090000
END:STANDARD
END:VTIMEZONE
BEGIN:VEVENT
DTSTART;TZID=America/Vancouver:20250603T193000
DTEND;TZID=America/Vancouver:20250603T233000
DTSTAMP:20260423T044001
CREATED:20250521T175045Z
LAST-MODIFIED:20250603T220214Z
UID:15331-1748979000-1748993400@www.wkartscouncil.com
SUMMARY:RUTH & SHELBY’S BOOT SCOOTIN’ BOOGIE – JUNE
DESCRIPTION:Country Line Dance Night with instruction by Fabiola Gascon \nY’all ready for another boot-stompin’ good time at The Royal? We’ll start with a new line dance lesson led by Fabiola Gascon\, followed by a quick refresher of the previous dances! Then\, get ready to kick up some dust as we dance the night away. Western wear is encouraged.
URL:https://www.wkartscouncil.com/event/ruth-shelbys-boot-scootin-boogie-june/
LOCATION:The Royal\, 330 Baker Street Nelson\, BC V1L 4H5\, Nelson\, British Columbia\, V1L 4H5\, Canada
CATEGORIES:Calendar,Community Events,LGBTQIA2S+,Live Performance
ORGANIZER;CN="Ruth and Shelby":MAILTO:ruthandshelby@gmail.com
END:VEVENT
END:VCALENDAR