
BEGIN:VCALENDAR
VERSION:2.0
PRODID:-//West Kootenay Regional Arts Council - ECPv6.15.20//NONSGML v1.0//EN
CALSCALE:GREGORIAN
METHOD:PUBLISH
X-ORIGINAL-URL:https://www.wkartscouncil.com
X-WR-CALDESC:Events for West Kootenay Regional Arts Council
REFRESH-INTERVAL;VALUE=DURATION:PT1H
X-Robots-Tag:noindex
X-PUBLISHED-TTL:PT1H
BEGIN:VTIMEZONE
TZID:America/Vancouver
BEGIN:DAYLIGHT
TZOFFSETFROM:-0800
TZOFFSETTO:-0700
TZNAME:PDT
DTSTART:20240310T100000
END:DAYLIGHT
BEGIN:STANDARD
TZOFFSETFROM:-0700
TZOFFSETTO:-0800
TZNAME:PST
DTSTART:20241103T090000
END:STANDARD
BEGIN:DAYLIGHT
TZOFFSETFROM:-0800
TZOFFSETTO:-0700
TZNAME:PDT
DTSTART:20250309T100000
END:DAYLIGHT
BEGIN:STANDARD
TZOFFSETFROM:-0700
TZOFFSETTO:-0800
TZNAME:PST
DTSTART:20251102T090000
END:STANDARD
BEGIN:DAYLIGHT
TZOFFSETFROM:-0800
TZOFFSETTO:-0700
TZNAME:PDT
DTSTART:20260308T100000
END:DAYLIGHT
BEGIN:STANDARD
TZOFFSETFROM:-0700
TZOFFSETTO:-0800
TZNAME:PST
DTSTART:20261101T090000
END:STANDARD
END:VTIMEZONE
BEGIN:VEVENT
DTSTART;TZID=America/Vancouver:20250228T190000
DTEND;TZID=America/Vancouver:20250228T220000
DTSTAMP:20260423T194201
CREATED:20250218T190328Z
LAST-MODIFIED:20250301T000116Z
UID:12036-1740769200-1740780000@www.wkartscouncil.com
SUMMARY:Deep 2: A Very Graphic Novel
DESCRIPTION:Zen WangBack by popular demand! DEEP 2 is finally here.Feb 28th\, 2025. Doors open at 7PM. 444 Baker St. Nelson. BC.\nDEEP is an intimate affair where it is safe to explore and wonder.DEEP is an imaginative space where your spirit is allowed to roam.DEEP is a self-honouring and community supported oasis to let loose and enjoy who you are.\nSOMA Sound & Events & Gallery 444 present DEEP 2 ~ An erotic pop-up art exhibit.\nAt this one night only event there will be more of the fresh-off-the-drawing board Erotic Posters from the Graphic Novel “DEEP”. This event will also be host to our guest Intimacy Experts who will be offering a Somatic Consent Intro; also provided for our guests will be delicious and healthy elixirs to quench your body and soul at our “cash only elixir bar”; an Aphrodisiac chocolate fountain to wet your desires; & Transcendence music and dance floor to manifest your destiny through movement. Listen to your inner voice and join us to celebrate this sensual experience on Earth.\n*** Guest appearance by Mz. Iris Wilde -ambient sensual performance art. Bringing the soulful expression of heart and divinity\, the body as altar and embodied poetry. ***\n\nTickets are $30 at the door and $25 online via Eventbrite.\nSpace is limited\, so reserve your spot today.\nDress code is “as sexy as you feel comfortable with”.\n• please note this venue will ask for you to remove shoes in gallery• This is an 18+ event
URL:https://www.wkartscouncil.com/event/deep-2-a-very-graphic-novel/
LOCATION:Gallery 444\, 448 Baker St\, Nelson\, BC\, V1L 4H8\, Canada
CATEGORIES:Art,Calendar,Exhibition/Speakers,LGBTQIA2S+
ATTACH;FMTTYPE=image/jpeg:https://genexsites.s3.ca-west-1.amazonaws.com/05/wp-content/uploads/sites/26/2025/02/20175643/deep2-e8Tg1B.tmp_.jpg
ORGANIZER;CN="SOMA Sound &amp%3B Events":MAILTO:somasoundstudio444@gmail.com
END:VEVENT
END:VCALENDAR