
BEGIN:VCALENDAR
VERSION:2.0
PRODID:-//West Kootenay Regional Arts Council - ECPv6.15.20//NONSGML v1.0//EN
CALSCALE:GREGORIAN
METHOD:PUBLISH
X-WR-CALNAME:West Kootenay Regional Arts Council
X-ORIGINAL-URL:https://www.wkartscouncil.com
X-WR-CALDESC:Events for West Kootenay Regional Arts Council
REFRESH-INTERVAL;VALUE=DURATION:PT1H
X-Robots-Tag:noindex
X-PUBLISHED-TTL:PT1H
BEGIN:VTIMEZONE
TZID:America/Edmonton
BEGIN:DAYLIGHT
TZOFFSETFROM:-0700
TZOFFSETTO:-0600
TZNAME:MDT
DTSTART:20230312T090000
END:DAYLIGHT
BEGIN:STANDARD
TZOFFSETFROM:-0600
TZOFFSETTO:-0700
TZNAME:MST
DTSTART:20231105T080000
END:STANDARD
BEGIN:DAYLIGHT
TZOFFSETFROM:-0700
TZOFFSETTO:-0600
TZNAME:MDT
DTSTART:20240310T090000
END:DAYLIGHT
BEGIN:STANDARD
TZOFFSETFROM:-0600
TZOFFSETTO:-0700
TZNAME:MST
DTSTART:20241103T080000
END:STANDARD
BEGIN:DAYLIGHT
TZOFFSETFROM:-0700
TZOFFSETTO:-0600
TZNAME:MDT
DTSTART:20250309T090000
END:DAYLIGHT
BEGIN:STANDARD
TZOFFSETFROM:-0600
TZOFFSETTO:-0700
TZNAME:MST
DTSTART:20251102T080000
END:STANDARD
END:VTIMEZONE
BEGIN:VEVENT
DTSTART;VALUE=DATE:20240918
DTEND;VALUE=DATE:20240923
DTSTAMP:20260424T140921
CREATED:20240718T211347Z
LAST-MODIFIED:20240718T211347Z
UID:9474-1726617600-1727049599@www.wkartscouncil.com
SUMMARY:Elk Valley Pride Festival
DESCRIPTION:A rainbow celebreation of Pride in the mountains! This 5-day festival features Spectrum Queer Arts Day\, Drag Brunch\, Storytine\, Rainbow Reads\, Rainbow Reels\, and so much more!
URL:https://www.wkartscouncil.com/event/elk-valley-pride-festival/
LOCATION:Fernie\, Fernie\, BC
CATEGORIES:Calendar,Community Events,Exhibition/Speakers,LGBTQIA2S+,Live Performance
ATTACH;FMTTYPE=image/png:https://genexsites.s3.ca-west-1.amazonaws.com/05/wp-content/uploads/sites/26/2024/07/20180329/2024-EVPF-SM-Events.png
ORGANIZER;CN="Fernie Pride Society":MAILTO:ferniepride@gmail.com
END:VEVENT
END:VCALENDAR