
BEGIN:VCALENDAR
VERSION:2.0
PRODID:-//West Kootenay Regional Arts Council - ECPv6.15.20//NONSGML v1.0//EN
CALSCALE:GREGORIAN
METHOD:PUBLISH
X-WR-CALNAME:West Kootenay Regional Arts Council
X-ORIGINAL-URL:https://www.wkartscouncil.com
X-WR-CALDESC:Events for West Kootenay Regional Arts Council
REFRESH-INTERVAL;VALUE=DURATION:PT1H
X-Robots-Tag:noindex
X-PUBLISHED-TTL:PT1H
BEGIN:VTIMEZONE
TZID:America/Vancouver
BEGIN:DAYLIGHT
TZOFFSETFROM:-0800
TZOFFSETTO:-0700
TZNAME:PDT
DTSTART:20230312T100000
END:DAYLIGHT
BEGIN:STANDARD
TZOFFSETFROM:-0700
TZOFFSETTO:-0800
TZNAME:PST
DTSTART:20231105T090000
END:STANDARD
BEGIN:DAYLIGHT
TZOFFSETFROM:-0800
TZOFFSETTO:-0700
TZNAME:PDT
DTSTART:20240310T100000
END:DAYLIGHT
BEGIN:STANDARD
TZOFFSETFROM:-0700
TZOFFSETTO:-0800
TZNAME:PST
DTSTART:20241103T090000
END:STANDARD
BEGIN:DAYLIGHT
TZOFFSETFROM:-0800
TZOFFSETTO:-0700
TZNAME:PDT
DTSTART:20250309T100000
END:DAYLIGHT
BEGIN:STANDARD
TZOFFSETFROM:-0700
TZOFFSETTO:-0800
TZNAME:PST
DTSTART:20251102T090000
END:STANDARD
END:VTIMEZONE
BEGIN:VEVENT
DTSTART;TZID=America/Vancouver:20240718T170000
DTEND;TZID=America/Vancouver:20240718T200000
DTSTAMP:20260424T154213
CREATED:20240715T224114Z
LAST-MODIFIED:20240717T181741Z
UID:9412-1721322000-1721332800@www.wkartscouncil.com
SUMMARY:July Exhibition Opening
DESCRIPTION:Join us for an exciting evening as we celebrate the works of six dedicated artists. Enjoy live music\, an affordable bar\, and great company. Whether you’re a long-time gallery patron or new to Revelstoke’s art scene\, this promises to be a fantastic night out! Everyone is welcome to attend this public\, family friendly event\, no RSVP required.\n $5 admission or free entry for members All welcome Semi formal attire encouraged The viewing (quiet) | 3pm – 5pm The social (main event) | 5pm – 8pm RVAC\, 320 Wilson st\nThis month we are proud to be celebrating the hard work of: Isabelle Gagné | @misspixels Ugo Monticone | @ugo.monticone Marc Sauvageau | @marc.sauvageau Nicole Lau | @nicolelauartist Birte Spreuer | @lovebirdielove Florence Janiaud | @florence_janiaud
URL:https://www.wkartscouncil.com/event/july-exhibition-opening/
LOCATION:Revelstoke Visual Arts Centre\, 320 Wilson Street\, Revelstoke\, V0E 2S0
CATEGORIES:Calendar,Community Events,Exhibition/Speakers,LGBTQIA2S+
ATTACH;FMTTYPE=image/jpeg:https://genexsites.s3.ca-west-1.amazonaws.com/05/wp-content/uploads/sites/26/2024/07/20180342/ATittyInTheMountains_20x20cm_02-04-jcB0Vh.tmp_.jpg
ORGANIZER;CN="Revelstoke Visual Arts Centre":MAILTO:info@revelstokeartgallery.ca
END:VEVENT
END:VCALENDAR