
BEGIN:VCALENDAR
VERSION:2.0
PRODID:-//West Kootenay Regional Arts Council - ECPv6.15.20//NONSGML v1.0//EN
CALSCALE:GREGORIAN
METHOD:PUBLISH
X-WR-CALNAME:West Kootenay Regional Arts Council
X-ORIGINAL-URL:https://www.wkartscouncil.com
X-WR-CALDESC:Events for West Kootenay Regional Arts Council
REFRESH-INTERVAL;VALUE=DURATION:PT1H
X-Robots-Tag:noindex
X-PUBLISHED-TTL:PT1H
BEGIN:VTIMEZONE
TZID:America/Vancouver
BEGIN:DAYLIGHT
TZOFFSETFROM:-0800
TZOFFSETTO:-0700
TZNAME:PDT
DTSTART:20230312T100000
END:DAYLIGHT
BEGIN:STANDARD
TZOFFSETFROM:-0700
TZOFFSETTO:-0800
TZNAME:PST
DTSTART:20231105T090000
END:STANDARD
BEGIN:DAYLIGHT
TZOFFSETFROM:-0800
TZOFFSETTO:-0700
TZNAME:PDT
DTSTART:20240310T100000
END:DAYLIGHT
BEGIN:STANDARD
TZOFFSETFROM:-0700
TZOFFSETTO:-0800
TZNAME:PST
DTSTART:20241103T090000
END:STANDARD
BEGIN:DAYLIGHT
TZOFFSETFROM:-0800
TZOFFSETTO:-0700
TZNAME:PDT
DTSTART:20250309T100000
END:DAYLIGHT
BEGIN:STANDARD
TZOFFSETFROM:-0700
TZOFFSETTO:-0800
TZNAME:PST
DTSTART:20251102T090000
END:STANDARD
END:VTIMEZONE
BEGIN:VEVENT
DTSTART;TZID=America/Vancouver:20240713T210000
DTEND;TZID=America/Vancouver:20240714T010000
DTSTAMP:20260424T154214
CREATED:20240528T202832Z
LAST-MODIFIED:20240713T171656Z
UID:7958-1720904400-1720918800@www.wkartscouncil.com
SUMMARY:Taylor’s Version – Dance Party
DESCRIPTION:Taylor’s Version – a Taylor Swift dance party. Join us on July 13th at Spiritbar (19+) to dance and sing to your favourite Taylor Swift songs\, take pics in the photo booth\, and make friendship bracelets. All proceeds from this event will be donated to Nelson Pride.
URL:https://www.wkartscouncil.com/event/taylors-version-dance-party/
LOCATION:Spiritbar\, 422 Vernon St\, Nelson\, British Columbia\, V1L 4E5
CATEGORIES:Calendar,Community Events,LGBTQIA2S+
ATTACH;FMTTYPE=image/png:https://genexsites.s3.ca-west-1.amazonaws.com/05/wp-content/uploads/sites/26/2024/05/20181605/taylorsversion-poster-FQEyBA.tmp_.png
ORGANIZER;CN="Axel and Ruth":MAILTO:rkrulitsky@gmail.com
END:VEVENT
END:VCALENDAR