
BEGIN:VCALENDAR
VERSION:2.0
PRODID:-//West Kootenay Regional Arts Council - ECPv6.15.20//NONSGML v1.0//EN
CALSCALE:GREGORIAN
METHOD:PUBLISH
X-WR-CALNAME:West Kootenay Regional Arts Council
X-ORIGINAL-URL:https://www.wkartscouncil.com
X-WR-CALDESC:Events for West Kootenay Regional Arts Council
REFRESH-INTERVAL;VALUE=DURATION:PT1H
X-Robots-Tag:noindex
X-PUBLISHED-TTL:PT1H
BEGIN:VTIMEZONE
TZID:America/Vancouver
BEGIN:DAYLIGHT
TZOFFSETFROM:-0800
TZOFFSETTO:-0700
TZNAME:PDT
DTSTART:20230312T100000
END:DAYLIGHT
BEGIN:STANDARD
TZOFFSETFROM:-0700
TZOFFSETTO:-0800
TZNAME:PST
DTSTART:20231105T090000
END:STANDARD
BEGIN:DAYLIGHT
TZOFFSETFROM:-0800
TZOFFSETTO:-0700
TZNAME:PDT
DTSTART:20240310T100000
END:DAYLIGHT
BEGIN:STANDARD
TZOFFSETFROM:-0700
TZOFFSETTO:-0800
TZNAME:PST
DTSTART:20241103T090000
END:STANDARD
BEGIN:DAYLIGHT
TZOFFSETFROM:-0800
TZOFFSETTO:-0700
TZNAME:PDT
DTSTART:20250309T100000
END:DAYLIGHT
BEGIN:STANDARD
TZOFFSETFROM:-0700
TZOFFSETTO:-0800
TZNAME:PST
DTSTART:20251102T090000
END:STANDARD
END:VTIMEZONE
BEGIN:VEVENT
DTSTART;TZID=America/Vancouver:20240628T200000
DTEND;TZID=America/Vancouver:20240628T220000
DTSTAMP:20260424T184700
CREATED:20240617T044525Z
LAST-MODIFIED:20240628T171655Z
UID:8563-1719604800-1719612000@www.wkartscouncil.com
SUMMARY:20/40\, A Sketch Comedy Show @ The Royal
DESCRIPTION:Really Cool Productions presents 20/40\, A Sketch Comedy Show.\n\n20/40 is an experimental theater show with twenty acts performed in forty minutes\, and the audience picks the order!\nThe acts include performance art\, dance\, audience participation\, and sketch. This mix of art blurs the line between chaotic and focused performances\, proving to be a multi-layered emotional roller coaster that demands you to stay present.\n\nThis show is interactive\, energetic and without exaggeration\, a must-see.We’ve sold out twice in the past\, so get your tickies while available!!\n\n\n\nNeed to knows:\n\nThe 20/40 Sketch Comedy Show is at The Royal\, located at 330 Baker Street. Doors open at 8:00pm Show starts at 8:30pm. This show is timed to be exactly 40 minutes long with no intermissions! So get there early\, have a drink and stay there late and have a drink!\n\nTickets: $15 online / $20 at the door.\n\nWho We Are:\nJaymes BowmanSuz ChristisonMichelle HartEmma HillRuth KrulitskyShelby Sanford\n\nDirected by Michelle Hart\n\nMichelle Hart is a multi-disciplinary artist\, specializing in theatre and improvisation. Since graduating from Mount Allison University with a theatre degree\, she has trained\, taught and performed with theatre institutions across North America to hone her craft. Michelle is the recipient of the Pat & Tony Freedom Fund\, Outstanding Sketch/Improv Productions from My Entertainment Weekly\, and was featured on JFL42 Sirius FX Just For Laughs Festival. She has worked as a cast member for MSC Seaside\, The Second City\, and the Bad Dog Theatre Feature Players. Currently she is the Co-Director of The Canadian Improv Games: Improv Camp and one of the head writers of Southern Interior\, a Nelson-based Sketch Show.\nOnline: @WeirdHart + @ReallyCoolProductions\n\nThe 20/40 Sketch Comedy Show is proudly produced by Really Cool Productions. Follow us on Instagram for upcoming shows and audition notices! @ReallyCoolProductions
URL:https://www.wkartscouncil.com/event/20-40-a-sketch-comedy-show-the-royal/
LOCATION:The Royal\, 330 Baker Street Nelson\, BC V1L 4H5\, Nelson\, British Columbia\, V1L 4H5\, Canada
CATEGORIES:Calendar,LGBTQIA2S+,Live Performance
ATTACH;FMTTYPE=image/jpeg:https://genexsites.s3.ca-west-1.amazonaws.com/05/wp-content/uploads/sites/26/2024/06/20181004/sketch-INllVX.tmp_.jpg
END:VEVENT
END:VCALENDAR