
BEGIN:VCALENDAR
VERSION:2.0
PRODID:-//West Kootenay Regional Arts Council - ECPv6.15.20//NONSGML v1.0//EN
CALSCALE:GREGORIAN
METHOD:PUBLISH
X-ORIGINAL-URL:https://www.wkartscouncil.com
X-WR-CALDESC:Events for West Kootenay Regional Arts Council
REFRESH-INTERVAL;VALUE=DURATION:PT1H
X-Robots-Tag:noindex
X-PUBLISHED-TTL:PT1H
BEGIN:VTIMEZONE
TZID:America/Vancouver
BEGIN:DAYLIGHT
TZOFFSETFROM:-0800
TZOFFSETTO:-0700
TZNAME:PDT
DTSTART:20230312T100000
END:DAYLIGHT
BEGIN:STANDARD
TZOFFSETFROM:-0700
TZOFFSETTO:-0800
TZNAME:PST
DTSTART:20231105T090000
END:STANDARD
BEGIN:DAYLIGHT
TZOFFSETFROM:-0800
TZOFFSETTO:-0700
TZNAME:PDT
DTSTART:20240310T100000
END:DAYLIGHT
BEGIN:STANDARD
TZOFFSETFROM:-0700
TZOFFSETTO:-0800
TZNAME:PST
DTSTART:20241103T090000
END:STANDARD
BEGIN:DAYLIGHT
TZOFFSETFROM:-0800
TZOFFSETTO:-0700
TZNAME:PDT
DTSTART:20250309T100000
END:DAYLIGHT
BEGIN:STANDARD
TZOFFSETFROM:-0700
TZOFFSETTO:-0800
TZNAME:PST
DTSTART:20251102T090000
END:STANDARD
END:VTIMEZONE
BEGIN:VEVENT
DTSTART;TZID=America/Vancouver:20240613T170000
DTEND;TZID=America/Vancouver:20240613T190000
DTSTAMP:20260424T184948
CREATED:20240612T220019Z
LAST-MODIFIED:20240613T174158Z
UID:8497-1718298000-1718305200@www.wkartscouncil.com
SUMMARY:‘We Love a Parade!’ installation launch
DESCRIPTION:The Nelson Museum is officially launching a new permanent installation of We Love a Parade! featuring a localized timeline of events\, images\, and curatorial statements provided by Nelson Museum Curator Arin Fay\, and Research Assistant Adrian Dunkerson.\n\nThe launch takes place on Thursday\, June 13 from 5-7pm at the Museum\, and will feature a screening of the 10-minute trailer for the documentary Queering the Interior\, as well as an introduction from the film’s director Amy Bohigian\, and a tour of the Queer Archives by Michael Wicks.\n\nRefreshments will be provided by Kootenay Kombucha\, Sprout Plant-Based Eatery\, L&C French Bakery\, and the Kootenay Co-op. Thank you to these incredible local businesses\, and to the Columbia Basin Trust for supporting this celebration!\n\nThe event is free and open to the public. Happy Pride!
URL:https://www.wkartscouncil.com/event/we-love-a-parade-installation-launch/
LOCATION:Nelson Museum\, Archives & Gallery\, 502 Vernon Street\, Nelson\, V1L 4E7\, Canada
CATEGORIES:Calendar,Community Events,Exhibition/Speakers,Kid Friendly,LGBTQIA2S+
ATTACH;FMTTYPE=image/png:https://genexsites.s3.ca-west-1.amazonaws.com/05/wp-content/uploads/sites/26/2024/06/20181012/WLAP-launch-insta-sm-i4tByH.tmp_.png
ORGANIZER;CN="Nelson Museum%2C Archives &amp%3B Gallery":MAILTO:info@nelsonmuseum.ca
END:VEVENT
BEGIN:VEVENT
DTSTART;TZID=America/Vancouver:20240613T190000
DTEND;TZID=America/Vancouver:20240613T210000
DTSTAMP:20260424T184948
CREATED:20240601T190717Z
LAST-MODIFIED:20240613T174159Z
UID:8329-1718305200-1718312400@www.wkartscouncil.com
SUMMARY:Drop in Art Nights | FREE
DESCRIPTION:Looking for a creative space to meet new people and make something? Have a project you’ve been meaning to work on? Join us for our free drop-in art nights! These relaxed evenings are open to everyone so bring your art supplies\, a drink\, a snack\, and come get creative! These evening are a fantastic way to make time for your art.  \nThe gallery will have some basic supplies on hand\, like scissors and brushes\, however artists are expected to be self sufficient and bring their own supplies. In the past participants have worked on everything from illustrations and paintings\, to fishing flies and mending projects. We welcome all forms of creative expression\, just please avoid brining any projects that are overly loud or smelly. \n– The second Thursday of the month 7pm – 9pm \n– June 13\, July 11\,  August 8\, & September 12 \n– The Revelstoke Visual Arts Centre\, Kitchen Studio\, 320 Wilson st \n– Entrance is via the undercover area on the left hand side of the building \n– Please leave the space clean for the next person \n– All welcome\, no bookings required
URL:https://www.wkartscouncil.com/event/drop-in-art-nights-free-3/
LOCATION:Revelstoke Visual Arts Centre\, 320 Wilson Street\, Revelstoke\, V0E 2S0
CATEGORIES:Calendar,Community Events,LGBTQIA2S+,Wellness
ORGANIZER;CN="Revelstoke Visual Arts Centre":MAILTO:info@revelstokeartgallery.ca
END:VEVENT
END:VCALENDAR