
BEGIN:VCALENDAR
VERSION:2.0
PRODID:-//West Kootenay Regional Arts Council - ECPv6.15.20//NONSGML v1.0//EN
CALSCALE:GREGORIAN
METHOD:PUBLISH
X-ORIGINAL-URL:https://www.wkartscouncil.com
X-WR-CALDESC:Events for West Kootenay Regional Arts Council
REFRESH-INTERVAL;VALUE=DURATION:PT1H
X-Robots-Tag:noindex
X-PUBLISHED-TTL:PT1H
BEGIN:VTIMEZONE
TZID:America/Vancouver
BEGIN:DAYLIGHT
TZOFFSETFROM:-0800
TZOFFSETTO:-0700
TZNAME:PDT
DTSTART:20230312T100000
END:DAYLIGHT
BEGIN:STANDARD
TZOFFSETFROM:-0700
TZOFFSETTO:-0800
TZNAME:PST
DTSTART:20231105T090000
END:STANDARD
BEGIN:DAYLIGHT
TZOFFSETFROM:-0800
TZOFFSETTO:-0700
TZNAME:PDT
DTSTART:20240310T100000
END:DAYLIGHT
BEGIN:STANDARD
TZOFFSETFROM:-0700
TZOFFSETTO:-0800
TZNAME:PST
DTSTART:20241103T090000
END:STANDARD
BEGIN:DAYLIGHT
TZOFFSETFROM:-0800
TZOFFSETTO:-0700
TZNAME:PDT
DTSTART:20250309T100000
END:DAYLIGHT
BEGIN:STANDARD
TZOFFSETFROM:-0700
TZOFFSETTO:-0800
TZNAME:PST
DTSTART:20251102T090000
END:STANDARD
END:VTIMEZONE
BEGIN:VEVENT
DTSTART;TZID=America/Vancouver:20240427T190000
DTEND;TZID=America/Vancouver:20240427T233000
DTSTAMP:20260424T185437
CREATED:20240404T193820Z
LAST-MODIFIED:20240427T194705Z
UID:7214-1714244400-1714260600@www.wkartscouncil.com
SUMMARY:DIRTWIRE W/ LION-S & THE CIRCUS ACTS INSOMIACS
DESCRIPTION:19+\, ID required\nPresented by The Pride Events & Living Room
URL:https://www.wkartscouncil.com/event/dirtwire-w-lion-s-the-circus-acts-insomiacs/
LOCATION:Spiritbar\, 422 Vernon St\, Nelson\, British Columbia\, V1L 4E5
CATEGORIES:Calendar,LGBTQIA2S+,Live Performance
ATTACH;FMTTYPE=image/png:https://genexsites.s3.ca-west-1.amazonaws.com/05/wp-content/uploads/sites/26/2024/04/20181746/Screen-Shot-2024-04-01-at-2.56.56-PM-HGkH5Y.tmp_.png
END:VEVENT
END:VCALENDAR