
BEGIN:VCALENDAR
VERSION:2.0
PRODID:-//West Kootenay Regional Arts Council - ECPv6.15.20//NONSGML v1.0//EN
CALSCALE:GREGORIAN
METHOD:PUBLISH
X-WR-CALNAME:West Kootenay Regional Arts Council
X-ORIGINAL-URL:https://www.wkartscouncil.com
X-WR-CALDESC:Events for West Kootenay Regional Arts Council
REFRESH-INTERVAL;VALUE=DURATION:PT1H
X-Robots-Tag:noindex
X-PUBLISHED-TTL:PT1H
BEGIN:VTIMEZONE
TZID:America/Vancouver
BEGIN:DAYLIGHT
TZOFFSETFROM:-0800
TZOFFSETTO:-0700
TZNAME:PDT
DTSTART:20230312T100000
END:DAYLIGHT
BEGIN:STANDARD
TZOFFSETFROM:-0700
TZOFFSETTO:-0800
TZNAME:PST
DTSTART:20231105T090000
END:STANDARD
BEGIN:DAYLIGHT
TZOFFSETFROM:-0800
TZOFFSETTO:-0700
TZNAME:PDT
DTSTART:20240310T100000
END:DAYLIGHT
BEGIN:STANDARD
TZOFFSETFROM:-0700
TZOFFSETTO:-0800
TZNAME:PST
DTSTART:20241103T090000
END:STANDARD
BEGIN:DAYLIGHT
TZOFFSETFROM:-0800
TZOFFSETTO:-0700
TZNAME:PDT
DTSTART:20250309T100000
END:DAYLIGHT
BEGIN:STANDARD
TZOFFSETFROM:-0700
TZOFFSETTO:-0800
TZNAME:PST
DTSTART:20251102T090000
END:STANDARD
END:VTIMEZONE
BEGIN:VEVENT
DTSTART;TZID=America/Vancouver:20240425T173000
DTEND;TZID=America/Vancouver:20240425T193000
DTSTAMP:20260424T202330
CREATED:20240324T205646Z
LAST-MODIFIED:20240425T193348Z
UID:7048-1714066200-1714073400@www.wkartscouncil.com
SUMMARY:Faceless Dolls workshop series
DESCRIPTION:The Faceless Dolls campaign\, created by the Native Women’s Association of Canada\, was launched in March 2012 to raise awareness of missing and murdered Indigenous women and girls\, and of the impact this tragedy has on communities across Canada. The project builds on the work of Gloria Larocque’s ‘Aboriginal Angel Doll Project.’\n\nJoin Nelson Museum Social Justice Coordinator Lesley Garlow for free\, facilitated workshops to create your own faceless doll. You can attend one\, a few\, or all of the workshops\, and completed dolls will be on display in the Community Cabinets on the main floor of the Museum. This is a FREE program\, no registration is required\, and all materials will be supplied.
URL:https://www.wkartscouncil.com/event/faceless-dolls-workshop-series/
LOCATION:Nelson Museum\, Archives & Gallery\, 502 Vernon Street\, Nelson\, V1L 4E7\, Canada
CATEGORIES:Calendar,Exhibition/Speakers,Kid Friendly,LGBTQIA2S+,Workshops
ATTACH;FMTTYPE=image/jpeg:https://genexsites.s3.ca-west-1.amazonaws.com/05/wp-content/uploads/sites/26/2024/03/20181814/faceless-workshop-M6f1R2.tmp_.jpg
ORGANIZER;CN="Nelson Museum%2C Archives &amp%3B Gallery":MAILTO:info@nelsonmuseum.ca
END:VEVENT
END:VCALENDAR