
BEGIN:VCALENDAR
VERSION:2.0
PRODID:-//West Kootenay Regional Arts Council - ECPv6.15.20//NONSGML v1.0//EN
CALSCALE:GREGORIAN
METHOD:PUBLISH
X-WR-CALNAME:West Kootenay Regional Arts Council
X-ORIGINAL-URL:https://www.wkartscouncil.com
X-WR-CALDESC:Events for West Kootenay Regional Arts Council
REFRESH-INTERVAL;VALUE=DURATION:PT1H
X-Robots-Tag:noindex
X-PUBLISHED-TTL:PT1H
BEGIN:VTIMEZONE
TZID:America/Vancouver
BEGIN:DAYLIGHT
TZOFFSETFROM:-0800
TZOFFSETTO:-0700
TZNAME:PDT
DTSTART:20240310T100000
END:DAYLIGHT
BEGIN:STANDARD
TZOFFSETFROM:-0700
TZOFFSETTO:-0800
TZNAME:PST
DTSTART:20241103T090000
END:STANDARD
BEGIN:DAYLIGHT
TZOFFSETFROM:-0800
TZOFFSETTO:-0700
TZNAME:PDT
DTSTART:20250309T100000
END:DAYLIGHT
BEGIN:STANDARD
TZOFFSETFROM:-0700
TZOFFSETTO:-0800
TZNAME:PST
DTSTART:20251102T090000
END:STANDARD
BEGIN:DAYLIGHT
TZOFFSETFROM:-0800
TZOFFSETTO:-0700
TZNAME:PDT
DTSTART:20260308T100000
END:DAYLIGHT
BEGIN:STANDARD
TZOFFSETFROM:-0700
TZOFFSETTO:-0800
TZNAME:PST
DTSTART:20261101T090000
END:STANDARD
END:VTIMEZONE
BEGIN:VEVENT
DTSTART;TZID=America/Vancouver:20250318T193000
DTEND;TZID=America/Vancouver:20250318T233000
DTSTAMP:20260423T181610
CREATED:20250224T235803Z
LAST-MODIFIED:20250319T003116Z
UID:12402-1742326200-1742340600@www.wkartscouncil.com
SUMMARY:RUTH & SHELBY’S BOOT SCOOTIN’ BOOGIE – MARCH
DESCRIPTION:Country Line Dance Night with instruction by Fabiola Gascon. \nY’all ready for another boot-stompin’ good time at The Royal? We’ll start with a new line dance lesson led by Fabiola Gascon\, followed by a quick refresher of the previous two dances we learned last year. Then\, get ready to kick up some dust as we dance the night away. Western wear is encouraged.
URL:https://www.wkartscouncil.com/event/ruth-shelbys-boot-scootin-boogie-march/
LOCATION:The Royal\, 330 Baker Street Nelson\, BC V1L 4H5\, Nelson\, British Columbia\, V1L 4H5\, Canada
CATEGORIES:Calendar,Community Events,LGBTQIA2S+,Live Performance
ORGANIZER;CN="Ruth and Shelby":MAILTO:ruthandshelby@gmail.com
END:VEVENT
BEGIN:VEVENT
DTSTART;TZID=America/Vancouver:20250321T193000
DTEND;TZID=America/Vancouver:20250321T220000
DTSTAMP:20260423T181610
CREATED:20250313T193550Z
LAST-MODIFIED:20250322T001624Z
UID:12980-1742585400-1742594400@www.wkartscouncil.com
SUMMARY:Queen City Burlesque Expo Presents: Castle Choas
DESCRIPTION:Licensed Event – +19 \nDoors open 7pm – show at 7:30pm \nQueen City Burlesque Expo’s 6th Season is coming to Castlegar with their Friday Night Showcase: Castle Chaos! ?✨ \nJoin us in celebrating performance arts\, of the saucy variety\, in the historic Castle Theatre on Friday\, March 21st\, 2025. \nPerformers from across North America are traveling to the West Kootenays to celebrate\, experience the beauty of the mountains\, and share their art with us! \nWith internationally celebrated stars as Feature & Headlining Performers- you are guaranteed a night full of roaring laughs and mind blowing entertainment. \nThis year’s season is called “Barnyards & Bigtops” inspiring the lineup\, costumes\, and vibe for the entire weekend. \nGet dressed up\, and come participate by voting for the Audience Favourite\, and watch as someone is awarded the Queens Choice Award\, Legends Choice Award\, and more. \nCheer loudly\, feel exhilarated\, and bask in the beauty of the striptease arts\, right here in Castlegar.
URL:https://www.wkartscouncil.com/event/queen-city-burlesque-expo-presents-castle-choas/
LOCATION:Castle Theatre\, 185 Columbia Ave.\, Castlegar
CATEGORIES:Calendar,Community Events,LGBTQIA2S+,Live Performance
ORGANIZER;CN="Queen City Burlesque Expo":MAILTO:queencityexpo@gmail.com
END:VEVENT
BEGIN:VEVENT
DTSTART;TZID=America/Vancouver:20250322T193000
DTEND;TZID=America/Vancouver:20250322T220000
DTSTAMP:20260423T181610
CREATED:20250313T193550Z
LAST-MODIFIED:20250323T004624Z
UID:12992-1742671800-1742680800@www.wkartscouncil.com
SUMMARY:Queen City Burlesque Expo Presents: The Grand Gala
DESCRIPTION:TIX: https://bit.ly/QCBEGala \n????? \nExperience extravagance at the 6th Annual Queen City Burlesque Expo Weekender event: The Grand Gala at Capitol Theatre in Nelson BC.  \nFrom passionate to political\, from farm animals to sparkling showponies\, join us as we celebrate the most liberating of art forms for a guaranteed night of laughter and fun.
URL:https://www.wkartscouncil.com/event/queen-city-burlesque-expo-presents-the-grand-gala/
LOCATION:The Capitol Theatre\, 421 Victoria Street\, Nelson\, British Columbia\, V1L 5R2\, Canada
CATEGORIES:Calendar,Community Events,LGBTQIA2S+,Live Performance
ORGANIZER;CN="Queen City Burlesque Expo":MAILTO:queencityexpo@gmail.com
END:VEVENT
END:VCALENDAR